PDS_VERSION_ID = PDS3
/* FILE DATA ELEMENTS */
RECORD_TYPE = STREAM
/* POINTERS TO DATA OBJECTS */
^COMPRESSED_FILE = "HC955_0000_RE3.JP2"
/* IDENTIFICATION DATA ELEMENTS */
DATA_SET_ID = "MEX-M-HRSC-5-REFDR-MAPPROJECTED-V3.0"
DATA_SET_NAME = "MARS EXPRESS HRSC MAP PROJECTED REFDR V3.0"
DETECTOR_ID = MEX_HRSC_RED
EVENT_TYPE = "MARS-CLOUD-VARIABLE-At"
INSTRUMENT_HOST_ID = MEX
INSTRUMENT_HOST_NAME = "MARS EXPRESS"
INSTRUMENT_ID = HRSC
INSTRUMENT_NAME = "HIGH RESOLUTION STEREO CAMERA"
MISSION_NAME = "MARS EXPRESS"
MISSION_PHASE_NAME = ME_Phase_30
PROCESSING_LEVEL_ID = 3
PRODUCT_CREATION_TIME = 2016-10-29T02:00:08.000Z
PRODUCT_ID = "HC955_0000_RE3.JP2"
RELEASE_ID = 0121
REVISION_ID = 0000
/* QUALITY DATA ELEMENTS */
DATA_QUALITY_ID = 1
DATA_QUALITY_DESC = "Data calculated based on original SPICE kernels"
/* TIME DATA ELEMENTS */
SPACECRAFT_CLOCK_START_COUNT = "1/0342851536.08253"
SPACECRAFT_CLOCK_STOP_COUNT = "1/0342852818.25376"
START_TIME = 2014-03-14T04:32:21.093Z
STOP_TIME = 2014-03-14T04:46:01.257Z
/* ORBITAL DATA ELEMENTS */
ASCENDING_NODE_LONGITUDE = 330.58
MAXIMUM_RESOLUTION = 286.8
FOOTPRINT_POINT_LATITUDE = (-21.8593,-21.8407,-21.8096,-21.7828, -21.7526,-21.7207,-20.5121,-19.3022, -18.4958,-17.6902,-16.8854,-16.0813, -14.8754,-13.269,-12.0646,-10.8588, -9.25224,-8.04397,-7.23816,-6.02928, -5.22435,-4.417,-3.60726,-2.78986, -1.57683,-0.760864,0.0540907,0.871981, 1.69302,2.52062,3.34385,4.17363,5.01403 ,5.84929,6.68352,7.52129,8.78887, 9.63553,10.5077,11.3483,12.2136,13.0853 ,13.9593,15.2898,16.1794,17.075,17.9776 ,18.8874,19.8048,19.7926,19.7476, 19.7166,19.6881,19.6626,19.6424,19.6245 ,19.6055,19.5908,19.5815,19.5866, 18.2126,17.3095,16.4152,15.5261,14.6473 ,13.761,12.8884,11.598,10.7375,9.89102, 9.03538,8.19177,7.35653,6.50794,5.671, 4.43041,3.60381,2.367,1.54629,0.727413, -0.0974237,-0.910203,-1.72331,-2.53442, -3.3462,-4.15403,-4.96228,-5.76868, -6.97514,-8.98476,-10.991,-12.5953, -14.1993,-15.8041,-17.4109,-19.0196, -20.2283,-21.0349,-21.842,-21.8593)
FOOTPRINT_POINT_LONGITUDE = (337.229,336.269,334.948,333.986, 333.019,331.898,331.828,331.759,331.712 ,331.664,331.614,331.561,331.482, 331.372,331.283,331.185,331.062,330.959 ,330.89,330.787,330.719,330.647,330.572 ,330.489,330.378,330.297,330.216, 330.134,330.048,329.958,329.871,329.779 ,329.681,329.587,329.492,329.396, 329.244,329.143,329.027,328.928,328.816 ,328.701,328.584,328.4,328.275,328.148, 328.017,327.882,327.743,329.196,330.204 ,331.094,331.979,332.973,333.854, 334.737,335.84,337.054,338.608,339.654, 339.534,339.461,339.392,339.328,339.268 ,339.206,339.151,339.079,339.031,338.99 ,338.946,338.907,338.874,338.834,338.8, 338.758,338.73,338.691,338.667,338.645, 338.618,338.6,338.582,338.565,338.547, 338.533,338.518,338.505,338.489,338.463 ,338.443,338.428,338.416,338.406, 338.398,338.39,338.386,338.382,338.379, 337.229)
ORBIT_NUMBER = 12955
ORBITAL_ECCENTRICITY = 0.577
ORBITAL_INCLINATION = 86.9
ORBITAL_SEMIMAJOR_AXIS = 8754.92
PERIAPSIS_ALTITUDE = 328.02
PERIAPSIS_ARGUMENT_ANGLE = 264.61
PERIAPSIS_TIME = 2014-03-14T04:07:43.000Z
SPACECRAFT_ORIENTATION = (0.0,1.0,0.0)
^MEX_ORIENTATION_DESC = "MEX_ORIENTATION_DESC.TXT"
SPACECRAFT_POINTING_MODE = INERT
^MEX_POINTING_DESC = "MEX_POINTING_DESC.TXT"
RIGHT_ASCENSION = 327.877
DECLINATION = 52.5
OFFSET_ANGLE = -1e+32
SPACECRAFT_SOLAR_DISTANCE = 2.45639e+08
TARGET_NAME = MARS
/* CAMERA DATA ELEMENTS */
DETECTOR_TEMPERATURE = 19.5939
FOCAL_PLANE_TEMPERATURE = 8.7872
INST_CMPRS_NAME = "DISCRETE COSINE TRANSFORMATION (DCT)"
INST_CMPRS_RATIO = 23.4441
INST_CMPRS_QUALITY = 0
INST_CMPRS_QUANTZ_TBL_ID = 0
INSTRUMENT_TEMPERATURE = 12.2535
LENS_TEMPERATURE = 9.6028
MACROPIXEL_SIZE = 4
MISSING_FRAMES = 0
PIXEL_SUBSAMPLING_FLAG = N
SIGNAL_CHAIN_ID = 2
/* RADIOMETRIC DATA ELEMENTS */
BANDWIDTH = 48.0
CENTER_FILTER_WAVELENGTH = 748.0
RADIANCE_OFFSET = 0.632759
RADIANCE_SCALING_FACTOR = 0.00933483
REFLECTANCE_SCALING_FACTOR = 0.00128535
MEX:REFLECTANCE_OFFSET = 0.0871271
/* IMAGE OBJECT DEFINITIONS */
OBJECT = IMAGE
  INTERCHANGE_FORMAT = BINARY
  LINES = 6163
  LINE_SAMPLES = 1870
  SAMPLE_TYPE = UNSIGNED_INTEGER
  SAMPLE_BITS = 8
  BANDS = 1
  BAND_STORAGE_TYPE = BAND_SEQUENTIAL
  MAXIMUM = 255
  MEAN = 116.255
  MINIMUM = 1
  STANDARD_DEVIATION = 67.1687
END_OBJECT = IMAGE
/* MAP OBJECT DEFINITIONS */
OBJECT = IMAGE_MAP_PROJECTION
  ^DATA_SET_MAP_PROJECTION_CATALOG= "DSMAP.CAT"
  A_AXIS_RADIUS = 3396.0
  B_AXIS_RADIUS = 3396.0
  C_AXIS_RADIUS = 3396.0
  CENTER_LATITUDE = 0.0
  CENTER_LONGITUDE = 334.0
  COORDINATE_SYSTEM_NAME = PLANETOGRAPHIC
  COORDINATE_SYSTEM_TYPE = "BODY-FIXED ROTATING"
  EASTERNMOST_LONGITUDE = 339.654
  FIRST_STANDARD_PARALLEL = "N/A"
  LINE_FIRST_PIXEL = 1
  LINE_LAST_PIXEL = 6163
  LINE_PROJECTION_OFFSET = 2919.0
  MAP_PROJECTION_ROTATION = 0.0
  MAP_PROJECTION_TYPE = SINUSOIDAL
  MAP_RESOLUTION = 148.178450966667
  MAP_SCALE = 0.4
  MAXIMUM_LATITUDE = 19.8048
  MINIMUM_LATITUDE = -21.8593
  POSITIVE_LONGITUDE_DIRECTION = EAST
  REFERENCE_LATITUDE = "N/A"
  REFERENCE_LONGITUDE = "N/A"
  SAMPLE_FIRST_PIXEL = 1
  SAMPLE_LAST_PIXEL = 1870
  SAMPLE_PROJECTION_OFFSET = 1071.0
  SECOND_STANDARD_PARALLEL = "N/A"
  WESTERNMOST_LONGITUDE = 327.743
END_OBJECT = IMAGE_MAP_PROJECTION
/* The JPEG2000 image data file associated with this label. */
OBJECT = COMPRESSED_FILE
  FILE_NAME = "HC955_0000_RE3.JP2"
  RECORD_TYPE = UNDEFINED
  FILE_RECORDS = UNK
  ENCODING_TYPE = "JP2"
  INTERCHANGE_FORMAT = BINARY
  UNCOMPRESSED_FILE_NAME = "HC955_0000_RE3.IMG"
  REQUIRED_STORAGE_BYTES = "11543510"
  ^DESCRIPTION = "JP2INFO.TXT"
END_OBJECT = COMPRESSED_FILE
END
