PDS_VERSION_ID = PDS3
/* FILE DATA ELEMENTS */
RECORD_TYPE = STREAM
/* POINTERS TO DATA OBJECTS */
^COMPRESSED_FILE = "HD067_0000_BL3.JP2"
/* IDENTIFICATION DATA ELEMENTS */
DATA_SET_ID = "MEX-M-HRSC-5-REFDR-MAPPROJECTED-V3.0"
DATA_SET_NAME = "MARS EXPRESS HRSC MAP PROJECTED REFDR V3.0"
DETECTOR_ID = MEX_HRSC_BLUE
EVENT_TYPE = "MARS-REGIONAL-MAPPING-Gl-Pf"
INSTRUMENT_HOST_ID = MEX
INSTRUMENT_HOST_NAME = "MARS EXPRESS"
INSTRUMENT_ID = HRSC
INSTRUMENT_NAME = "HIGH RESOLUTION STEREO CAMERA"
MISSION_NAME = "MARS EXPRESS"
MISSION_PHASE_NAME = ME_Phase_30
PROCESSING_LEVEL_ID = 3
PRODUCT_CREATION_TIME = 2016-10-29T10:25:44.000Z
PRODUCT_ID = "HD067_0000_BL3.JP2"
RELEASE_ID = 0122
REVISION_ID = 0000
/* QUALITY DATA ELEMENTS */
DATA_QUALITY_ID = 1
DATA_QUALITY_DESC = "Data calculated based on original SPICE kernels"
/* TIME DATA ELEMENTS */
SPACECRAFT_CLOCK_START_COUNT = "1/0345668449.07316"
SPACECRAFT_CLOCK_STOP_COUNT = "1/0345669255.14710"
START_TIME = 2014-04-15T19:03:34.520Z
STOP_TIME = 2014-04-15T19:10:36.336Z
/* ORBITAL DATA ELEMENTS */
ASCENDING_NODE_LONGITUDE = 328.49
MAXIMUM_RESOLUTION = 236.5
FOOTPRINT_POINT_LATITUDE = (-51.1975,-51.2009,-51.1946,-51.1787, -51.1534,-51.1304,-51.1626,-50.7285, -50.295,-49.8621,-49.2132,-48.782, -48.3502,-47.703,-47.0566,-46.6264, -46.1955,-45.7662,-45.3366,-44.9071, -44.4778,-44.0474,-43.6186,-43.1894, -42.7617,-42.3332,-41.9051,-41.4793, -40.8378,-40.4106,-39.7715,-39.345, -38.9196,-38.4934,-37.8545,-37.4286, -37.003,-36.3647,-35.7265,-35.0884, -34.663,-34.2377,-33.8125,-33.3873, -32.9625,-32.3251,-31.6882,-31.0511, -30.6272,-30.2025,-29.7427,-29.7813, -29.8173,-29.8627,-29.887,-29.9118, -29.935,-29.9517,-29.9689,-29.9775, -29.9845,-29.9891,-30.2017,-31.0437, -31.8857,-32.5173,-33.569,-34.4102, -35.2519,-36.3042,-37.5682,-37.9906, -38.4124,-39.0451,-39.6793,-40.1018, -40.5238,-41.1571,-41.58,-42.0041, -42.4283,-42.8507,-43.2756,-43.6987, -44.1227,-44.7591,-45.3983,-45.8256, -46.2516,-46.6768,-47.1027,-47.5301, -47.9602,-48.6011,-49.0313,-49.6753, -50.1087,-50.7469,-51.1789,-51.1975)
FOOTPRINT_POINT_LONGITUDE = (46.1442,47.3746,48.596,49.8084,51.0135 ,51.8399,52.9408,52.9599,52.9784, 52.9963,53.0216,53.0383,53.0537,53.0758 ,53.0965,53.1099,53.122,53.1347,53.1464 ,53.1575,53.168,53.177,53.1868,53.1954, 53.2047,53.2127,53.2205,53.2302,53.2406 ,53.2472,53.2588,53.265,53.2729,53.279, 53.2876,53.2929,53.2987,53.3066,53.3138 ,53.3203,53.325,53.3291,53.3331,53.3368 ,53.3388,53.343,53.3465,53.3503,53.3514 ,53.354,52.9796,52.3631,51.7455,50.8977 ,50.359,49.743,49.0479,48.4274,47.6502, 47.1039,46.4782,45.6152,45.0455,45.074, 45.1013,45.122,45.15,45.165,45.1727, 45.1906,45.1985,45.1959,45.1962,45.1963 ,45.1901,45.1869,45.1847,45.1794, 45.1731,45.1632,45.1529,45.1461,45.1333 ,45.1235,45.111,45.0902,45.0624,45.041, 45.0211,45.0017,44.9801,44.955,44.9248, 44.8842,44.8514,44.8019,44.7616,44.7156 ,44.6739,46.1442)
ORBIT_NUMBER = 13067
ORBITAL_ECCENTRICITY = 0.577
ORBITAL_INCLINATION = 86.89
ORBITAL_SEMIMAJOR_AXIS = 8771.06
PERIAPSIS_ALTITUDE = 328.01
PERIAPSIS_ARGUMENT_ANGLE = 245.68
PERIAPSIS_TIME = 2014-04-15T18:42:51.000Z
SPACECRAFT_ORIENTATION = (0.0,-1.0,0.0)
^MEX_ORIENTATION_DESC = "MEX_ORIENTATION_DESC.TXT"
SPACECRAFT_POINTING_MODE = INERT
^MEX_POINTING_DESC = "MEX_POINTING_DESC.TXT"
RIGHT_ASCENSION = 346.441
DECLINATION = 38.406
OFFSET_ANGLE = -1e+32
SPACECRAFT_SOLAR_DISTANCE = 2.4169e+08
TARGET_NAME = MARS
/* CAMERA DATA ELEMENTS */
DETECTOR_TEMPERATURE = 18.3705
FOCAL_PLANE_TEMPERATURE = 7.9716
INST_CMPRS_NAME = "DISCRETE COSINE TRANSFORMATION (DCT)"
INST_CMPRS_RATIO = 19.0934
INST_CMPRS_QUALITY = 0
INST_CMPRS_QUANTZ_TBL_ID = 0
INSTRUMENT_TEMPERATURE = 11.4379
LENS_TEMPERATURE = 8.3794
MACROPIXEL_SIZE = 4
MISSING_FRAMES = 0
PIXEL_SUBSAMPLING_FLAG = N
SIGNAL_CHAIN_ID = 2
/* RADIOMETRIC DATA ELEMENTS */
BANDWIDTH = 76.0
CENTER_FILTER_WAVELENGTH = 444.0
RADIANCE_OFFSET = 0.113736
RADIANCE_SCALING_FACTOR = 0.00847445
REFLECTANCE_SCALING_FACTOR = 0.000508604
MEX:REFLECTANCE_OFFSET = 0.006826
/* IMAGE OBJECT DEFINITIONS */
OBJECT = IMAGE
  INTERCHANGE_FORMAT = BINARY
  LINES = 6365
  LINE_SAMPLES = 2122
  SAMPLE_TYPE = UNSIGNED_INTEGER
  SAMPLE_BITS = 8
  BANDS = 1
  BAND_STORAGE_TYPE = BAND_SEQUENTIAL
  MAXIMUM = 255
  MEAN = 111.81
  MINIMUM = 1
  STANDARD_DEVIATION = 52.0293
END_OBJECT = IMAGE
/* MAP OBJECT DEFINITIONS */
OBJECT = IMAGE_MAP_PROJECTION
  ^DATA_SET_MAP_PROJECTION_CATALOG= "DSMAP.CAT"
  A_AXIS_RADIUS = 3396.0
  B_AXIS_RADIUS = 3396.0
  C_AXIS_RADIUS = 3396.0
  CENTER_LATITUDE = 0.0
  CENTER_LONGITUDE = 49.0
  COORDINATE_SYSTEM_NAME = PLANETOGRAPHIC
  COORDINATE_SYSTEM_TYPE = "BODY-FIXED ROTATING"
  EASTERNMOST_LONGITUDE = 53.354
  FIRST_STANDARD_PARALLEL = "N/A"
  LINE_FIRST_PIXEL = 1
  LINE_LAST_PIXEL = 6365
  LINE_PROJECTION_OFFSET = -8813.125
  MAP_PROJECTION_ROTATION = 0.0
  MAP_PROJECTION_TYPE = SINUSOIDAL
  MAP_RESOLUTION = 296.356901933333
  MAP_SCALE = 0.2
  MAXIMUM_LATITUDE = -29.7427
  MINIMUM_LATITUDE = -51.2009
  POSITIVE_LONGITUDE_DIRECTION = EAST
  REFERENCE_LATITUDE = "N/A"
  REFERENCE_LONGITUDE = "N/A"
  SAMPLE_FIRST_PIXEL = 1
  SAMPLE_LAST_PIXEL = 2122
  SAMPLE_PROJECTION_OFFSET = 1023.875
  SECOND_STANDARD_PARALLEL = "N/A"
  WESTERNMOST_LONGITUDE = 44.6739
END_OBJECT = IMAGE_MAP_PROJECTION
/* The JPEG2000 image data file associated with this label. */
OBJECT = COMPRESSED_FILE
  FILE_NAME = "HD067_0000_BL3.JP2"
  RECORD_TYPE = UNDEFINED
  FILE_RECORDS = UNK
  ENCODING_TYPE = "JP2"
  INTERCHANGE_FORMAT = BINARY
  UNCOMPRESSED_FILE_NAME = "HD067_0000_BL3.IMG"
  REQUIRED_STORAGE_BYTES = "13527750"
  ^DESCRIPTION = "JP2INFO.TXT"
END_OBJECT = COMPRESSED_FILE
END
