PDS_VERSION_ID = PDS3
/* FILE DATA ELEMENTS */
RECORD_TYPE = STREAM
/* POINTERS TO DATA OBJECTS */
^COMPRESSED_FILE = "HD081_0000_S23.JP2"
/* IDENTIFICATION DATA ELEMENTS */
DATA_SET_ID = "MEX-M-HRSC-5-REFDR-MAPPROJECTED-V3.0"
DATA_SET_NAME = "MARS EXPRESS HRSC MAP PROJECTED REFDR V3.0"
DETECTOR_ID = MEX_HRSC_S2
EVENT_TYPE = "MARS-REGIONAL-MAPPING-Gl-Pf"
INSTRUMENT_HOST_ID = MEX
INSTRUMENT_HOST_NAME = "MARS EXPRESS"
INSTRUMENT_ID = HRSC
INSTRUMENT_NAME = "HIGH RESOLUTION STEREO CAMERA"
MISSION_NAME = "MARS EXPRESS"
MISSION_PHASE_NAME = ME_Phase_30
PROCESSING_LEVEL_ID = 3
PRODUCT_CREATION_TIME = 2016-10-29T10:25:44.000Z
PRODUCT_ID = "HD081_0000_S23.JP2"
RELEASE_ID = 0122
REVISION_ID = 0000
/* QUALITY DATA ELEMENTS */
DATA_QUALITY_ID = 1
DATA_QUALITY_DESC = "Data calculated based on original SPICE kernels"
/* TIME DATA ELEMENTS */
SPACECRAFT_CLOCK_START_COUNT = "1/0346020665.07289"
SPACECRAFT_CLOCK_STOP_COUNT = "1/0346021526.09118"
START_TIME = 2014-04-19T20:57:03.061Z
STOP_TIME = 2014-04-19T21:05:29.092Z
/* ORBITAL DATA ELEMENTS */
ASCENDING_NODE_LONGITUDE = 328.23
MAXIMUM_RESOLUTION = 158.9
FOOTPRINT_POINT_LATITUDE = (-51.8832,-51.8912,-51.8962,-51.8985, -51.8978,-51.8944,-51.8882,-51.8792, -51.8676,-51.853,-51.8355,-51.815, -51.7916,-51.4798,-51.0039,-50.2998, -49.8301,-49.3641,-48.8933,-48.1944, -47.5011,-47.0374,-46.5769,-45.8896, -45.4273,-44.741,-44.0562,-43.3756, -42.6966,-42.2436,-41.793,-41.1172, -40.6691,-40.2208,-39.772,-39.3238, -38.8773,-38.432,-37.9874,-37.3233, -36.8798,-36.2163,-35.7732,-34.8969, -34.4567,-34.0171,-33.5749,-32.6987, -31.825,-30.9534,-30.3007,-29.4313, -29.4041,-29.4477,-29.4792,-29.4998, -29.5269,-29.5546,-29.5689,-29.582, -29.5879,-29.5894,-29.5899,-30.242, -30.8909,-31.5426,-32.4169,-33.5079, -34.8184,-35.694,-36.1337,-36.7934, -37.4546,-38.113,-38.5566,-39.2206, -39.6631,-40.1083,-40.5551,-41.225, -41.8979,-42.3461,-42.7955,-43.4728, -43.9249,-44.3767,-44.831,-45.5193, -45.9785,-46.4362,-46.8914,-47.5731, -48.2664,-48.7283,-49.1863,-49.6482, -50.1214,-50.5789,-51.047,-51.8832)
FOOTPRINT_POINT_LONGITUDE = (55.8953,56.7113,57.5265,58.3407, 59.1547,59.9689,60.7832,61.5975,62.4124 ,63.2291,64.0477,64.8694,65.6938, 66.3538,66.337,66.3175,66.3036,66.2918, 66.276,66.2565,66.2399,66.2271,66.2162, 66.2014,66.1878,66.1719,66.1561,66.1425 ,66.1292,66.1194,66.1112,66.0981, 66.0909,66.083,66.0743,66.0656,66.0581, 66.0513,66.0447,66.0368,66.0302,66.0214 ,66.0141,66.0097,66.0044,65.9996, 65.9909,65.9826,65.976,65.9709,65.9675, 65.9633,65.2717,64.1961,63.3238,62.7469 ,61.7865,60.6395,59.8763,58.9243, 58.1644,57.5008,56.6478,56.0593,56.0756 ,56.0897,56.1044,56.1227,56.1414,56.151 ,56.1542,56.1582,56.1605,56.1631, 56.1619,56.1599,56.158,56.1542,56.1491, 56.1404,56.129,56.1207,56.1111,56.094, 56.0813,56.0679,56.0526,56.0249,56.0051 ,55.985,55.9649,55.9332,55.8939,55.8662 ,55.839,55.8087,55.772,55.7408,55.7033, 55.8953)
ORBIT_NUMBER = 13081
ORBITAL_ECCENTRICITY = 0.577
ORBITAL_INCLINATION = 86.89
ORBITAL_SEMIMAJOR_AXIS = 8773.88
PERIAPSIS_ALTITUDE = 327.74
PERIAPSIS_ARGUMENT_ANGLE = 243.32
PERIAPSIS_TIME = 2014-04-19T20:32:28.000Z
SPACECRAFT_ORIENTATION = (0.0,-1.0,0.0)
^MEX_ORIENTATION_DESC = "MEX_ORIENTATION_DESC.TXT"
SPACECRAFT_POINTING_MODE = INERT
^MEX_POINTING_DESC = "MEX_POINTING_DESC.TXT"
RIGHT_ASCENSION = 348.082
DECLINATION = 36.433
OFFSET_ANGLE = -1e+32
SPACECRAFT_SOLAR_DISTANCE = 2.41109e+08
TARGET_NAME = MARS
/* CAMERA DATA ELEMENTS */
DETECTOR_TEMPERATURE = 19.1861
FOCAL_PLANE_TEMPERATURE = 8.1755
INST_CMPRS_NAME = "DISCRETE COSINE TRANSFORMATION (DCT)"
INST_CMPRS_RATIO = 11.0943
INST_CMPRS_QUALITY = 0
INST_CMPRS_QUANTZ_TBL_ID = 0
INSTRUMENT_TEMPERATURE = 12.0496
LENS_TEMPERATURE = 8.7872
MACROPIXEL_SIZE = 2
MISSING_FRAMES = 0
PIXEL_SUBSAMPLING_FLAG = N
SIGNAL_CHAIN_ID = 1
/* RADIOMETRIC DATA ELEMENTS */
BANDWIDTH = 178.0
CENTER_FILTER_WAVELENGTH = 679.0
RADIANCE_OFFSET = 1.18362
RADIANCE_SCALING_FACTOR = 0.0261737
REFLECTANCE_SCALING_FACTOR = 0.000805774
MEX:REFLECTANCE_OFFSET = 0.0364385
/* IMAGE OBJECT DEFINITIONS */
OBJECT = IMAGE
  INTERCHANGE_FORMAT = BINARY
  LINES = 13454
  LINE_SAMPLES = 4496
  SAMPLE_TYPE = UNSIGNED_INTEGER
  SAMPLE_BITS = 8
  BANDS = 1
  BAND_STORAGE_TYPE = BAND_SEQUENTIAL
  MAXIMUM = 253
  MEAN = 156.039
  MINIMUM = 1
  STANDARD_DEVIATION = 45.9055
END_OBJECT = IMAGE
/* MAP OBJECT DEFINITIONS */
OBJECT = IMAGE_MAP_PROJECTION
  ^DATA_SET_MAP_PROJECTION_CATALOG= "DSMAP.CAT"
  A_AXIS_RADIUS = 3396.0
  B_AXIS_RADIUS = 3396.0
  C_AXIS_RADIUS = 3396.0
  CENTER_LATITUDE = 0.0
  CENTER_LONGITUDE = 61.0
  COORDINATE_SYSTEM_NAME = PLANETOGRAPHIC
  COORDINATE_SYSTEM_TYPE = "BODY-FIXED ROTATING"
  EASTERNMOST_LONGITUDE = 66.35380000000001
  FIRST_STANDARD_PARALLEL = "N/A"
  LINE_FIRST_PIXEL = 1
  LINE_LAST_PIXEL = 13454
  LINE_PROJECTION_OFFSET = -17377.25
  MAP_PROJECTION_ROTATION = 0.0
  MAP_PROJECTION_TYPE = SINUSOIDAL
  MAP_RESOLUTION = 592.713803866667
  MAP_SCALE = 0.1
  MAXIMUM_LATITUDE = -29.4041
  MINIMUM_LATITUDE = -51.8985
  POSITIVE_LONGITUDE_DIRECTION = EAST
  REFERENCE_LATITUDE = "N/A"
  REFERENCE_LONGITUDE = "N/A"
  SAMPLE_FIRST_PIXEL = 1
  SAMPLE_LAST_PIXEL = 4496
  SAMPLE_PROJECTION_OFFSET = 2442.25
  SECOND_STANDARD_PARALLEL = "N/A"
  WESTERNMOST_LONGITUDE = 55.7033
END_OBJECT = IMAGE_MAP_PROJECTION
/* The JPEG2000 image data file associated with this label. */
OBJECT = COMPRESSED_FILE
  FILE_NAME = "HD081_0000_S23.JP2"
  RECORD_TYPE = UNDEFINED
  FILE_RECORDS = UNK
  ENCODING_TYPE = "JP2"
  INTERCHANGE_FORMAT = BINARY
  UNCOMPRESSED_FILE_NAME = "HD081_0000_S23.IMG"
  REQUIRED_STORAGE_BYTES = "60516160"
  ^DESCRIPTION = "JP2INFO.TXT"
END_OBJECT = COMPRESSED_FILE
END
