PDS_VERSION_ID = PDS3
/* FILE DATA ELEMENTS */
RECORD_TYPE = STREAM
/* POINTERS TO DATA OBJECTS */
^COMPRESSED_FILE = "HD082_0000_S13.JP2"
/* IDENTIFICATION DATA ELEMENTS */
DATA_SET_ID = "MEX-M-HRSC-5-REFDR-MAPPROJECTED-V3.0"
DATA_SET_NAME = "MARS EXPRESS HRSC MAP PROJECTED REFDR V3.0"
DETECTOR_ID = MEX_HRSC_S1
EVENT_TYPE = "MARS-REGIONAL-MAPPING-Fl-Gl-Pf"
INSTRUMENT_HOST_ID = MEX
INSTRUMENT_HOST_NAME = "MARS EXPRESS"
INSTRUMENT_ID = HRSC
INSTRUMENT_NAME = "HIGH RESOLUTION STEREO CAMERA"
MISSION_NAME = "MARS EXPRESS"
MISSION_PHASE_NAME = ME_Phase_30
PROCESSING_LEVEL_ID = 3
PRODUCT_CREATION_TIME = 2016-10-29T10:25:44.000Z
PRODUCT_ID = "HD082_0000_S13.JP2"
RELEASE_ID = 0122
REVISION_ID = 0000
/* QUALITY DATA ELEMENTS */
DATA_QUALITY_ID = 1
DATA_QUALITY_DESC = "Data calculated based on original SPICE kernels"
/* TIME DATA ELEMENTS */
SPACECRAFT_CLOCK_START_COUNT = "1/0346045754.09065"
SPACECRAFT_CLOCK_STOP_COUNT = "1/0346046385.25909"
START_TIME = 2014-04-20T03:49:19.235Z
STOP_TIME = 2014-04-20T03:53:24.898Z
/* ORBITAL DATA ELEMENTS */
ASCENDING_NODE_LONGITUDE = 328.21
MAXIMUM_RESOLUTION = 95
FOOTPRINT_POINT_LATITUDE = (-53.6015,-53.6373,-53.6865,-53.7258, -53.755,-53.7745,-53.7843,-53.7364, -53.1276,-52.5178,-51.7546,-51.2958, -50.6841,-50.3771,-50.0699,-49.7622, -49.4551,-49.147,-48.6841,-48.376, -48.0663,-47.7572,-47.4476,-47.1384, -46.8281,-46.5162,-46.0487,-45.5811, -45.2691,-44.9568,-44.4872,-44.1739, -43.7059,-43.3927,-42.9241,-42.6102, -42.1414,-41.8183,-41.3411,-41.0297, -40.5479,-40.2272,-39.9069,-39.4266, -39.1046,-38.6224,-38.3001,-37.9937, -38.0156,-38.0348,-38.0403,-38.0275, -38.0337,-38.017,-37.9959,-37.9816, -37.9684,-37.9402,-37.9225,-37.9018, -38.2204,-38.5427,-39.1655,-39.485, -39.8087,-40.1317,-40.4456,-40.7612, -41.2315,-41.551,-42.0195,-42.3344, -42.6476,-43.1174,-43.4307,-43.741, -44.0524,-44.3629,-44.8282,-45.1378, -45.448,-45.7575,-46.0668,-46.3751, -46.8394,-47.1491,-47.6113,-47.9196, -48.2278,-48.5346,-48.995,-49.3011, -49.9127,-50.3709,-50.8285,-51.2851, -51.8932,-52.5001,-52.9551,-53.6015)
FOOTPRINT_POINT_LONGITUDE = (312.57,313.211,314.234,315.253,316.268 ,317.28,318.29,319.158,319.209,319.259, 319.318,319.352,319.396,319.417,319.438 ,319.459,319.479,319.499,319.528, 319.546,319.565,319.583,319.601,319.618 ,319.636,319.653,319.678,319.702, 319.718,319.733,319.756,319.771,319.792 ,319.806,319.826,319.839,319.858, 319.873,319.893,319.904,319.924,319.936 ,319.949,319.966,319.978,319.996, 320.007,319.756,319.291,318.695,318.299 ,317.77,316.976,316.445,315.911,315.444 ,314.977,314.242,313.643,313.151, 313.152,313.154,313.146,313.146,313.148 ,313.149,313.146,313.143,313.136, 313.135,313.126,313.122,313.116,313.107 ,313.1,313.091,313.083,313.074,313.059, 313.048,313.037,313.026,313.013,313.0, 312.981,312.968,312.945,312.93,312.914, 312.897,312.87,312.851,312.81,312.778, 312.744,312.707,312.656,312.6,312.557, 312.57)
ORBIT_NUMBER = 13082
ORBITAL_ECCENTRICITY = 0.577
ORBITAL_INCLINATION = 86.9
ORBITAL_SEMIMAJOR_AXIS = 8774.94
PERIAPSIS_ALTITUDE = 328.33
PERIAPSIS_ARGUMENT_ANGLE = 243.15
PERIAPSIS_TIME = 2014-04-20T03:31:45.000Z
SPACECRAFT_ORIENTATION = (0.0,-1.0,0.0)
^MEX_ORIENTATION_DESC = "MEX_ORIENTATION_DESC.TXT"
SPACECRAFT_POINTING_MODE = INERT
^MEX_POINTING_DESC = "MEX_POINTING_DESC.TXT"
RIGHT_ASCENSION = 348.196
DECLINATION = 36.283
OFFSET_ANGLE = -1e+32
SPACECRAFT_SOLAR_DISTANCE = 2.41067e+08
TARGET_NAME = MARS
/* CAMERA DATA ELEMENTS */
DETECTOR_TEMPERATURE = 16.9432
FOCAL_PLANE_TEMPERATURE = 7.5638
INST_CMPRS_NAME = "DISCRETE COSINE TRANSFORMATION (DCT)"
INST_CMPRS_RATIO = 7.82714
INST_CMPRS_QUALITY = 0
INST_CMPRS_QUANTZ_TBL_ID = 0
INSTRUMENT_TEMPERATURE = 10.6223
LENS_TEMPERATURE = 7.9716
MACROPIXEL_SIZE = 2
MISSING_FRAMES = 0
PIXEL_SUBSAMPLING_FLAG = N
SIGNAL_CHAIN_ID = 1
/* RADIOMETRIC DATA ELEMENTS */
BANDWIDTH = 180.0
CENTER_FILTER_WAVELENGTH = 677.0
RADIANCE_OFFSET = 0.602165
RADIANCE_SCALING_FACTOR = 0.0152181
REFLECTANCE_SCALING_FACTOR = 0.000461393
MEX:REFLECTANCE_OFFSET = 0.0182569
/* IMAGE OBJECT DEFINITIONS */
OBJECT = IMAGE
  INTERCHANGE_FORMAT = BINARY
  LINES = 9337
  LINE_SAMPLES = 3730
  SAMPLE_TYPE = UNSIGNED_INTEGER
  SAMPLE_BITS = 8
  BANDS = 1
  BAND_STORAGE_TYPE = BAND_SEQUENTIAL
  MAXIMUM = 255
  MEAN = 127.899
  MINIMUM = 1
  STANDARD_DEVIATION = 26.1007
END_OBJECT = IMAGE
/* MAP OBJECT DEFINITIONS */
OBJECT = IMAGE_MAP_PROJECTION
  ^DATA_SET_MAP_PROJECTION_CATALOG= "DSMAP.CAT"
  A_AXIS_RADIUS = 3396.0
  B_AXIS_RADIUS = 3396.0
  C_AXIS_RADIUS = 3396.0
  CENTER_LATITUDE = 0.0
  CENTER_LONGITUDE = 317.0
  COORDINATE_SYSTEM_NAME = PLANETOGRAPHIC
  COORDINATE_SYSTEM_TYPE = "BODY-FIXED ROTATING"
  EASTERNMOST_LONGITUDE = 320.007
  FIRST_STANDARD_PARALLEL = "N/A"
  LINE_FIRST_PIXEL = 1
  LINE_LAST_PIXEL = 9337
  LINE_PROJECTION_OFFSET = -22490.25
  MAP_PROJECTION_ROTATION = 0.0
  MAP_PROJECTION_TYPE = SINUSOIDAL
  MAP_RESOLUTION = 592.713803866667
  MAP_SCALE = 0.1
  MAXIMUM_LATITUDE = -37.9018
  MINIMUM_LATITUDE = -53.7843
  POSITIVE_LONGITUDE_DIRECTION = EAST
  REFERENCE_LATITUDE = "N/A"
  REFERENCE_LONGITUDE = "N/A"
  SAMPLE_FIRST_PIXEL = 1
  SAMPLE_LAST_PIXEL = 3730
  SAMPLE_PROJECTION_OFFSET = 1971.75
  SECOND_STANDARD_PARALLEL = "N/A"
  WESTERNMOST_LONGITUDE = 312.557
END_OBJECT = IMAGE_MAP_PROJECTION
/* The JPEG2000 image data file associated with this label. */
OBJECT = COMPRESSED_FILE
  FILE_NAME = "HD082_0000_S13.JP2"
  RECORD_TYPE = UNDEFINED
  FILE_RECORDS = UNK
  ENCODING_TYPE = "JP2"
  INTERCHANGE_FORMAT = BINARY
  UNCOMPRESSED_FILE_NAME = "HD082_0000_S13.IMG"
  REQUIRED_STORAGE_BYTES = "34849390"
  ^DESCRIPTION = "JP2INFO.TXT"
END_OBJECT = COMPRESSED_FILE
END
