PDS_VERSION_ID = PDS3
/* FILE DATA ELEMENTS */
RECORD_TYPE = STREAM
/* POINTERS TO DATA OBJECTS */
^COMPRESSED_FILE = "HD083_0000_IR3.JP2"
/* IDENTIFICATION DATA ELEMENTS */
DATA_SET_ID = "MEX-M-HRSC-5-REFDR-MAPPROJECTED-V3.0"
DATA_SET_NAME = "MARS EXPRESS HRSC MAP PROJECTED REFDR V3.0"
DETECTOR_ID = MEX_HRSC_IR
EVENT_TYPE = "MARS-CLOUD-VARIABLE-At"
INSTRUMENT_HOST_ID = MEX
INSTRUMENT_HOST_NAME = "MARS EXPRESS"
INSTRUMENT_ID = HRSC
INSTRUMENT_NAME = "HIGH RESOLUTION STEREO CAMERA"
MISSION_NAME = "MARS EXPRESS"
MISSION_PHASE_NAME = ME_Phase_30
PROCESSING_LEVEL_ID = 3
PRODUCT_CREATION_TIME = 2016-10-29T10:25:44.000Z
PRODUCT_ID = "HD083_0000_IR3.JP2"
RELEASE_ID = 0122
REVISION_ID = 0000
/* QUALITY DATA ELEMENTS */
DATA_QUALITY_ID = 1
DATA_QUALITY_DESC = "Data calculated based on original SPICE kernels"
/* TIME DATA ELEMENTS */
SPACECRAFT_CLOCK_START_COUNT = "1/0346070908.08267"
SPACECRAFT_CLOCK_STOP_COUNT = "1/0346071678.32333"
START_TIME = 2014-04-20T10:48:50.887Z
STOP_TIME = 2014-04-20T10:54:37.177Z
/* ORBITAL DATA ELEMENTS */
ASCENDING_NODE_LONGITUDE = 328.2
MAXIMUM_RESOLUTION = 191.6
FOOTPRINT_POINT_LATITUDE = (-54.8438,-54.8657,-54.8786,-54.8825, -54.8772,-54.8627,-54.4298,-54.0164, -53.3961,-52.9825,-52.3615,-51.9474, -51.5329,-51.1182,-50.4948,-50.0783, -49.664,-49.0435,-48.4165,-47.9978, -47.5833,-47.1655,-46.7464,-46.1181, -45.6987,-45.0688,-44.6364,-44.0042, -43.5824,-43.1608,-42.7351,-42.3153, -41.8921,-41.4665,-41.0396,-40.6135, -40.1845,-39.7572,-39.3258,-38.6805, -38.2484,-37.8167,-37.1673,-36.7347, -36.3018,-35.6506,-35.2074,-34.7688, -34.3288,-33.6604,-33.6945,-33.7343, -33.7599,-33.7773,-33.7913,-33.7986, -33.8076,-33.8048,-33.7927,-33.7796, -34.208,-34.6428,-35.0771,-35.5103, -35.943,-36.3746,-36.8047,-37.2343, -37.6631,-38.0911,-38.7328,-39.1593, -39.5871,-40.0122,-40.4389,-40.8597, -41.2827,-41.7032,-42.1223,-42.7506, -43.3802,-43.7989,-44.2116,-44.8501, -45.4839,-46.1086,-46.5258,-46.9387, -47.3527,-47.7654,-48.3826,-48.7979, -49.6222,-50.2401,-51.0619,-52.2958, -52.9121,-53.5271,-54.551,-54.8438)
FOOTPRINT_POINT_LONGITUDE = (213.924,214.95,215.978,217.007,218.039 ,219.076,219.432,219.463,219.507, 219.536,219.578,219.605,219.632,219.659 ,219.699,219.726,219.748,219.78,219.818 ,219.844,219.863,219.886,219.909, 219.943,219.964,219.997,220.018,220.049 ,220.07,220.09,220.112,220.129,220.148, 220.169,220.189,220.209,220.23,220.249, 220.27,220.3,220.32,220.339,220.368, 220.387,220.405,220.433,220.456,220.475 ,220.495,220.186,219.634,218.811, 218.196,217.651,217.108,216.565,215.549 ,215.008,214.131,213.591,213.234, 213.236,213.238,213.239,213.239,213.239 ,213.239,213.237,213.236,213.233, 213.229,213.225,213.221,213.216,213.212 ,213.204,213.197,213.188,213.179, 213.163,213.147,213.135,213.119,213.098 ,213.08,213.055,213.039,213.019,212.999 ,212.977,212.941,212.919,212.867, 212.825,212.764,212.665,212.61,212.552, 212.444,213.924)
ORBIT_NUMBER = 13083
ORBITAL_ECCENTRICITY = 0.578
ORBITAL_INCLINATION = 86.9
ORBITAL_SEMIMAJOR_AXIS = 8776.06
PERIAPSIS_ALTITUDE = 327.52
PERIAPSIS_ARGUMENT_ANGLE = 242.97
PERIAPSIS_TIME = 2014-04-20T10:30:57.000Z
SPACECRAFT_ORIENTATION = (0.0,-1.0,0.0)
^MEX_ORIENTATION_DESC = "MEX_ORIENTATION_DESC.TXT"
SPACECRAFT_POINTING_MODE = INERT
^MEX_POINTING_DESC = "MEX_POINTING_DESC.TXT"
RIGHT_ASCENSION = 348.324
DECLINATION = 36.124
OFFSET_ANGLE = -1e+32
SPACECRAFT_SOLAR_DISTANCE = 2.41024e+08
TARGET_NAME = MARS
/* CAMERA DATA ELEMENTS */
DETECTOR_TEMPERATURE = 18.1666
FOCAL_PLANE_TEMPERATURE = 8.7872
INST_CMPRS_NAME = "DISCRETE COSINE TRANSFORMATION (DCT)"
INST_CMPRS_RATIO = 8.76403
INST_CMPRS_QUALITY = 0
INST_CMPRS_QUANTZ_TBL_ID = 0
INSTRUMENT_TEMPERATURE = 11.8457
LENS_TEMPERATURE = 9.195
MACROPIXEL_SIZE = 4
MISSING_FRAMES = 1
PIXEL_SUBSAMPLING_FLAG = N
SIGNAL_CHAIN_ID = 2
/* RADIOMETRIC DATA ELEMENTS */
BANDWIDTH = 81.0
CENTER_FILTER_WAVELENGTH = 955.5
RADIANCE_OFFSET = 0.0366565
RADIANCE_SCALING_FACTOR = 0.00513909
REFLECTANCE_SCALING_FACTOR = 0.000644066
MEX:REFLECTANCE_OFFSET = 0.00459404
/* IMAGE OBJECT DEFINITIONS */
OBJECT = IMAGE
  INTERCHANGE_FORMAT = BINARY
  LINES = 6276
  LINE_SAMPLES = 2045
  SAMPLE_TYPE = UNSIGNED_INTEGER
  SAMPLE_BITS = 8
  BANDS = 1
  BAND_STORAGE_TYPE = BAND_SEQUENTIAL
  MAXIMUM = 255
  MEAN = 95.0128
  MINIMUM = 1
  STANDARD_DEVIATION = 28.532
END_OBJECT = IMAGE
/* MAP OBJECT DEFINITIONS */
OBJECT = IMAGE_MAP_PROJECTION
  ^DATA_SET_MAP_PROJECTION_CATALOG= "DSMAP.CAT"
  A_AXIS_RADIUS = 3396.0
  B_AXIS_RADIUS = 3396.0
  C_AXIS_RADIUS = 3396.0
  CENTER_LATITUDE = 0.0
  CENTER_LONGITUDE = 217.0
  COORDINATE_SYSTEM_NAME = PLANETOGRAPHIC
  COORDINATE_SYSTEM_TYPE = "BODY-FIXED ROTATING"
  EASTERNMOST_LONGITUDE = 220.495
  FIRST_STANDARD_PARALLEL = "N/A"
  LINE_FIRST_PIXEL = 1
  LINE_LAST_PIXEL = 6276
  LINE_PROJECTION_OFFSET = -9976.75
  MAP_PROJECTION_ROTATION = 0.0
  MAP_PROJECTION_TYPE = SINUSOIDAL
  MAP_RESOLUTION = 296.356901933333
  MAP_SCALE = 0.2
  MAXIMUM_LATITUDE = -33.6604
  MINIMUM_LATITUDE = -54.8825
  POSITIVE_LONGITUDE_DIRECTION = EAST
  REFERENCE_LATITUDE = "N/A"
  REFERENCE_LONGITUDE = "N/A"
  SAMPLE_FIRST_PIXEL = 1
  SAMPLE_LAST_PIXEL = 2045
  SAMPLE_PROJECTION_OFFSET = 1004.25
  SECOND_STANDARD_PARALLEL = "N/A"
  WESTERNMOST_LONGITUDE = 212.444
END_OBJECT = IMAGE_MAP_PROJECTION
/* The JPEG2000 image data file associated with this label. */
OBJECT = COMPRESSED_FILE
  FILE_NAME = "HD083_0000_IR3.JP2"
  RECORD_TYPE = UNDEFINED
  FILE_RECORDS = UNK
  ENCODING_TYPE = "JP2"
  INTERCHANGE_FORMAT = BINARY
  UNCOMPRESSED_FILE_NAME = "HD083_0000_IR3.IMG"
  REQUIRED_STORAGE_BYTES = "12854870"
  ^DESCRIPTION = "JP2INFO.TXT"
END_OBJECT = COMPRESSED_FILE
END
