PDS_VERSION_ID = PDS3
/* FILE DATA ELEMENTS */
RECORD_TYPE = STREAM
/* POINTERS TO DATA OBJECTS */
^COMPRESSED_FILE = "HD089_0000_P23.JP2"
/* IDENTIFICATION DATA ELEMENTS */
DATA_SET_ID = "MEX-M-HRSC-5-REFDR-MAPPROJECTED-V3.0"
DATA_SET_NAME = "MARS EXPRESS HRSC MAP PROJECTED REFDR V3.0"
DETECTOR_ID = MEX_HRSC_P2
EVENT_TYPE = "MARS-REGIONAL-MAPPING-Fl-Gl-Pf"
INSTRUMENT_HOST_ID = MEX
INSTRUMENT_HOST_NAME = "MARS EXPRESS"
INSTRUMENT_ID = HRSC
INSTRUMENT_NAME = "HIGH RESOLUTION STEREO CAMERA"
MISSION_NAME = "MARS EXPRESS"
MISSION_PHASE_NAME = ME_Phase_30
PROCESSING_LEVEL_ID = 3
PRODUCT_CREATION_TIME = 2016-10-29T10:25:44.000Z
PRODUCT_ID = "HD089_0000_P23.JP2"
RELEASE_ID = 0122
REVISION_ID = 0000
/* QUALITY DATA ELEMENTS */
DATA_QUALITY_ID = 1
DATA_QUALITY_DESC = "Data calculated based on original SPICE kernels"
/* TIME DATA ELEMENTS */
SPACECRAFT_CLOCK_START_COUNT = "1/0346221888.08253"
SPACECRAFT_CLOCK_STOP_COUNT = "1/0346222580.05624"
START_TIME = 2014-04-22T04:49:11.780Z
STOP_TIME = 2014-04-22T04:54:51.195Z
/* ORBITAL DATA ELEMENTS */
ASCENDING_NODE_LONGITUDE = 328.08
MAXIMUM_RESOLUTION = 137.8
FOOTPRINT_POINT_LATITUDE = (-53.6003,-53.6134,-53.6233,-53.6325, -53.634,-53.6304,-53.6241,-53.6147, -53.602,-53.5862,-53.5671,-53.6359, -53.3059,-52.9677,-52.641,-52.3076, -51.6633,-51.1726,-50.8453,-50.515, -50.1926,-49.8662,-49.5311,-49.2019, -48.8793,-48.3958,-48.0706,-47.7458, -47.4212,-47.1026,-46.7822,-46.46, -45.9763,-45.6536,-45.3334,-45.0122, -44.5349,-44.2156,-43.8949,-43.5711, -43.0936,-42.7746,-42.456,-42.1355, -41.6546,-41.1788,-40.5422,-39.9119, -39.4382,-38.6476,-37.6998,-37.5323, -37.5637,-37.5907,-37.6091,-37.6224, -37.6355,-37.6459,-37.6598,-37.6691, -37.6757,-37.6794,-37.683,-37.6745, -37.8266,-38.6114,-39.0839,-39.8697, -40.4978,-41.1286,-41.6013,-42.0748, -42.5488,-43.1858,-43.8202,-44.1409, -44.778,-45.415,-45.734,-46.0534, -46.532,-46.8514,-47.1717,-47.4922, -47.8132,-48.134,-48.4542,-48.7765, -49.2602,-49.7446,-50.0678,-50.3918, -50.7166,-51.0412,-51.3664,-51.8536, -52.3449,-52.8342,-53.1608,-53.6003)
FOOTPRINT_POINT_LONGITUDE = (317.818,318.581,319.343,320.577, 321.336,322.474,323.231,323.989,324.746 ,325.505,326.265,327.318,327.322, 327.319,327.324,327.323,327.338,327.342 ,327.344,327.343,327.349,327.35,327.344 ,327.343,327.346,327.351,327.351, 327.352,327.352,327.357,327.36,327.361, 327.362,327.361,327.363,327.364,327.368 ,327.37,327.37,327.366,327.369,327.37, 327.37,327.368,327.365,327.366,327.365, 327.371,327.373,327.374,327.374,326.566 ,325.845,325.126,324.588,324.141, 323.694,323.156,322.351,321.636,321.1, 320.386,319.399,318.775,318.113,318.11, 318.106,318.1,318.095,318.086,318.078, 318.07,318.06,318.041,318.023,318.011, 317.988,317.964,317.951,317.937,317.915 ,317.9,317.884,317.867,317.849,317.83, 317.812,317.791,317.758,317.723,317.699 ,317.674,317.647,317.62,317.591,317.547 ,317.498,317.449,317.414,317.818)
ORBIT_NUMBER = 13089
ORBITAL_ECCENTRICITY = 0.577
ORBITAL_INCLINATION = 86.9
ORBITAL_SEMIMAJOR_AXIS = 8776.16
PERIAPSIS_ALTITUDE = 328.39
PERIAPSIS_ARGUMENT_ANGLE = 241.96
PERIAPSIS_TIME = 2014-04-22T04:26:29.000Z
SPACECRAFT_ORIENTATION = (0.0,-1.0,0.0)
^MEX_ORIENTATION_DESC = "MEX_ORIENTATION_DESC.TXT"
SPACECRAFT_POINTING_MODE = INERT
^MEX_POINTING_DESC = "MEX_POINTING_DESC.TXT"
RIGHT_ASCENSION = 348.979
DECLINATION = 35.277
OFFSET_ANGLE = -1e+32
SPACECRAFT_SOLAR_DISTANCE = 2.40769e+08
TARGET_NAME = MARS
/* CAMERA DATA ELEMENTS */
DETECTOR_TEMPERATURE = 18.9822
FOCAL_PLANE_TEMPERATURE = 7.9716
INST_CMPRS_NAME = "DISCRETE COSINE TRANSFORMATION (DCT)"
INST_CMPRS_RATIO = 6.73258
INST_CMPRS_QUALITY = 0
INST_CMPRS_QUANTZ_TBL_ID = 0
INSTRUMENT_TEMPERATURE = 11.4379
LENS_TEMPERATURE = 8.7872
MACROPIXEL_SIZE = 2
MISSING_FRAMES = 0
PIXEL_SUBSAMPLING_FLAG = N
SIGNAL_CHAIN_ID = 3
/* RADIOMETRIC DATA ELEMENTS */
BANDWIDTH = 177.0
CENTER_FILTER_WAVELENGTH = 676.5
RADIANCE_OFFSET = 0.628031
RADIANCE_SCALING_FACTOR = 0.0165976
REFLECTANCE_SCALING_FACTOR = 0.000510147
MEX:REFLECTANCE_OFFSET = 0.0193033
/* IMAGE OBJECT DEFINITIONS */
OBJECT = IMAGE
  INTERCHANGE_FORMAT = BINARY
  LINES = 9589
  LINE_SAMPLES = 3974
  SAMPLE_TYPE = UNSIGNED_INTEGER
  SAMPLE_BITS = 8
  BANDS = 1
  BAND_STORAGE_TYPE = BAND_SEQUENTIAL
  MAXIMUM = 255
  MEAN = 109.908
  MINIMUM = 1
  STANDARD_DEVIATION = 20.1901
END_OBJECT = IMAGE
/* MAP OBJECT DEFINITIONS */
OBJECT = IMAGE_MAP_PROJECTION
  ^DATA_SET_MAP_PROJECTION_CATALOG= "DSMAP.CAT"
  A_AXIS_RADIUS = 3396.0
  B_AXIS_RADIUS = 3396.0
  C_AXIS_RADIUS = 3396.0
  CENTER_LATITUDE = 0.0
  CENTER_LONGITUDE = 322.0
  COORDINATE_SYSTEM_NAME = PLANETOGRAPHIC
  COORDINATE_SYSTEM_TYPE = "BODY-FIXED ROTATING"
  EASTERNMOST_LONGITUDE = 327.374
  FIRST_STANDARD_PARALLEL = "N/A"
  LINE_FIRST_PIXEL = 1
  LINE_LAST_PIXEL = 9589
  LINE_PROJECTION_OFFSET = -22224.75
  MAP_PROJECTION_ROTATION = 0.0
  MAP_PROJECTION_TYPE = SINUSOIDAL
  MAP_RESOLUTION = 592.713803866667
  MAP_SCALE = 0.1
  MAXIMUM_LATITUDE = -37.5323
  MINIMUM_LATITUDE = -53.6359
  POSITIVE_LONGITUDE_DIRECTION = EAST
  REFERENCE_LATITUDE = "N/A"
  REFERENCE_LONGITUDE = "N/A"
  SAMPLE_FIRST_PIXEL = 1
  SAMPLE_LAST_PIXEL = 3974
  SAMPLE_PROJECTION_OFFSET = 1749.25
  SECOND_STANDARD_PARALLEL = "N/A"
  WESTERNMOST_LONGITUDE = 317.414
END_OBJECT = IMAGE_MAP_PROJECTION
/* The JPEG2000 image data file associated with this label. */
OBJECT = COMPRESSED_FILE
  FILE_NAME = "HD089_0000_P23.JP2"
  RECORD_TYPE = UNDEFINED
  FILE_RECORDS = UNK
  ENCODING_TYPE = "JP2"
  INTERCHANGE_FORMAT = BINARY
  UNCOMPRESSED_FILE_NAME = "HD089_0000_P23.IMG"
  REQUIRED_STORAGE_BYTES = "38130530"
  ^DESCRIPTION = "JP2INFO.TXT"
END_OBJECT = COMPRESSED_FILE
END
