PDS_VERSION_ID = PDS3
/* FILE DATA ELEMENTS */
RECORD_TYPE = STREAM
/* POINTERS TO DATA OBJECTS */
^COMPRESSED_FILE = "HD138_0000_IR3.JP2"
/* IDENTIFICATION DATA ELEMENTS */
DATA_SET_ID = "MEX-M-HRSC-5-REFDR-MAPPROJECTED-V3.0"
DATA_SET_NAME = "MARS EXPRESS HRSC MAP PROJECTED REFDR V3.0"
DETECTOR_ID = MEX_HRSC_IR
EVENT_TYPE = "MARS-CLOUD-VARIABLE-At"
INSTRUMENT_HOST_ID = MEX
INSTRUMENT_HOST_NAME = "MARS EXPRESS"
INSTRUMENT_ID = HRSC
INSTRUMENT_NAME = "HIGH RESOLUTION STEREO CAMERA"
MISSION_NAME = "MARS EXPRESS"
MISSION_PHASE_NAME = ME_Phase_30
PROCESSING_LEVEL_ID = 3
PRODUCT_CREATION_TIME = 2016-10-29T10:25:44.000Z
PRODUCT_ID = "HD138_0000_IR3.JP2"
RELEASE_ID = 0122
REVISION_ID = 0000
/* QUALITY DATA ELEMENTS */
DATA_QUALITY_ID = 1
DATA_QUALITY_DESC = "Data calculated based on original SPICE kernels"
/* TIME DATA ELEMENTS */
SPACECRAFT_CLOCK_START_COUNT = "1/0347456226.09036"
SPACECRAFT_CLOCK_STOP_COUNT = "1/0347457729.50662"
START_TIME = 2014-05-06T11:37:11.240Z
STOP_TIME = 2014-05-06T11:52:10.568Z
/* ORBITAL DATA ELEMENTS */
ASCENDING_NODE_LONGITUDE = 327.17
MAXIMUM_RESOLUTION = 315.7
FOOTPRINT_POINT_LATITUDE = (-17.9276,-17.7011,-17.4709,-17.2368, -16.9988,-16.7566,-16.5105,-16.2602, -16.0058,-15.747,-15.4833,-15.2149, -14.3324,-13.3336,-12.0006,-10.9992, -9.6614,-7.98731,-6.6401,-5.29106, -3.93451,-2.91343,-1.5467,-0.170628, 1.21318,1.90923,2.60634,3.30442,4.01006 ,4.7148,5.42289,6.13504,6.85232,7.57173 ,8.29403,9.38805,10.1205,10.857,11.6119 ,12.7268,13.4744,14.2325,15.0048, 15.7653,16.5459,17.3311,18.1205,18.9155 ,19.7343,20.539,20.2271,19.8604,19.4125 ,19.0206,18.7654,18.5378,18.2574, 18.0443,17.7088,17.3428,17.1411,16.7956 ,16.601,16.3646,16.0819,15.8115,15.6329 ,15.4131,15.2404,14.7337,14.0109, 13.2933,12.5786,11.8663,11.16,10.1198, 9.40848,8.71619,8.02821,7.34317,6.32002 ,4.95774,3.61404,1.94388,0.615052, -1.03738,-2.34858,-3.65786,-4.95923, -6.25518,-8.19639,-9.80714,-11.0956, -12.3806,-13.666,-14.6294,-15.9134, -16.8766,-18.1609,-17.9276)
FOOTPRINT_POINT_LONGITUDE = (341.75,342.865,343.963,345.048,346.12, 347.18,348.23,349.271,350.304,351.332, 352.355,353.374,354.154,354.117,354.067 ,354.031,353.983,353.924,353.879, 353.835,353.794,353.764,353.726,353.69, 353.657,353.642,353.627,353.613,353.6, 353.588,353.576,353.566,353.557,353.549 ,353.542,353.534,353.53,353.527,353.529 ,353.528,353.529,353.533,353.541, 353.546,353.557,353.569,353.583,353.599 ,353.621,353.641,352.683,351.54,350.219 ,348.913,348.173,347.436,346.519, 345.786,344.694,343.419,342.69,341.413, 340.682,339.766,338.665,337.556,336.813 ,335.88,335.127,334.589,334.78,334.965, 335.147,335.327,335.5,335.742,335.92, 336.079,336.234,336.386,336.608,336.902 ,337.175,337.505,337.759,338.065, 338.294,338.521,338.733,338.934,339.228 ,339.452,339.631,339.792,339.955, 340.071,340.217,340.321,340.456,341.75)
ORBIT_NUMBER = 13138
ORBITAL_ECCENTRICITY = 0.577
ORBITAL_INCLINATION = 86.9
ORBITAL_SEMIMAJOR_AXIS = 8787.47
PERIAPSIS_ALTITUDE = 329.49
PERIAPSIS_ARGUMENT_ANGLE = 233.6
PERIAPSIS_TIME = 2014-05-06T10:49:09.000Z
SPACECRAFT_ORIENTATION = (0.0,-1.0,0.0)
^MEX_ORIENTATION_DESC = "MEX_ORIENTATION_DESC.TXT"
SPACECRAFT_POINTING_MODE = INERT
^MEX_POINTING_DESC = "MEX_POINTING_DESC.TXT"
RIGHT_ASCENSION = 353.911
DECLINATION = 28.002
OFFSET_ANGLE = -1e+32
SPACECRAFT_SOLAR_DISTANCE = 2.38564e+08
TARGET_NAME = MARS
/* CAMERA DATA ELEMENTS */
DETECTOR_TEMPERATURE = 17.7588
FOCAL_PLANE_TEMPERATURE = 8.5833
INST_CMPRS_NAME = "DISCRETE COSINE TRANSFORMATION (DCT)"
INST_CMPRS_RATIO = 10.2735
INST_CMPRS_QUALITY = 0
INST_CMPRS_QUANTZ_TBL_ID = 0
INSTRUMENT_TEMPERATURE = 11.8457
LENS_TEMPERATURE = 9.195
MACROPIXEL_SIZE = 2
MISSING_FRAMES = 0
PIXEL_SUBSAMPLING_FLAG = N
SIGNAL_CHAIN_ID = 3
/* RADIOMETRIC DATA ELEMENTS */
BANDWIDTH = 81.0
CENTER_FILTER_WAVELENGTH = 955.5
RADIANCE_OFFSET = 0.451187
RADIANCE_SCALING_FACTOR = 0.0101998
REFLECTANCE_SCALING_FACTOR = 0.00125231
MEX:REFLECTANCE_OFFSET = 0.0553955
/* IMAGE OBJECT DEFINITIONS */
OBJECT = IMAGE
  INTERCHANGE_FORMAT = BINARY
  LINES = 5934
  LINE_SAMPLES = 3444
  SAMPLE_TYPE = UNSIGNED_INTEGER
  SAMPLE_BITS = 8
  BANDS = 1
  BAND_STORAGE_TYPE = BAND_SEQUENTIAL
  MAXIMUM = 255
  MEAN = 102.682
  MINIMUM = 1
  STANDARD_DEVIATION = 53.7496
END_OBJECT = IMAGE
/* MAP OBJECT DEFINITIONS */
OBJECT = IMAGE_MAP_PROJECTION
  ^DATA_SET_MAP_PROJECTION_CATALOG= "DSMAP.CAT"
  A_AXIS_RADIUS = 3396.0
  B_AXIS_RADIUS = 3396.0
  C_AXIS_RADIUS = 3396.0
  CENTER_LATITUDE = 0.0
  CENTER_LONGITUDE = 352.0
  COORDINATE_SYSTEM_NAME = PLANETOGRAPHIC
  COORDINATE_SYSTEM_TYPE = "BODY-FIXED ROTATING"
  EASTERNMOST_LONGITUDE = 354.154
  FIRST_STANDARD_PARALLEL = "N/A"
  LINE_FIRST_PIXEL = 1
  LINE_LAST_PIXEL = 5934
  LINE_PROJECTION_OFFSET = 3142.0
  MAP_PROJECTION_ROTATION = 0.0
  MAP_PROJECTION_TYPE = SINUSOIDAL
  MAP_RESOLUTION = 148.178450966667
  MAP_SCALE = 0.4
  MAXIMUM_LATITUDE = 20.539
  MINIMUM_LATITUDE = -18.1609
  POSITIVE_LONGITUDE_DIRECTION = EAST
  REFERENCE_LATITUDE = "N/A"
  REFERENCE_LONGITUDE = "N/A"
  SAMPLE_FIRST_PIXEL = 1
  SAMPLE_LAST_PIXEL = 3444
  SAMPLE_PROJECTION_OFFSET = 1771.0
  SECOND_STANDARD_PARALLEL = "N/A"
  WESTERNMOST_LONGITUDE = 334.589
END_OBJECT = IMAGE_MAP_PROJECTION
/* The JPEG2000 image data file associated with this label. */
OBJECT = COMPRESSED_FILE
  FILE_NAME = "HD138_0000_IR3.JP2"
  RECORD_TYPE = UNDEFINED
  FILE_RECORDS = UNK
  ENCODING_TYPE = "JP2"
  INTERCHANGE_FORMAT = BINARY
  UNCOMPRESSED_FILE_NAME = "HD138_0000_IR3.IMG"
  REQUIRED_STORAGE_BYTES = "20460804"
  ^DESCRIPTION = "JP2INFO.TXT"
END_OBJECT = COMPRESSED_FILE
END
