PDS_VERSION_ID = PDS3
/* FILE DATA ELEMENTS */
RECORD_TYPE = STREAM
/* POINTERS TO DATA OBJECTS */
^COMPRESSED_FILE = "HD185_0000_P23.JP2"
/* IDENTIFICATION DATA ELEMENTS */
DATA_SET_ID = "MEX-M-HRSC-5-REFDR-MAPPROJECTED-V3.0"
DATA_SET_NAME = "MARS EXPRESS HRSC MAP PROJECTED REFDR V3.0"
DETECTOR_ID = MEX_HRSC_P2
EVENT_TYPE = "MARS-TERMINATOR-CALIBRATION-Tc"
INSTRUMENT_HOST_ID = MEX
INSTRUMENT_HOST_NAME = "MARS EXPRESS"
INSTRUMENT_ID = HRSC
INSTRUMENT_NAME = "HIGH RESOLUTION STEREO CAMERA"
MISSION_NAME = "MARS EXPRESS"
MISSION_PHASE_NAME = ME_Phase_30
PROCESSING_LEVEL_ID = 3
PRODUCT_CREATION_TIME = 2016-10-29T10:25:44.000Z
PRODUCT_ID = "HD185_0000_P23.JP2"
RELEASE_ID = 0122
REVISION_ID = 0000
/* QUALITY DATA ELEMENTS */
DATA_QUALITY_ID = 1
DATA_QUALITY_DESC = "Data calculated based on original SPICE kernels"
/* TIME DATA ELEMENTS */
SPACECRAFT_CLOCK_START_COUNT = "1/0348630110.09053"
SPACECRAFT_CLOCK_STOP_COUNT = "1/0348630602.07320"
START_TIME = 2014-05-20T01:45:13.317Z
STOP_TIME = 2014-05-20T01:49:25.293Z
/* ORBITAL DATA ELEMENTS */
ASCENDING_NODE_LONGITUDE = 326.29
MAXIMUM_RESOLUTION = 1094
FOOTPRINT_POINT_LATITUDE = (16.0435,16.8844,16.3974,17.7375, 15.9376,17.7412,15.6061,19.2028,21.58, 26.0025,29.0751,31.8497,35.903,39.264, 43.1565,46.3142,48.5235,52.1108,56.4195 ,60.9663,64.9122,68.8631,71.2308, 72.6593,74.2793,74.7711,74.1471,72.8913 ,71.5564,69.9743,67.1466,64.7251, 61.3739,58.2915,53.969,50.4374,47.5699, 44.4351,42.0904,38.2163,34.3504,29.0116 ,23.9093,20.7065,22.1892,22.4902, 21.0805,21.2889,21.511,21.7824,23.3132, 21.725,23.9613,21.632,25.7421,28.6489, 32.4064,35.1422,38.0082,42.5166,45.8141 ,49.6383,53.0001,58.0638,60.8905, 63.1992,65.8069,68.0505,71.0664,74.1296 ,76.1874,78.1603,80.1035,81.2631, 81.2088,80.5039,78.9301,77.2379,72.6673 ,69.6293,65.8749,62.028,57.7634,52.4313 ,48.4703,45.5281,41.2367,38.5236, 33.9143,30.0073,26.6876,21.9387,19.3969 ,17.154,19.4214,16.8515,17.8259,17.5752 ,16.0435)
FOOTPRINT_POINT_LONGITUDE = (266.339,269.155,272.975,276.605, 278.607,281.997,284.023,284.777,284.931 ,285.334,285.697,286.105,286.832, 287.589,288.693,289.796,290.704,292.49, 295.304,299.463,304.736,312.937,320.708 ,327.639,341.405,355.02,11.0833,21.7249 ,28.6945,34.5886,41.9095,46.3376, 50.8514,53.9414,57.1749,59.1666,60.4752 ,61.6613,62.4043,63.4498,64.2651, 65.1356,65.7142,66.8587,68.8693,72.1607 ,77.0201,81.4508,85.9134,91.2636, 93.8848,95.7796,97.7994,99.7494,100.816 ,100.747,100.745,100.8,100.917,101.243, 101.613,102.217,102.945,104.521,105.751 ,107.015,108.82,110.808,114.412,119.87, 125.344,133.222,146.902,167.653,185.299 ,199.229,213.161,221.628,233.773, 238.216,241.89,244.44,246.393,248.018, 248.833,249.306,249.778,249.968,250.138 ,250.178,250.138,249.969,249.833,251.22 ,252.586,254.538,258.505,261.765, 266.339)
ORBIT_NUMBER = 13185
ORBITAL_ECCENTRICITY = 0.578
ORBITAL_INCLINATION = 86.91
ORBITAL_SEMIMAJOR_AXIS = 8803.85
PERIAPSIS_ALTITUDE = 329.39
PERIAPSIS_ARGUMENT_ANGLE = 225.62
PERIAPSIS_TIME = 2014-05-20T03:13:55.000Z
SPACECRAFT_ORIENTATION = (0.0,-1.0,0.0)
^MEX_ORIENTATION_DESC = "MEX_ORIENTATION_DESC.TXT"
SPACECRAFT_POINTING_MODE = INERT
^MEX_POINTING_DESC = "MEX_POINTING_DESC.TXT"
RIGHT_ASCENSION = 146.494
DECLINATION = -52.658
OFFSET_ANGLE = -1e+32
SPACECRAFT_SOLAR_DISTANCE = 2.36273e+08
TARGET_NAME = MARS
/* CAMERA DATA ELEMENTS */
DETECTOR_TEMPERATURE = 18.9822
FOCAL_PLANE_TEMPERATURE = 8.7872
INST_CMPRS_NAME = "DISCRETE COSINE TRANSFORMATION (DCT)"
INST_CMPRS_RATIO = 20.3572
INST_CMPRS_QUALITY = 0
INST_CMPRS_QUANTZ_TBL_ID = 0
INSTRUMENT_TEMPERATURE = 11.4379
LENS_TEMPERATURE = 8.9911
MACROPIXEL_SIZE = 4
MISSING_FRAMES = 0
PIXEL_SUBSAMPLING_FLAG = N
SIGNAL_CHAIN_ID = 1
/* RADIOMETRIC DATA ELEMENTS */
BANDWIDTH = 177.0
CENTER_FILTER_WAVELENGTH = 676.5
RADIANCE_OFFSET = 0.0
RADIANCE_SCALING_FACTOR = 0.0467276
REFLECTANCE_SCALING_FACTOR = 0.00138324
MEX:REFLECTANCE_OFFSET = 0.0
/* IMAGE OBJECT DEFINITIONS */
OBJECT = IMAGE
  INTERCHANGE_FORMAT = BINARY
  LINES = 4262
  LINE_SAMPLES = 11208
  SAMPLE_TYPE = UNSIGNED_INTEGER
  SAMPLE_BITS = 8
  BANDS = 1
  BAND_STORAGE_TYPE = BAND_SEQUENTIAL
  MAXIMUM = 255
  MEAN = 98.968
  MINIMUM = 1
  STANDARD_DEVIATION = 90.7866
END_OBJECT = IMAGE
/* MAP OBJECT DEFINITIONS */
OBJECT = IMAGE_MAP_PROJECTION
  ^DATA_SET_MAP_PROJECTION_CATALOG= "DSMAP.CAT"
  A_AXIS_RADIUS = 3396.0
  B_AXIS_RADIUS = 3396.0
  C_AXIS_RADIUS = 3396.0
  CENTER_LATITUDE = 90.0
  CENTER_LONGITUDE = 0.0
  COORDINATE_SYSTEM_NAME = PLANETOGRAPHIC
  COORDINATE_SYSTEM_TYPE = "BODY-FIXED ROTATING"
  EASTERNMOST_LONGITUDE = 360.0
  FIRST_STANDARD_PARALLEL = "N/A"
  LINE_FIRST_PIXEL = 1
  LINE_LAST_PIXEL = 4262
  LINE_PROJECTION_OFFSET = 2022.0
  MAP_PROJECTION_ROTATION = 0.0
  MAP_PROJECTION_TYPE = STEREOGRAPHIC
  MAP_RESOLUTION = 74.08922548333329
  MAP_SCALE = 0.8
  MAXIMUM_LATITUDE = 90.0
  MINIMUM_LATITUDE = 15.6061
  POSITIVE_LONGITUDE_DIRECTION = EAST
  REFERENCE_LATITUDE = "N/A"
  REFERENCE_LONGITUDE = "N/A"
  SAMPLE_FIRST_PIXEL = 1
  SAMPLE_LAST_PIXEL = 11208
  SAMPLE_PROJECTION_OFFSET = 5953.0
  SECOND_STANDARD_PARALLEL = "N/A"
  WESTERNMOST_LONGITUDE = 0.0
END_OBJECT = IMAGE_MAP_PROJECTION
/* The JPEG2000 image data file associated with this label. */
OBJECT = COMPRESSED_FILE
  FILE_NAME = "HD185_0000_P23.JP2"
  RECORD_TYPE = UNDEFINED
  FILE_RECORDS = UNK
  ENCODING_TYPE = "JP2"
  INTERCHANGE_FORMAT = BINARY
  UNCOMPRESSED_FILE_NAME = "HD185_0000_P23.IMG"
  REQUIRED_STORAGE_BYTES = "47802120"
  ^DESCRIPTION = "JP2INFO.TXT"
END_OBJECT = COMPRESSED_FILE
END
