PDS_VERSION_ID = PDS3
/* FILE DATA ELEMENTS */
RECORD_TYPE = STREAM
/* POINTERS TO DATA OBJECTS */
^COMPRESSED_FILE = "HD263_0000_ND3.JP2"
/* IDENTIFICATION DATA ELEMENTS */
DATA_SET_ID = "MEX-M-HRSC-5-REFDR-MAPPROJECTED-V3.0"
DATA_SET_NAME = "MARS EXPRESS HRSC MAP PROJECTED REFDR V3.0"
DETECTOR_ID = MEX_HRSC_NADIR
EVENT_TYPE = "MARS-TERMINATOR-CALIBRATION-Tc"
INSTRUMENT_HOST_ID = MEX
INSTRUMENT_HOST_NAME = "MARS EXPRESS"
INSTRUMENT_ID = HRSC
INSTRUMENT_NAME = "HIGH RESOLUTION STEREO CAMERA"
MISSION_NAME = "MARS EXPRESS"
MISSION_PHASE_NAME = ME_Phase_30
PROCESSING_LEVEL_ID = 3
PRODUCT_CREATION_TIME = 2016-10-29T11:06:33.000Z
PRODUCT_ID = "HD263_0000_ND3.JP2"
RELEASE_ID = 0123
REVISION_ID = 0000
/* QUALITY DATA ELEMENTS */
DATA_QUALITY_ID = 1
DATA_QUALITY_DESC = "Data calculated based on original SPICE kernels"
/* TIME DATA ELEMENTS */
SPACECRAFT_CLOCK_START_COUNT = "1/0350608332.08234"
SPACECRAFT_CLOCK_STOP_COUNT = "1/0350608772.06001"
START_TIME = 2014-06-11T23:14:20.382Z
STOP_TIME = 2014-06-11T23:17:32.375Z
/* ORBITAL DATA ELEMENTS */
ASCENDING_NODE_LONGITUDE = 324.81
MAXIMUM_RESOLUTION = 826.4
FOOTPRINT_POINT_LATITUDE = (-35.5561,-32.0648,-30.0687,-29.5952, -24.8614,-24.0412,-20.7291,-16.7329, -14.9147,-13.2403,-10.6475,-7.48892, -4.63744,-0.456029,1.77634,5.43345, 7.8837,12.0082,16.3921,20.9461,26.2546, 30.2642,33.7681,36.95,40.2355,44.3985, 47.3514,51.1474,55.9291,58.3641,61.1209 ,65.1498,67.7323,71.1629,73.9549, 76.1715,78.757,82.0838,83.6137,82.9521, 80.3796,77.0599,78.0483,73.7406,72.1821 ,69.6272,68.128,64.7804,62.2237,58.5955 ,52.8888,49.6181,46.9025,44.6526,40.146 ,35.985,37.0532,37.9353,38.696,38.8656, 38.8242,38.3891,37.7581,36.5022,34.7888 ,33.3939,30.7002,27.9988,25.0788, 22.4088,20.6794,17.8603,14.9943,12.9401 ,9.5665,5.43111,2.01351,-1.30639, -3.81954,-7.03365,-9.72424,-13.3464, -16.167,-21.0033,-25.441,-29.1612, -32.4878,-35.9977,-39.0082,-42.8653, -47.2458,-50.0623,-47.5043,-47.9867, -45.059,-45.3695,-43.3725,-41.0176, -38.5025,-35.5561)
FOOTPRINT_POINT_LONGITUDE = (198.364,200.828,202.739,205.721, 206.669,210.06,212.079,209.817,207.224, 205.035,201.937,198.539,195.753,192.037 ,190.203,187.391,185.615,182.794, 179.982,177.232,174.182,171.961,170.054 ,168.339,166.567,164.284,162.652, 160.459,157.495,155.855,153.847,150.495 ,147.956,143.835,139.463,134.883, 127.282,108.347,84.431,36.7616,14.7222, 10.5051,23.207,27.4924,34.8809,34.0816, 41.8252,45.2125,44.3768,47.6921,50.7583 ,53.1373,54.24,56.339,60.6277,59.7573, 63.943,68.5541,75.3603,79.5744,83.3677, 89.2989,93.7442,99.5853,105.232,108.872 ,114.558,119.152,123.314,126.604, 128.531,131.395,134.023,135.758,138.379 ,141.281,143.474,145.459,146.883, 148.604,149.99,151.782,153.118,155.316, 157.258,158.862,160.281,161.774,163.077 ,164.783,166.798,168.158,171.78,176.066 ,178.526,183.695,186.524,189.817, 195.099,198.364)
ORBIT_NUMBER = 13263
ORBITAL_ECCENTRICITY = 0.578
ORBITAL_INCLINATION = 86.89
ORBITAL_SEMIMAJOR_AXIS = 8826.21
PERIAPSIS_ALTITUDE = 333.08
PERIAPSIS_ARGUMENT_ANGLE = 212.27
PERIAPSIS_TIME = 2014-06-11T20:15:16.000Z
SPACECRAFT_ORIENTATION = (0.0,-1.0,0.0)
^MEX_ORIENTATION_DESC = "MEX_ORIENTATION_DESC.TXT"
SPACECRAFT_POINTING_MODE = INERT
^MEX_POINTING_DESC = "MEX_POINTING_DESC.TXT"
RIGHT_ASCENSION = 187.274
DECLINATION = -0.196
OFFSET_ANGLE = -1e+32
SPACECRAFT_SOLAR_DISTANCE = 2.32165e+08
TARGET_NAME = MARS
/* CAMERA DATA ELEMENTS */
DETECTOR_TEMPERATURE = 18.1666
FOCAL_PLANE_TEMPERATURE = 8.5833
INST_CMPRS_NAME = "DISCRETE COSINE TRANSFORMATION (DCT)"
INST_CMPRS_RATIO = 9.89815
INST_CMPRS_QUALITY = 0
INST_CMPRS_QUANTZ_TBL_ID = 0
INSTRUMENT_TEMPERATURE = 12.4574
LENS_TEMPERATURE = 8.9911
MACROPIXEL_SIZE = 2
MISSING_FRAMES = 0
PIXEL_SUBSAMPLING_FLAG = N
SIGNAL_CHAIN_ID = 0
/* RADIOMETRIC DATA ELEMENTS */
BANDWIDTH = 177.0
CENTER_FILTER_WAVELENGTH = 677.5
RADIANCE_OFFSET = 0.0
RADIANCE_SCALING_FACTOR = 0.0527042
REFLECTANCE_SCALING_FACTOR = 0.00150882
MEX:REFLECTANCE_OFFSET = 0.0
/* IMAGE OBJECT DEFINITIONS */
OBJECT = IMAGE
  INTERCHANGE_FORMAT = BINARY
  LINES = 9929
  LINE_SAMPLES = 9870
  SAMPLE_TYPE = UNSIGNED_INTEGER
  SAMPLE_BITS = 8
  BANDS = 1
  BAND_STORAGE_TYPE = BAND_SEQUENTIAL
  MAXIMUM = 255
  MEAN = 124.649
  MINIMUM = 1
  STANDARD_DEVIATION = 61.4092
END_OBJECT = IMAGE
/* MAP OBJECT DEFINITIONS */
OBJECT = IMAGE_MAP_PROJECTION
  ^DATA_SET_MAP_PROJECTION_CATALOG= "DSMAP.CAT"
  A_AXIS_RADIUS = 3396.0
  B_AXIS_RADIUS = 3396.0
  C_AXIS_RADIUS = 3396.0
  CENTER_LATITUDE = 0.0
  CENTER_LONGITUDE = 151.0
  COORDINATE_SYSTEM_NAME = PLANETOGRAPHIC
  COORDINATE_SYSTEM_TYPE = "BODY-FIXED ROTATING"
  EASTERNMOST_LONGITUDE = 212.079
  FIRST_STANDARD_PARALLEL = "N/A"
  LINE_FIRST_PIXEL = 1
  LINE_LAST_PIXEL = 9929
  LINE_PROJECTION_OFFSET = 6201.0
  MAP_PROJECTION_ROTATION = 0.0
  MAP_PROJECTION_TYPE = SINUSOIDAL
  MAP_RESOLUTION = 74.08922548333329
  MAP_SCALE = 0.8
  MAXIMUM_LATITUDE = 83.61369999999999
  MINIMUM_LATITUDE = -50.0623
  POSITIVE_LONGITUDE_DIRECTION = EAST
  REFERENCE_LATITUDE = "N/A"
  REFERENCE_LONGITUDE = "N/A"
  SAMPLE_FIRST_PIXEL = 1
  SAMPLE_LAST_PIXEL = 9870
  SAMPLE_PROJECTION_OFFSET = 5479.0
  SECOND_STANDARD_PARALLEL = "N/A"
  WESTERNMOST_LONGITUDE = 10.5051
END_OBJECT = IMAGE_MAP_PROJECTION
/* The JPEG2000 image data file associated with this label. */
OBJECT = COMPRESSED_FILE
  FILE_NAME = "HD263_0000_ND3.JP2"
  RECORD_TYPE = UNDEFINED
  FILE_RECORDS = UNK
  ENCODING_TYPE = "JP2"
  INTERCHANGE_FORMAT = BINARY
  UNCOMPRESSED_FILE_NAME = "HD263_0000_ND3.IMG"
  REQUIRED_STORAGE_BYTES = "98028840"
  ^DESCRIPTION = "JP2INFO.TXT"
END_OBJECT = COMPRESSED_FILE
END
