PDS_VERSION_ID = PDS3
/* FILE DATA ELEMENTS */
RECORD_TYPE = STREAM
/* POINTERS TO DATA OBJECTS */
^COMPRESSED_FILE = "HD310_0000_BL3.JP2"
/* IDENTIFICATION DATA ELEMENTS */
DATA_SET_ID = "MEX-M-HRSC-5-REFDR-MAPPROJECTED-V3.0"
DATA_SET_NAME = "MARS EXPRESS HRSC MAP PROJECTED REFDR V3.0"
DETECTOR_ID = MEX_HRSC_BLUE
EVENT_TYPE = "MARS-CLOUD-VARIABLE-Gl-At"
INSTRUMENT_HOST_ID = MEX
INSTRUMENT_HOST_NAME = "MARS EXPRESS"
INSTRUMENT_ID = HRSC
INSTRUMENT_NAME = "HIGH RESOLUTION STEREO CAMERA"
MISSION_NAME = "MARS EXPRESS"
MISSION_PHASE_NAME = ME_Phase_30
PROCESSING_LEVEL_ID = 3
PRODUCT_CREATION_TIME = 2016-10-29T11:06:33.000Z
PRODUCT_ID = "HD310_0000_BL3.JP2"
RELEASE_ID = 0123
REVISION_ID = 0000
/* QUALITY DATA ELEMENTS */
DATA_QUALITY_ID = 1
DATA_QUALITY_DESC = "Data calculated based on original SPICE kernels"
/* TIME DATA ELEMENTS */
SPACECRAFT_CLOCK_START_COUNT = "1/0351775525.07315"
SPACECRAFT_CLOCK_STOP_COUNT = "1/0351778339.10744"
START_TIME = 2014-06-25T11:41:56.808Z
STOP_TIME = 2014-06-25T12:06:50.256Z
/* ORBITAL DATA ELEMENTS */
ASCENDING_NODE_LONGITUDE = 323.92
MAXIMUM_RESOLUTION = 224.2
FOOTPRINT_POINT_LATITUDE = (76.8333,77.0871,77.3071,77.4919, 77.6407,77.7526,77.8269,77.8633,77.8616 ,77.822,77.7451,77.6316,77.4825,77.2991 ,77.0829,76.8352,76.5576,76.2514, 75.9183,75.5597,75.1769,74.771,74.3437, 73.8965,73.0469,73.7395,74.4294,75.1135 ,75.7878,76.4473,77.0856,77.6953, 78.2664,78.7879,79.2466,79.6266,79.9121 ,80.0863,80.1338,80.0433,79.8082,79.428 ,78.9066,78.2523,77.4747,77.0424, 76.5829,76.098,75.5881,75.0545,74.4981, 73.9196,73.3199,72.6998,72.1421,72.5537 ,72.7934,72.9533,73.173,73.2802,73.3559 ,73.3992,73.41,73.3826,73.3233,73.1981, 73.9418,74.6736,75.3931,76.1007,76.7959 ,77.4789,78.1491,78.8064,79.4503, 80.0801,80.6949,81.2937,81.8753,82.4378 ,83.4952,84.439,85.2243,85.7855,86.0528 ,85.9858,85.6202,85.0352,84.3105, 83.5026,82.6441,81.7604,80.8609,79.9613 ,79.0604,78.1642,77.2736,76.3907, 76.8333)
FOOTPRINT_POINT_LONGITUDE = (62.8361,65.6721,68.5993,71.6077, 74.6875,77.8252,81.0019,84.1989,87.3994 ,90.5854,93.7379,96.839,99.8729,102.826 ,105.688,108.451,111.11,113.661,116.101 ,118.43,120.651,122.768,124.778,126.685 ,129.595,130.997,132.598,134.426, 136.516,138.907,141.642,144.769,148.334 ,152.382,156.945,162.033,167.62,173.635 ,179.953,186.406,192.805,198.971, 204.758,210.077,214.891,217.091,219.156 ,221.113,222.945,224.663,226.272, 227.781,229.195,230.513,232.652,236.539 ,239.313,241.51,245.35,247.955,250.59, 253.245,255.911,258.916,261.581,265.016 ,265.73,266.498,267.324,268.218,269.187 ,270.244,271.398,272.667,274.067, 275.618,277.343,279.277,281.459,283.94, 289.941,297.911,308.509,322.218,338.447 ,355.172,9.9147,21.5968,30.4409,37.1116 ,42.2159,46.2161,49.4155,52.0495, 54.2474,56.1197,57.7367,59.1542, 62.8361)
ORBIT_NUMBER = 13310
ORBITAL_ECCENTRICITY = 0.579
ORBITAL_INCLINATION = 86.88
ORBITAL_SEMIMAJOR_AXIS = 8849.11
PERIAPSIS_ALTITUDE = 334.69
PERIAPSIS_ARGUMENT_ANGLE = 204.23
PERIAPSIS_TIME = 2014-06-25T12:42:13.000Z
SPACECRAFT_ORIENTATION = (0.0,-1.0,0.0)
^MEX_ORIENTATION_DESC = "MEX_ORIENTATION_DESC.TXT"
SPACECRAFT_POINTING_MODE = NADIR
^MEX_POINTING_DESC = "MEX_POINTING_DESC.TXT"
RIGHT_ASCENSION = -1e+32
DECLINATION = -1e+32
OFFSET_ANGLE = -1e+32
SPACECRAFT_SOLAR_DISTANCE = 2.29557e+08
TARGET_NAME = MARS
/* CAMERA DATA ELEMENTS */
DETECTOR_TEMPERATURE = 18.5744
FOCAL_PLANE_TEMPERATURE = 8.5833
INST_CMPRS_NAME = "DISCRETE COSINE TRANSFORMATION (DCT)"
INST_CMPRS_RATIO = 23.3358
INST_CMPRS_QUALITY = 0
INST_CMPRS_QUANTZ_TBL_ID = 0
INSTRUMENT_TEMPERATURE = 11.4379
LENS_TEMPERATURE = 9.195
MACROPIXEL_SIZE = 2
MISSING_FRAMES = 0
PIXEL_SUBSAMPLING_FLAG = N
SIGNAL_CHAIN_ID = 2
/* RADIOMETRIC DATA ELEMENTS */
BANDWIDTH = 76.0
CENTER_FILTER_WAVELENGTH = 444.0
RADIANCE_OFFSET = 0.0
RADIANCE_SCALING_FACTOR = 0.00902773
REFLECTANCE_SCALING_FACTOR = 0.000488828
MEX:REFLECTANCE_OFFSET = 0.0
/* IMAGE OBJECT DEFINITIONS */
OBJECT = IMAGE
  INTERCHANGE_FORMAT = BINARY
  LINES = 5356
  LINE_SAMPLES = 8888
  SAMPLE_TYPE = UNSIGNED_INTEGER
  SAMPLE_BITS = 8
  BANDS = 1
  BAND_STORAGE_TYPE = BAND_SEQUENTIAL
  MAXIMUM = 255
  MEAN = 71.1358
  MINIMUM = 1
  STANDARD_DEVIATION = 31.0244
END_OBJECT = IMAGE
/* MAP OBJECT DEFINITIONS */
OBJECT = IMAGE_MAP_PROJECTION
  ^DATA_SET_MAP_PROJECTION_CATALOG= "DSMAP.CAT"
  A_AXIS_RADIUS = 3396.0
  B_AXIS_RADIUS = 3396.0
  C_AXIS_RADIUS = 3396.0
  CENTER_LATITUDE = 90.0
  CENTER_LONGITUDE = 0.0
  COORDINATE_SYSTEM_NAME = PLANETOGRAPHIC
  COORDINATE_SYSTEM_TYPE = "BODY-FIXED ROTATING"
  EASTERNMOST_LONGITUDE = 360.0
  FIRST_STANDARD_PARALLEL = "N/A"
  LINE_FIRST_PIXEL = 1
  LINE_LAST_PIXEL = 5356
  LINE_PROJECTION_OFFSET = 3306.0
  MAP_PROJECTION_ROTATION = 0
  MAP_PROJECTION_TYPE = STEREOGRAPHIC
  MAP_RESOLUTION = 296.356901933333
  MAP_SCALE = 0.2
  MAXIMUM_LATITUDE = 90.0
  MINIMUM_LATITUDE = 72.1421
  POSITIVE_LONGITUDE_DIRECTION = EAST
  REFERENCE_LATITUDE = "N/A"
  REFERENCE_LONGITUDE = "N/A"
  SAMPLE_FIRST_PIXEL = 1
  SAMPLE_LAST_PIXEL = 8888
  SAMPLE_PROJECTION_OFFSET = 5003.0
  SECOND_STANDARD_PARALLEL = "N/A"
  WESTERNMOST_LONGITUDE = 0.0
END_OBJECT = IMAGE_MAP_PROJECTION
/* The JPEG2000 image data file associated with this label. */
OBJECT = COMPRESSED_FILE
  FILE_NAME = "HD310_0000_BL3.JP2"
  RECORD_TYPE = UNDEFINED
  FILE_RECORDS = UNK
  ENCODING_TYPE = "JP2"
  INTERCHANGE_FORMAT = BINARY
  UNCOMPRESSED_FILE_NAME = "HD310_0000_BL3.IMG"
  REQUIRED_STORAGE_BYTES = "47639680"
  ^DESCRIPTION = "JP2INFO.TXT"
END_OBJECT = COMPRESSED_FILE
END
