PDS_VERSION_ID = PDS3
/* FILE DATA ELEMENTS */
RECORD_TYPE = STREAM
/* POINTERS TO DATA OBJECTS */
^COMPRESSED_FILE = "HD311_0000_RE3.JP2"
/* IDENTIFICATION DATA ELEMENTS */
DATA_SET_ID = "MEX-M-HRSC-5-REFDR-MAPPROJECTED-V3.0"
DATA_SET_NAME = "MARS EXPRESS HRSC MAP PROJECTED REFDR V3.0"
DETECTOR_ID = MEX_HRSC_RED
EVENT_TYPE = "MARS-CLOUD-VARIABLE-Gl-At"
INSTRUMENT_HOST_ID = MEX
INSTRUMENT_HOST_NAME = "MARS EXPRESS"
INSTRUMENT_ID = HRSC
INSTRUMENT_NAME = "HIGH RESOLUTION STEREO CAMERA"
MISSION_NAME = "MARS EXPRESS"
MISSION_PHASE_NAME = ME_Phase_30
PROCESSING_LEVEL_ID = 3
PRODUCT_CREATION_TIME = 2016-10-29T11:06:33.000Z
PRODUCT_ID = "HD311_0000_RE3.JP2"
RELEASE_ID = 0123
REVISION_ID = 0000
/* QUALITY DATA ELEMENTS */
DATA_QUALITY_ID = 1
DATA_QUALITY_DESC = "Data calculated based on original SPICE kernels"
/* TIME DATA ELEMENTS */
SPACECRAFT_CLOCK_START_COUNT = "1/0351800620.08291"
SPACECRAFT_CLOCK_STOP_COUNT = "1/0351803489.40264"
START_TIME = 2014-06-25T18:56:25.136Z
STOP_TIME = 2014-06-25T19:11:33.198Z
/* ORBITAL DATA ELEMENTS */
ASCENDING_NODE_LONGITUDE = 323.89
MAXIMUM_RESOLUTION = 199.5
FOOTPRINT_POINT_LATITUDE = (76.8572,77.1811,77.4066,77.5308,77.553 ,77.4735,77.2949,77.0215,76.6585, 76.2126,75.689,75.0942,74.433,73.9882, 74.5612,75.4181,76.2635,77.0927,77.8998 ,78.6783,79.5938,80.105,80.7234,81.2526 ,81.5889,81.9173,82.1004,82.1308, 82.1006,82.0269,81.9113,81.7549,81.5591 ,81.3257,81.0576,80.7555,80.4224, 80.0613,79.6736,79.2616,78.828,78.3741, 77.9012,77.4112,76.906,76.385,75.8503, 75.3022,74.7425,74.1708,73.5448,73.8048 ,73.9517,74.0771,74.1809,74.3105,74.354 ,74.3761,74.3732,74.3498,74.2956, 74.2097,75.1776,75.8149,76.4469,77.0718 ,77.6914,78.3048,78.9112,79.5102, 80.1001,80.6824,81.2556,81.8199,82.3737 ,82.9157,83.4434,83.9545,84.4459, 84.9128,85.3448,85.9247,86.3832,86.6001 ,86.7299,86.7439,86.6356,86.3174, 86.0216,85.2981,84.4546,83.5533,82.6061 ,81.6462,80.6792,79.4645,78.4945, 77.5272,76.8572)
FOOTPRINT_POINT_LONGITUDE = (319.865,324.444,329.197,334.054, 338.953,343.814,348.561,353.126,357.463 ,1.53641,5.33198,8.84246,12.073,13.9535 ,15.2938,17.0697,19.1212,21.4991, 24.2647,27.4933,32.3001,35.6718,40.7843 ,46.6466,51.6501,58.8788,66.6949, 70.6958,76.8523,80.903,84.8704,88.7303, 92.4505,96.0072,99.3683,102.555,105.546 ,108.334,110.934,113.351,115.589, 117.662,119.584,121.363,123.007,124.534 ,125.95,127.265,128.486,129.621,131.699 ,135.085,137.38,139.703,142.05,146.212, 148.616,151.332,153.449,155.869,158.591 ,161.414,162.276,162.905,163.585, 164.319,165.121,165.997,166.956,168.013 ,169.177,170.474,171.925,173.564, 175.426,177.556,180.009,182.859,186.195 ,190.127,194.686,203.29,214.252,222.981 ,232.51,247.507,257.045,269.718,276.81, 287.861,295.748,301.447,305.728,309.019 ,311.63,314.226,315.918,317.357, 319.865)
ORBIT_NUMBER = 13311
ORBITAL_ECCENTRICITY = 0.578
ORBITAL_INCLINATION = 86.89
ORBITAL_SEMIMAJOR_AXIS = 8839.44
PERIAPSIS_ALTITUDE = 335.28
PERIAPSIS_ARGUMENT_ANGLE = 204.06
PERIAPSIS_TIME = 2014-06-25T19:41:48.000Z
SPACECRAFT_ORIENTATION = (0.0,-1.0,0.0)
^MEX_ORIENTATION_DESC = "MEX_ORIENTATION_DESC.TXT"
SPACECRAFT_POINTING_MODE = NADIR
^MEX_POINTING_DESC = "MEX_POINTING_DESC.TXT"
RIGHT_ASCENSION = -1e+32
DECLINATION = -1e+32
OFFSET_ANGLE = -1e+32
SPACECRAFT_SOLAR_DISTANCE = 2.29501e+08
TARGET_NAME = MARS
/* CAMERA DATA ELEMENTS */
DETECTOR_TEMPERATURE = 18.9822
FOCAL_PLANE_TEMPERATURE = 8.3794
INST_CMPRS_NAME = "DISCRETE COSINE TRANSFORMATION (DCT)"
INST_CMPRS_RATIO = 12.7434
INST_CMPRS_QUALITY = 0
INST_CMPRS_QUANTZ_TBL_ID = 0
INSTRUMENT_TEMPERATURE = 11.4379
LENS_TEMPERATURE = 8.7872
MACROPIXEL_SIZE = 2
MISSING_FRAMES = 0
PIXEL_SUBSAMPLING_FLAG = N
SIGNAL_CHAIN_ID = 3
/* RADIOMETRIC DATA ELEMENTS */
BANDWIDTH = 48.0
CENTER_FILTER_WAVELENGTH = 748.0
RADIANCE_OFFSET = 0.0632748
RADIANCE_SCALING_FACTOR = 0.00519019
REFLECTANCE_SCALING_FACTOR = 0.000623904
MEX:REFLECTANCE_OFFSET = 0.00760616
/* IMAGE OBJECT DEFINITIONS */
OBJECT = IMAGE
  INTERCHANGE_FORMAT = BINARY
  LINES = 9225
  LINE_SAMPLES = 6859
  SAMPLE_TYPE = UNSIGNED_INTEGER
  SAMPLE_BITS = 8
  BANDS = 1
  BAND_STORAGE_TYPE = BAND_SEQUENTIAL
  MAXIMUM = 255
  MEAN = 164.828
  MINIMUM = 1
  STANDARD_DEVIATION = 77.537
END_OBJECT = IMAGE
/* MAP OBJECT DEFINITIONS */
OBJECT = IMAGE_MAP_PROJECTION
  ^DATA_SET_MAP_PROJECTION_CATALOG= "DSMAP.CAT"
  A_AXIS_RADIUS = 3396.0
  B_AXIS_RADIUS = 3396.0
  C_AXIS_RADIUS = 3396.0
  CENTER_LATITUDE = 90.0
  CENTER_LONGITUDE = 0.0
  COORDINATE_SYSTEM_NAME = PLANETOGRAPHIC
  COORDINATE_SYSTEM_TYPE = "BODY-FIXED ROTATING"
  EASTERNMOST_LONGITUDE = 360.0
  FIRST_STANDARD_PARALLEL = "N/A"
  LINE_FIRST_PIXEL = 1
  LINE_LAST_PIXEL = 9225
  LINE_PROJECTION_OFFSET = 4524.0
  MAP_PROJECTION_ROTATION = 0.0
  MAP_PROJECTION_TYPE = STEREOGRAPHIC
  MAP_RESOLUTION = 296.356901933333
  MAP_SCALE = 0.2
  MAXIMUM_LATITUDE = 90.0
  MINIMUM_LATITUDE = 73.5448
  POSITIVE_LONGITUDE_DIRECTION = EAST
  REFERENCE_LATITUDE = "N/A"
  REFERENCE_LONGITUDE = "N/A"
  SAMPLE_FIRST_PIXEL = 1
  SAMPLE_LAST_PIXEL = 6859
  SAMPLE_PROJECTION_OFFSET = 2838.0
  SECOND_STANDARD_PARALLEL = "N/A"
  WESTERNMOST_LONGITUDE = 0.0
END_OBJECT = IMAGE_MAP_PROJECTION
/* The JPEG2000 image data file associated with this label. */
OBJECT = COMPRESSED_FILE
  FILE_NAME = "HD311_0000_RE3.JP2"
  RECORD_TYPE = UNDEFINED
  FILE_RECORDS = UNK
  ENCODING_TYPE = "JP2"
  INTERCHANGE_FORMAT = BINARY
  UNCOMPRESSED_FILE_NAME = "HD311_0000_RE3.IMG"
  REQUIRED_STORAGE_BYTES = "63308570"
  ^DESCRIPTION = "JP2INFO.TXT"
END_OBJECT = COMPRESSED_FILE
END
