PDS_VERSION_ID = PDS3
/* FILE DATA ELEMENTS */
RECORD_TYPE = STREAM
/* POINTERS TO DATA OBJECTS */
^COMPRESSED_FILE = "HD323_0000_BL3.JP2"
/* IDENTIFICATION DATA ELEMENTS */
DATA_SET_ID = "MEX-M-HRSC-5-REFDR-MAPPROJECTED-V3.0"
DATA_SET_NAME = "MARS EXPRESS HRSC MAP PROJECTED REFDR V3.0"
DETECTOR_ID = MEX_HRSC_BLUE
EVENT_TYPE = "MARS-TERMINATOR-CALIBRATION-Tc"
INSTRUMENT_HOST_ID = MEX
INSTRUMENT_HOST_NAME = "MARS EXPRESS"
INSTRUMENT_ID = HRSC
INSTRUMENT_NAME = "HIGH RESOLUTION STEREO CAMERA"
MISSION_NAME = "MARS EXPRESS"
MISSION_PHASE_NAME = ME_Phase_30
PROCESSING_LEVEL_ID = 3
PRODUCT_CREATION_TIME = 2016-10-29T11:06:33.000Z
PRODUCT_ID = "HD323_0000_BL3.JP2"
RELEASE_ID = 0123
REVISION_ID = 0000
/* QUALITY DATA ELEMENTS */
DATA_QUALITY_ID = 1
DATA_QUALITY_DESC = "Data calculated based on original SPICE kernels"
/* TIME DATA ELEMENTS */
SPACECRAFT_CLOCK_START_COUNT = "1/0352096666.09049"
SPACECRAFT_CLOCK_STOP_COUNT = "1/0352097108.06404"
START_TIME = 2014-06-29T04:40:16.468Z
STOP_TIME = 2014-06-29T04:43:29.436Z
/* ORBITAL DATA ELEMENTS */
ASCENDING_NODE_LONGITUDE = 323.68
MAXIMUM_RESOLUTION = 3273.5
FOOTPRINT_POINT_LATITUDE = (-34.2761,-30.2308,-27.2955,-28.5058, -25.9696,-25.1799,-22.5565,-19.3294, -21.1723,-16.5503,-18.7984,-15.6506, -17.2881,-14.2515,-11.6528,-8.48308, -3.04712,1.60745,4.24713,9.49979, 13.3575,17.0947,19.8531,22.7983,27.3489 ,30.9741,36.7634,41.3301,47.8173, 51.9772,55.1163,61.2864,65.5181,69.902, 75.284,80.0035,82.9064,86.6727,85.3046, 82.5171,78.0181,72.9326,76.031,72.7386, 75.9223,71.8209,74.0439,70.748,72.253, 68.7367,70.3606,66.4534,66.3373,62.2392 ,61.137,56.9569,53.2208,50.537,48.077, 43.3045,38.7759,40.9959,42.1164,43.323, 44.3688,44.6646,44.583,44.2383,43.1875, 40.7845,39.031,37.1586,35.1984,33.1684, 31.0784,28.9332,26.7335,22.1606,17.7799 ,13.9355,10.1838,6.62615,2.98856, 0.0170485,-5.53859,-9.36273,-14.3018, -17.3004,-20.7895,-25.0633,-31.0524, -36.1036,-40.3042,-37.627,-36.9188, -38.7443,-35.126,-34.4514,-34.2761)
FOOTPRINT_POINT_LONGITUDE = (263.028,266.546,268.464,271.854,269.51 ,273.321,276.614,276.893,280.097,278.83 ,282.59,279.103,282.153,281.21,278.518, 275.555,271.027,267.641,265.861,262.592 ,260.363,258.338,256.915,255.438, 253.232,251.546,248.924,246.915,244.166 ,242.34,240.919,237.936,235.617,232.771 ,228.019,220.859,212.295,169.568, 95.7084,78.2604,67.6188,61.7259,68.2616 ,64.2775,71.7808,75.0021,82.4093,76.224 ,88.3787,83.8671,93.2689,92.6522, 103.566,101.118,108.604,110.391,115.761 ,120.719,123.783,125.485,127.977, 133.843,137.646,143.005,150.693,156.624 ,161.603,166.164,173.163,182.226, 186.841,190.863,194.416,197.592,200.463 ,203.081,205.491,209.82,213.317,215.994 ,218.328,220.337,222.221,223.652, 226.119,227.674,229.545,230.617,231.812 ,233.216,235.094,236.62,238.983,241.293 ,247.3,250.385,252.655,256.474,263.028)
ORBIT_NUMBER = 13323
ORBITAL_ECCENTRICITY = 0.578
ORBITAL_INCLINATION = 86.88
ORBITAL_SEMIMAJOR_AXIS = 8842.79
PERIAPSIS_ALTITUDE = 336.31
PERIAPSIS_ARGUMENT_ANGLE = 201.97
PERIAPSIS_TIME = 2014-06-29T07:35:52.000Z
SPACECRAFT_ORIENTATION = (0.0,-1.0,0.0)
^MEX_ORIENTATION_DESC = "MEX_ORIENTATION_DESC.TXT"
SPACECRAFT_POINTING_MODE = INERT
^MEX_POINTING_DESC = "MEX_POINTING_DESC.TXT"
RIGHT_ASCENSION = 182.775
DECLINATION = -6.953
OFFSET_ANGLE = -1e+32
SPACECRAFT_SOLAR_DISTANCE = 2.28824e+08
TARGET_NAME = MARS
/* CAMERA DATA ELEMENTS */
DETECTOR_TEMPERATURE = 18.1666
FOCAL_PLANE_TEMPERATURE = 8.7872
INST_CMPRS_NAME = "DISCRETE COSINE TRANSFORMATION (DCT)"
INST_CMPRS_RATIO = 27.3453
INST_CMPRS_QUALITY = 0
INST_CMPRS_QUANTZ_TBL_ID = 0
INSTRUMENT_TEMPERATURE = 11.234
LENS_TEMPERATURE = 9.195
MACROPIXEL_SIZE = 8
MISSING_FRAMES = 0
PIXEL_SUBSAMPLING_FLAG = N
SIGNAL_CHAIN_ID = 2
/* RADIOMETRIC DATA ELEMENTS */
BANDWIDTH = 76.0
CENTER_FILTER_WAVELENGTH = 444.0
RADIANCE_OFFSET = 0.0
RADIANCE_SCALING_FACTOR = 0.00903729
REFLECTANCE_SCALING_FACTOR = 0.000486283
MEX:REFLECTANCE_OFFSET = 0.0
/* IMAGE OBJECT DEFINITIONS */
OBJECT = IMAGE
  INTERCHANGE_FORMAT = BINARY
  LINES = 2402
  LINE_SAMPLES = 2476
  SAMPLE_TYPE = UNSIGNED_INTEGER
  SAMPLE_BITS = 8
  BANDS = 1
  BAND_STORAGE_TYPE = BAND_SEQUENTIAL
  MAXIMUM = 255
  MEAN = 103.426
  MINIMUM = 1
  STANDARD_DEVIATION = 59.2491
END_OBJECT = IMAGE
/* MAP OBJECT DEFINITIONS */
OBJECT = IMAGE_MAP_PROJECTION
  ^DATA_SET_MAP_PROJECTION_CATALOG= "DSMAP.CAT"
  A_AXIS_RADIUS = 3396.0
  B_AXIS_RADIUS = 3396.0
  C_AXIS_RADIUS = 3396.0
  CENTER_LATITUDE = 0.0
  CENTER_LONGITUDE = 226.0
  COORDINATE_SYSTEM_NAME = PLANETOGRAPHIC
  COORDINATE_SYSTEM_TYPE = "BODY-FIXED ROTATING"
  EASTERNMOST_LONGITUDE = 360.0
  FIRST_STANDARD_PARALLEL = "N/A"
  LINE_FIRST_PIXEL = 1
  LINE_LAST_PIXEL = 2402
  LINE_PROJECTION_OFFSET = 1609.75
  MAP_PROJECTION_ROTATION = 0.0
  MAP_PROJECTION_TYPE = SINUSOIDAL
  MAP_RESOLUTION = 18.5223063708333
  MAP_SCALE = 3.2
  MAXIMUM_LATITUDE = 90.0
  MINIMUM_LATITUDE = -40.3042
  POSITIVE_LONGITUDE_DIRECTION = EAST
  REFERENCE_LATITUDE = "N/A"
  REFERENCE_LONGITUDE = "N/A"
  SAMPLE_FIRST_PIXEL = 1
  SAMPLE_LAST_PIXEL = 2476
  SAMPLE_PROJECTION_OFFSET = 1437.75
  SECOND_STANDARD_PARALLEL = "N/A"
  WESTERNMOST_LONGITUDE = 0.0
END_OBJECT = IMAGE_MAP_PROJECTION
/* The JPEG2000 image data file associated with this label. */
OBJECT = COMPRESSED_FILE
  FILE_NAME = "HD323_0000_BL3.JP2"
  RECORD_TYPE = UNDEFINED
  FILE_RECORDS = UNK
  ENCODING_TYPE = "JP2"
  INTERCHANGE_FORMAT = BINARY
  UNCOMPRESSED_FILE_NAME = "HD323_0000_BL3.IMG"
  REQUIRED_STORAGE_BYTES = "5967160"
  ^DESCRIPTION = "JP2INFO.TXT"
END_OBJECT = COMPRESSED_FILE
END
