PDS_VERSION_ID = PDS3
/* FILE DATA ELEMENTS */
RECORD_TYPE = STREAM
/* POINTERS TO DATA OBJECTS */
^COMPRESSED_FILE = "HD323_0000_ND3.JP2"
/* IDENTIFICATION DATA ELEMENTS */
DATA_SET_ID = "MEX-M-HRSC-5-REFDR-MAPPROJECTED-V3.0"
DATA_SET_NAME = "MARS EXPRESS HRSC MAP PROJECTED REFDR V3.0"
DETECTOR_ID = MEX_HRSC_NADIR
EVENT_TYPE = "MARS-TERMINATOR-CALIBRATION-Tc"
INSTRUMENT_HOST_ID = MEX
INSTRUMENT_HOST_NAME = "MARS EXPRESS"
INSTRUMENT_ID = HRSC
INSTRUMENT_NAME = "HIGH RESOLUTION STEREO CAMERA"
MISSION_NAME = "MARS EXPRESS"
MISSION_PHASE_NAME = ME_Phase_30
PROCESSING_LEVEL_ID = 3
PRODUCT_CREATION_TIME = 2016-10-29T11:06:33.000Z
PRODUCT_ID = "HD323_0000_ND3.JP2"
RELEASE_ID = 0123
REVISION_ID = 0000
/* QUALITY DATA ELEMENTS */
DATA_QUALITY_ID = 1
DATA_QUALITY_DESC = "Data calculated based on original SPICE kernels"
/* TIME DATA ELEMENTS */
SPACECRAFT_CLOCK_START_COUNT = "1/0352096666.09049"
SPACECRAFT_CLOCK_STOP_COUNT = "1/0352097108.06404"
START_TIME = 2014-06-29T04:39:54.464Z
STOP_TIME = 2014-06-29T04:43:07.441Z
/* ORBITAL DATA ELEMENTS */
ASCENDING_NODE_LONGITUDE = 323.68
MAXIMUM_RESOLUTION = 1639.5
FOOTPRINT_POINT_LATITUDE = (-34.3978,-30.6445,-29.6242,-26.8037, -23.4269,-23.1206,-18.7355,-19.5442, -17.0703,-18.5718,-14.9141,-11.9507, -8.58437,-5.95047,-1.47835,3.7879, 6.35123,10.5997,13.8319,16.3325,20.3726 ,26.4506,29.6879,35.1102,41.1182,47.515 ,52.981,56.9336,60.2015,65.5989,71.3602 ,75.2785,79.7695,85.0494,87.0599, 84.4012,79.5094,76.3542,72.8736,75.2157 ,71.7036,74.5163,70.6232,72.5937, 70.1918,72.2087,68.5578,69.8282,66.3568 ,66.6502,63.8622,60.9221,58.0333, 55.9247,53.4245,51.5052,48.8779,46.1819 ,44.988,39.6266,39.8969,41.8876,43.0506 ,43.6891,44.1345,44.3279,44.06,43.0243, 41.5049,40.0722,38.5481,36.8491,33.8214 ,31.038,28.2549,24.7774,22.1463,19.0872 ,16.8817,14.2761,9.8148,4.74903, -0.0672547,-4.66285,-7.79635,-12.3194, -17.2191,-20.7803,-25.0032,-27.6213, -32.9245,-37.7849,-41.7053,-41.1781, -38.1746,-37.1097,-38.1795,-35.6784, -34.3978)
FOOTPRINT_POINT_LONGITUDE = (263.539,267.072,270.177,273.356, 274.154,278.063,278.943,281.754,280.261 ,282.607,282.286,279.133,275.923, 273.621,270.108,266.398,264.743,262.165 ,260.314,258.949,256.858,253.865, 252.346,249.878,247.223,244.533,242.153 ,240.36,238.801,235.944,232.153,228.643 ,222.262,201.226,155.243,85.9085, 69.2526,64.609,61.0948,68.408,64.2905, 70.8529,74.2857,82.2454,77.8261,84.6506 ,84.6137,91.6402,92.2203,99.8227, 98.3948,104.104,108.157,111.392,114.778 ,118.192,120.892,121.094,126.121, 126.569,131.835,138.232,143.501,147.607 ,152.091,159.213,164.661,172.319,178.84 ,183.322,187.185,190.799,196.071, 200.038,203.424,207.06,209.474,211.998, 213.654,215.466,218.261,221.059,223.431 ,225.491,226.794,228.556,230.327, 231.541,232.919,233.744,235.361,236.807 ,237.943,244.004,245.997,250.837,254.2, 258.124,263.539)
ORBIT_NUMBER = 13323
ORBITAL_ECCENTRICITY = 0.578
ORBITAL_INCLINATION = 86.88
ORBITAL_SEMIMAJOR_AXIS = 8842.79
PERIAPSIS_ALTITUDE = 336.31
PERIAPSIS_ARGUMENT_ANGLE = 201.97
PERIAPSIS_TIME = 2014-06-29T07:35:52.000Z
SPACECRAFT_ORIENTATION = (0.0,-1.0,0.0)
^MEX_ORIENTATION_DESC = "MEX_ORIENTATION_DESC.TXT"
SPACECRAFT_POINTING_MODE = INERT
^MEX_POINTING_DESC = "MEX_POINTING_DESC.TXT"
RIGHT_ASCENSION = 182.775
DECLINATION = -6.953
OFFSET_ANGLE = -1e+32
SPACECRAFT_SOLAR_DISTANCE = 2.28824e+08
TARGET_NAME = MARS
/* CAMERA DATA ELEMENTS */
DETECTOR_TEMPERATURE = 18.1666
FOCAL_PLANE_TEMPERATURE = 8.7872
INST_CMPRS_NAME = "DISCRETE COSINE TRANSFORMATION (DCT)"
INST_CMPRS_RATIO = 11.1621
INST_CMPRS_QUALITY = 0
INST_CMPRS_QUANTZ_TBL_ID = 0
INSTRUMENT_TEMPERATURE = 11.234
LENS_TEMPERATURE = 9.195
MACROPIXEL_SIZE = 4
MISSING_FRAMES = 0
PIXEL_SUBSAMPLING_FLAG = N
SIGNAL_CHAIN_ID = 0
/* RADIOMETRIC DATA ELEMENTS */
BANDWIDTH = 177.0
CENTER_FILTER_WAVELENGTH = 677.5
RADIANCE_OFFSET = 0.0
RADIANCE_SCALING_FACTOR = 0.0597998
REFLECTANCE_SCALING_FACTOR = 0.00166371
MEX:REFLECTANCE_OFFSET = 0.0
/* IMAGE OBJECT DEFINITIONS */
OBJECT = IMAGE
  INTERCHANGE_FORMAT = BINARY
  LINES = 4804
  LINE_SAMPLES = 4952
  SAMPLE_TYPE = UNSIGNED_INTEGER
  SAMPLE_BITS = 8
  BANDS = 1
  BAND_STORAGE_TYPE = BAND_SEQUENTIAL
  MAXIMUM = 255
  MEAN = 111.676
  MINIMUM = 1
  STANDARD_DEVIATION = 67.9722
END_OBJECT = IMAGE
/* MAP OBJECT DEFINITIONS */
OBJECT = IMAGE_MAP_PROJECTION
  ^DATA_SET_MAP_PROJECTION_CATALOG= "DSMAP.CAT"
  A_AXIS_RADIUS = 3396.0
  B_AXIS_RADIUS = 3396.0
  C_AXIS_RADIUS = 3396.0
  CENTER_LATITUDE = 0.0
  CENTER_LONGITUDE = 226.0
  COORDINATE_SYSTEM_NAME = PLANETOGRAPHIC
  COORDINATE_SYSTEM_TYPE = "BODY-FIXED ROTATING"
  EASTERNMOST_LONGITUDE = 360.0
  FIRST_STANDARD_PARALLEL = "N/A"
  LINE_FIRST_PIXEL = 1
  LINE_LAST_PIXEL = 4804
  LINE_PROJECTION_OFFSET = 3220.0
  MAP_PROJECTION_ROTATION = 0.0
  MAP_PROJECTION_TYPE = SINUSOIDAL
  MAP_RESOLUTION = 37.0446127416667
  MAP_SCALE = 1.6
  MAXIMUM_LATITUDE = 90.0
  MINIMUM_LATITUDE = -41.7053
  POSITIVE_LONGITUDE_DIRECTION = EAST
  REFERENCE_LATITUDE = "N/A"
  REFERENCE_LONGITUDE = "N/A"
  SAMPLE_FIRST_PIXEL = 1
  SAMPLE_LAST_PIXEL = 4952
  SAMPLE_PROJECTION_OFFSET = 2876.0
  SECOND_STANDARD_PARALLEL = "N/A"
  WESTERNMOST_LONGITUDE = 0.0
END_OBJECT = IMAGE_MAP_PROJECTION
/* The JPEG2000 image data file associated with this label. */
OBJECT = COMPRESSED_FILE
  FILE_NAME = "HD323_0000_ND3.JP2"
  RECORD_TYPE = UNDEFINED
  FILE_RECORDS = UNK
  ENCODING_TYPE = "JP2"
  INTERCHANGE_FORMAT = BINARY
  UNCOMPRESSED_FILE_NAME = "HD323_0000_ND3.IMG"
  REQUIRED_STORAGE_BYTES = "23814168"
  ^DESCRIPTION = "JP2INFO.TXT"
END_OBJECT = COMPRESSED_FILE
END
