PDS_VERSION_ID = PDS3
/* FILE DATA ELEMENTS */
RECORD_TYPE = STREAM
/* POINTERS TO DATA OBJECTS */
^COMPRESSED_FILE = "HD323_0000_S23.JP2"
/* IDENTIFICATION DATA ELEMENTS */
DATA_SET_ID = "MEX-M-HRSC-5-REFDR-MAPPROJECTED-V3.0"
DATA_SET_NAME = "MARS EXPRESS HRSC MAP PROJECTED REFDR V3.0"
DETECTOR_ID = MEX_HRSC_S2
EVENT_TYPE = "MARS-TERMINATOR-CALIBRATION-Tc"
INSTRUMENT_HOST_ID = MEX
INSTRUMENT_HOST_NAME = "MARS EXPRESS"
INSTRUMENT_ID = HRSC
INSTRUMENT_NAME = "HIGH RESOLUTION STEREO CAMERA"
MISSION_NAME = "MARS EXPRESS"
MISSION_PHASE_NAME = ME_Phase_30
PROCESSING_LEVEL_ID = 3
PRODUCT_CREATION_TIME = 2016-10-29T11:06:33.000Z
PRODUCT_ID = "HD323_0000_S23.JP2"
RELEASE_ID = 0123
REVISION_ID = 0000
/* QUALITY DATA ELEMENTS */
DATA_QUALITY_ID = 1
DATA_QUALITY_DESC = "Data calculated based on original SPICE kernels"
/* TIME DATA ELEMENTS */
SPACECRAFT_CLOCK_START_COUNT = "1/0352096666.09049"
SPACECRAFT_CLOCK_STOP_COUNT = "1/0352097108.06404"
START_TIME = 2014-06-29T04:41:57.482Z
STOP_TIME = 2014-06-29T04:45:11.462Z
/* ORBITAL DATA ELEMENTS */
ASCENDING_NODE_LONGITUDE = 323.68
MAXIMUM_RESOLUTION = 1635
FOOTPRINT_POINT_LATITUDE = (-33.7467,-31.0317,-28.9806,-24.8522, -21.3868,-19.4988,-16.9802,-17.7836, -14.0563,-11.8098,-9.03624,-6.3535, -2.56934,0.482684,4.29618,7.22982, 11.7643,17.4238,20.8223,23.2581,27.3934 ,31.8678,35.1412,39.2717,44.3172,48.422 ,51.3423,56.6471,60.0844,64.9971, 69.7361,74.7288,78.8201,82.8078,85.372, 87.3882,84.8493,81.1829,75.6938,71.423, 74.3422,70.9867,74.3632,70.9995,70.3293 ,72.9234,70.2959,70.9164,67.7794, 70.0566,66.597,64.3001,61.8778,56.9278, 53.9942,51.0521,47.6022,44.5905,41.9229 ,42.3782,44.5155,45.7606,46.4202, 47.0771,47.1984,47.0417,46.1616,45.0205 ,42.6206,40.2531,38.3882,35.6182,33.314 ,31.0184,27.2933,23.2699,20.0231, 17.5059,15.024,10.4067,6.10887,2.52986, -1.44348,-4.37979,-7.53853,-10.4444, -14.4294,-16.9782,-20.9763,-24.9738, -27.8188,-31.5707,-34.6496,-38.7668, -39.2012,-36.3171,-36.1966,-34.3119, -33.7467)
FOOTPRINT_POINT_LONGITUDE = (263.113,267.297,269.81,271.419,275.745 ,280.149,278.621,281.891,281.343, 278.996,276.342,273.982,270.952,268.712 ,266.109,264.249,261.558,258.468, 256.737,255.535,253.558,251.508,250.046 ,248.232,246.115,244.442,243.207, 240.902,239.334,236.889,234.122,230.309 ,225.561,216.771,203.158,155.206, 84.5671,70.4072,62.3069,58.6928,62.4437 ,59.5652,64.0149,68.7182,69.2214, 74.1934,73.0414,83.5434,80.504,85.9739, 88.0704,95.3607,104.079,108.278,111.293 ,117.131,121.555,124.821,123.703, 129.052,135.791,141.316,145.395,152.392 ,157.089,162.239,170.347,176.158, 184.235,189.935,193.575,198.109,201.31, 204.118,208.065,211.698,214.272,216.077 ,217.736,220.537,222.886,224.673, 226.522,227.816,229.142,230.31,231.846, 232.791,234.234,235.639,236.626,237.915 ,238.97,242.952,247.256,250.881,254.877 ,258.258,263.113)
ORBIT_NUMBER = 13323
ORBITAL_ECCENTRICITY = 0.578
ORBITAL_INCLINATION = 86.88
ORBITAL_SEMIMAJOR_AXIS = 8842.79
PERIAPSIS_ALTITUDE = 336.31
PERIAPSIS_ARGUMENT_ANGLE = 201.97
PERIAPSIS_TIME = 2014-06-29T07:35:52.000Z
SPACECRAFT_ORIENTATION = (0.0,-1.0,0.0)
^MEX_ORIENTATION_DESC = "MEX_ORIENTATION_DESC.TXT"
SPACECRAFT_POINTING_MODE = INERT
^MEX_POINTING_DESC = "MEX_POINTING_DESC.TXT"
RIGHT_ASCENSION = 182.775
DECLINATION = -6.953
OFFSET_ANGLE = -1e+32
SPACECRAFT_SOLAR_DISTANCE = 2.28824e+08
TARGET_NAME = MARS
/* CAMERA DATA ELEMENTS */
DETECTOR_TEMPERATURE = 18.7783
FOCAL_PLANE_TEMPERATURE = 8.7872
INST_CMPRS_NAME = "DISCRETE COSINE TRANSFORMATION (DCT)"
INST_CMPRS_RATIO = 14.166
INST_CMPRS_QUALITY = 0
INST_CMPRS_QUANTZ_TBL_ID = 0
INSTRUMENT_TEMPERATURE = 11.234
LENS_TEMPERATURE = 9.195
MACROPIXEL_SIZE = 4
MISSING_FRAMES = 0
PIXEL_SUBSAMPLING_FLAG = N
SIGNAL_CHAIN_ID = 1
/* RADIOMETRIC DATA ELEMENTS */
BANDWIDTH = 178.0
CENTER_FILTER_WAVELENGTH = 679.0
RADIANCE_OFFSET = 0.0
RADIANCE_SCALING_FACTOR = 0.0582569
REFLECTANCE_SCALING_FACTOR = 0.00161575
MEX:REFLECTANCE_OFFSET = 0.0
/* IMAGE OBJECT DEFINITIONS */
OBJECT = IMAGE
  INTERCHANGE_FORMAT = BINARY
  LINES = 4804
  LINE_SAMPLES = 4952
  SAMPLE_TYPE = UNSIGNED_INTEGER
  SAMPLE_BITS = 8
  BANDS = 1
  BAND_STORAGE_TYPE = BAND_SEQUENTIAL
  MAXIMUM = 255
  MEAN = 116.761
  MINIMUM = 1
  STANDARD_DEVIATION = 69.0599
END_OBJECT = IMAGE
/* MAP OBJECT DEFINITIONS */
OBJECT = IMAGE_MAP_PROJECTION
  ^DATA_SET_MAP_PROJECTION_CATALOG= "DSMAP.CAT"
  A_AXIS_RADIUS = 3396.0
  B_AXIS_RADIUS = 3396.0
  C_AXIS_RADIUS = 3396.0
  CENTER_LATITUDE = 0.0
  CENTER_LONGITUDE = 226.0
  COORDINATE_SYSTEM_NAME = PLANETOGRAPHIC
  COORDINATE_SYSTEM_TYPE = "BODY-FIXED ROTATING"
  EASTERNMOST_LONGITUDE = 360.0
  FIRST_STANDARD_PARALLEL = "N/A"
  LINE_FIRST_PIXEL = 1
  LINE_LAST_PIXEL = 4804
  LINE_PROJECTION_OFFSET = 3220.0
  MAP_PROJECTION_ROTATION = 0.0
  MAP_PROJECTION_TYPE = SINUSOIDAL
  MAP_RESOLUTION = 37.0446127416667
  MAP_SCALE = 1.6
  MAXIMUM_LATITUDE = 90.0
  MINIMUM_LATITUDE = -39.2012
  POSITIVE_LONGITUDE_DIRECTION = EAST
  REFERENCE_LATITUDE = "N/A"
  REFERENCE_LONGITUDE = "N/A"
  SAMPLE_FIRST_PIXEL = 1
  SAMPLE_LAST_PIXEL = 4952
  SAMPLE_PROJECTION_OFFSET = 2876.0
  SECOND_STANDARD_PARALLEL = "N/A"
  WESTERNMOST_LONGITUDE = 0.0
END_OBJECT = IMAGE_MAP_PROJECTION
/* The JPEG2000 image data file associated with this label. */
OBJECT = COMPRESSED_FILE
  FILE_NAME = "HD323_0000_S23.JP2"
  RECORD_TYPE = UNDEFINED
  FILE_RECORDS = UNK
  ENCODING_TYPE = "JP2"
  INTERCHANGE_FORMAT = BINARY
  UNCOMPRESSED_FILE_NAME = "HD323_0000_S23.IMG"
  REQUIRED_STORAGE_BYTES = "23814168"
  ^DESCRIPTION = "JP2INFO.TXT"
END_OBJECT = COMPRESSED_FILE
END
