PDS_VERSION_ID = PDS3
/* FILE DATA ELEMENTS */
RECORD_TYPE = STREAM
/* POINTERS TO DATA OBJECTS */
^COMPRESSED_FILE = "HD329_0000_P23.JP2"
/* IDENTIFICATION DATA ELEMENTS */
DATA_SET_ID = "MEX-M-HRSC-5-REFDR-MAPPROJECTED-V3.0"
DATA_SET_NAME = "MARS EXPRESS HRSC MAP PROJECTED REFDR V3.0"
DETECTOR_ID = MEX_HRSC_P2
EVENT_TYPE = "MARS-TERMINATOR-CALIBRATION-Tc"
INSTRUMENT_HOST_ID = MEX
INSTRUMENT_HOST_NAME = "MARS EXPRESS"
INSTRUMENT_ID = HRSC
INSTRUMENT_NAME = "HIGH RESOLUTION STEREO CAMERA"
MISSION_NAME = "MARS EXPRESS"
MISSION_PHASE_NAME = ME_Phase_30
PROCESSING_LEVEL_ID = 3
PRODUCT_CREATION_TIME = 2016-10-29T11:22:08.000Z
PRODUCT_ID = "HD329_0000_P23.JP2"
RELEASE_ID = 0124
REVISION_ID = 0000
/* QUALITY DATA ELEMENTS */
DATA_QUALITY_ID = 1
DATA_QUALITY_DESC = "Data calculated based on original SPICE kernels"
/* TIME DATA ELEMENTS */
SPACECRAFT_CLOCK_START_COUNT = "1/0352250981.07305"
SPACECRAFT_CLOCK_STOP_COUNT = "1/0352251444.00897"
START_TIME = 2014-06-30T23:33:08.523Z
STOP_TIME = 2014-06-30T23:36:47.442Z
/* ORBITAL DATA ELEMENTS */
ASCENDING_NODE_LONGITUDE = 323.56
MAXIMUM_RESOLUTION = 2736.9
FOOTPRINT_POINT_LATITUDE = (-22.2656,-20.0357,-18.8768,-17.6563, -17.0074,-14.0977,-15.4087,-11.5197, -13.5048,-9.10492,-5.42363,-2.15899, 0.386948,4.43834,7.71118,13.7668,17.925 ,23.2507,26.814,32.4248,36.0793,41.1849 ,45.744,50.3596,53.0885,59.4562,63.4016 ,66.6831,72.1695,75.0358,78.0805, 80.1029,81.9045,82.6358,81.5549,79.8702 ,77.4793,74.3056,69.9897,67.0277, 62.6654,59.9063,56.9373,60.6264,57.1083 ,60.8074,57.4639,60.7327,57.0981, 60.3428,57.6891,59.5052,56.1406,57.2845 ,55.314,53.3056,52.345,51.3279,47.1895, 50.0924,54.1156,56.466,59.5242,61.4957, 62.8231,64.3582,64.5365,64.0191,62.7599 ,61.6123,59.7405,58.1128,56.2145, 53.8636,51.2968,49.0415,45.4562,42.1579 ,38.6581,35.9901,31.6398,27.9137, 22.7919,19.5538,14.6798,11.1528,7.00427 ,2.20875,-2.12996,-5.3985,-10.5622, -14.5887,-20.9061,-22.8717,-20.4381, -23.1535,-20.9822,-21.2626,-22.2656)
FOOTPRINT_POINT_LONGITUDE = (339.409,341.273,344.576,347.843, 352.105,354.687,357.633,357.369,1.47238 ,359.287,357.655,356.335,355.378, 353.978,352.953,351.24,350.217,349.058, 348.391,347.513,347.059,346.607,346.419 ,346.471,346.658,347.707,348.987, 350.634,355.464,359.921,7.9027,17.2113, 33.7524,53.8124,86.9736,100.418,110.431 ,117.796,123.339,125.672,127.921, 128.873,129.575,129.954,133.34,134.173, 135.894,136.987,139.747,141.138,148.668 ,154.337,153.227,159.841,168.66,175.979 ,182.459,188.886,189.742,196.422, 201.974,206.173,213.421,220.013,226.226 ,239.531,249.745,258.668,267.848, 273.222,279.635,283.909,287.959,292.033 ,295.671,298.335,301.859,304.52,306.876 ,308.43,310.61,312.191,314.028,315.027, 316.334,317.154,317.996,318.847,319.491 ,319.92,320.454,320.825,321.22,325.723, 328.331,328.681,332.697,336.361, 339.409)
ORBIT_NUMBER = 13329
ORBITAL_ECCENTRICITY = 0.578
ORBITAL_INCLINATION = 86.89
ORBITAL_SEMIMAJOR_AXIS = 8847.94
PERIAPSIS_ALTITUDE = 336.03
PERIAPSIS_ARGUMENT_ANGLE = 200.94
PERIAPSIS_TIME = 2014-07-01T01:32:48.000Z
SPACECRAFT_ORIENTATION = (0.0,-1.0,0.0)
^MEX_ORIENTATION_DESC = "MEX_ORIENTATION_DESC.TXT"
SPACECRAFT_POINTING_MODE = INERT
^MEX_POINTING_DESC = "MEX_POINTING_DESC.TXT"
RIGHT_ASCENSION = 174.724
DECLINATION = -21.536
OFFSET_ANGLE = -1e+32
SPACECRAFT_SOLAR_DISTANCE = 2.28485e+08
TARGET_NAME = MARS
/* CAMERA DATA ELEMENTS */
DETECTOR_TEMPERATURE = 18.5744
FOCAL_PLANE_TEMPERATURE = 8.3794
INST_CMPRS_NAME = "DISCRETE COSINE TRANSFORMATION (DCT)"
INST_CMPRS_RATIO = 14.201
INST_CMPRS_QUALITY = 0
INST_CMPRS_QUANTZ_TBL_ID = 0
INSTRUMENT_TEMPERATURE = 11.0301
LENS_TEMPERATURE = 8.5833
MACROPIXEL_SIZE = 8
MISSING_FRAMES = 0
PIXEL_SUBSAMPLING_FLAG = N
SIGNAL_CHAIN_ID = 2
/* RADIOMETRIC DATA ELEMENTS */
BANDWIDTH = 177.0
CENTER_FILTER_WAVELENGTH = 676.5
RADIANCE_OFFSET = 0.0
RADIANCE_SCALING_FACTOR = 0.0428733
REFLECTANCE_SCALING_FACTOR = 0.00118692
MEX:REFLECTANCE_OFFSET = 0.0
/* IMAGE OBJECT DEFINITIONS */
OBJECT = IMAGE
  INTERCHANGE_FORMAT = BINARY
  LINES = 2109
  LINE_SAMPLES = 3625
  SAMPLE_TYPE = UNSIGNED_INTEGER
  SAMPLE_BITS = 8
  BANDS = 1
  BAND_STORAGE_TYPE = BAND_SEQUENTIAL
  MAXIMUM = 255
  MEAN = 110.709
  MINIMUM = 1
  STANDARD_DEVIATION = 64.3841
END_OBJECT = IMAGE
/* MAP OBJECT DEFINITIONS */
OBJECT = IMAGE_MAP_PROJECTION
  ^DATA_SET_MAP_PROJECTION_CATALOG= "DSMAP.CAT"
  A_AXIS_RADIUS = 3396.0
  B_AXIS_RADIUS = 3396.0
  C_AXIS_RADIUS = 3396.0
  CENTER_LATITUDE = 0.0
  CENTER_LONGITUDE = 322.0
  COORDINATE_SYSTEM_NAME = PLANETOGRAPHIC
  COORDINATE_SYSTEM_TYPE = "BODY-FIXED ROTATING"
  EASTERNMOST_LONGITUDE = 360.0
  FIRST_STANDARD_PARALLEL = "N/A"
  LINE_FIRST_PIXEL = 1
  LINE_LAST_PIXEL = 2109
  LINE_PROJECTION_OFFSET = 1639.1875
  MAP_PROJECTION_ROTATION = 0.0
  MAP_PROJECTION_TYPE = SINUSOIDAL
  MAP_RESOLUTION = 18.5223063708333
  MAP_SCALE = 3.2
  MAXIMUM_LATITUDE = 90.0
  MINIMUM_LATITUDE = -23.1535
  POSITIVE_LONGITUDE_DIRECTION = EAST
  REFERENCE_LATITUDE = "N/A"
  REFERENCE_LONGITUDE = "N/A"
  SAMPLE_FIRST_PIXEL = 1
  SAMPLE_LAST_PIXEL = 3625
  SAMPLE_PROJECTION_OFFSET = 1811.4375
  SECOND_STANDARD_PARALLEL = "N/A"
  WESTERNMOST_LONGITUDE = 0.0
END_OBJECT = IMAGE_MAP_PROJECTION
/* The JPEG2000 image data file associated with this label. */
OBJECT = COMPRESSED_FILE
  FILE_NAME = "HD329_0000_P23.JP2"
  RECORD_TYPE = UNDEFINED
  FILE_RECORDS = UNK
  ENCODING_TYPE = "JP2"
  INTERCHANGE_FORMAT = BINARY
  UNCOMPRESSED_FILE_NAME = "HD329_0000_P23.IMG"
  REQUIRED_STORAGE_BYTES = "7666875"
  ^DESCRIPTION = "JP2INFO.TXT"
END_OBJECT = COMPRESSED_FILE
END
