PDS_VERSION_ID = PDS3
/* FILE DATA ELEMENTS */
RECORD_TYPE = STREAM
/* POINTERS TO DATA OBJECTS */
^COMPRESSED_FILE = "HD329_0000_S23.JP2"
/* IDENTIFICATION DATA ELEMENTS */
DATA_SET_ID = "MEX-M-HRSC-5-REFDR-MAPPROJECTED-V3.0"
DATA_SET_NAME = "MARS EXPRESS HRSC MAP PROJECTED REFDR V3.0"
DETECTOR_ID = MEX_HRSC_S2
EVENT_TYPE = "MARS-TERMINATOR-CALIBRATION-Tc"
INSTRUMENT_HOST_ID = MEX
INSTRUMENT_HOST_NAME = "MARS EXPRESS"
INSTRUMENT_ID = HRSC
INSTRUMENT_NAME = "HIGH RESOLUTION STEREO CAMERA"
MISSION_NAME = "MARS EXPRESS"
MISSION_PHASE_NAME = ME_Phase_30
PROCESSING_LEVEL_ID = 3
PRODUCT_CREATION_TIME = 2016-10-29T11:22:08.000Z
PRODUCT_ID = "HD329_0000_S23.JP2"
RELEASE_ID = 0124
REVISION_ID = 0000
/* QUALITY DATA ELEMENTS */
DATA_QUALITY_ID = 1
DATA_QUALITY_DESC = "Data calculated based on original SPICE kernels"
/* TIME DATA ELEMENTS */
SPACECRAFT_CLOCK_START_COUNT = "1/0352250981.07305"
SPACECRAFT_CLOCK_STOP_COUNT = "1/0352251444.00897"
START_TIME = 2014-06-30T23:33:48.526Z
STOP_TIME = 2014-06-30T23:37:27.444Z
/* ORBITAL DATA ELEMENTS */
ASCENDING_NODE_LONGITUDE = 323.56
MAXIMUM_RESOLUTION = 2725.3
FOOTPRINT_POINT_LATITUDE = (-22.1113,-19.9175,-17.4639,-15.8455, -18.2606,-15.6862,-17.5205,-14.8729, -16.4614,-13.7496,-14.2241,-11.1324, -6.52246,-3.63965,-0.796381,1.83115, 5.81561,8.9337,11.8366,16.6791,20.785, 25.3194,31.6608,37.3028,41.5042,44.1642 ,49.7617,55.2029,62.0774,67.4285, 70.9777,73.8178,77.5874,81.3688,82.582, 82.7917,81.4766,79.6579,77.3323,74.1054 ,69.7368,66.7369,62.2738,57.6214, 60.7533,58.2465,60.8901,57.8851,59.9246 ,56.4414,59.8817,57.1462,59.8586,57.445 ,55.5877,53.6559,52.5075,52.0895,50.492 ,47.2947,49.9916,54.7681,58.0705, 60.8412,62.6811,63.9345,65.2642,65.5145 ,65.059,63.9459,62.1765,60.7652,57.3959 ,54.8557,50.4097,47.4394,44.5898, 42.0842,39.5769,35.4834,31.4749,26.4845 ,23.5699,19.9544,16.1114,9.72627, 5.64818,1.57274,-1.24974,-4.92321, -7.67175,-11.1625,-14.5422,-19.7637, -23.1455,-20.6292,-22.5616,-22.5677, -22.1113)
FOOTPRINT_POINT_LONGITUDE = (338.875,343.641,345.681,347.941, 350.293,349.301,352.216,351.138,355.522 ,354.315,358.301,359.11,357.621,356.512 ,355.422,354.476,353.16,352.216,351.399 ,350.167,349.224,348.319,347.276, 346.586,346.233,346.093,346.062,346.479 ,347.994,350.515,353.395,356.946, 5.07609,24.7045,42.5592,66.2449,90.4269 ,103.156,111.995,118.964,124.199, 126.403,128.533,130.996,131.685,133.455 ,134.396,136.036,141.124,140.974, 142.423,147.08,150.148,153.194,161.953, 167.842,175.28,181.874,189.809,190.21, 194.094,200.418,206.483,213.532,220.092 ,226.354,238.11,248.718,257.745,266.667 ,275.004,279.753,287.934,292.428, 298.373,301.432,303.899,305.778,307.424 ,309.74,311.649,313.638,314.642,315.752 ,316.793,318.262,319.054,319.749, 320.171,320.676,320.986,321.358,321.687 ,322.078,323.693,324.898,327.188, 333.539,338.875)
ORBIT_NUMBER = 13329
ORBITAL_ECCENTRICITY = 0.578
ORBITAL_INCLINATION = 86.89
ORBITAL_SEMIMAJOR_AXIS = 8847.94
PERIAPSIS_ALTITUDE = 336.03
PERIAPSIS_ARGUMENT_ANGLE = 200.94
PERIAPSIS_TIME = 2014-07-01T01:32:48.000Z
SPACECRAFT_ORIENTATION = (0.0,-1.0,0.0)
^MEX_ORIENTATION_DESC = "MEX_ORIENTATION_DESC.TXT"
SPACECRAFT_POINTING_MODE = INERT
^MEX_POINTING_DESC = "MEX_POINTING_DESC.TXT"
RIGHT_ASCENSION = 174.724
DECLINATION = -21.536
OFFSET_ANGLE = -1e+32
SPACECRAFT_SOLAR_DISTANCE = 2.28485e+08
TARGET_NAME = MARS
/* CAMERA DATA ELEMENTS */
DETECTOR_TEMPERATURE = 18.5744
FOCAL_PLANE_TEMPERATURE = 8.3794
INST_CMPRS_NAME = "DISCRETE COSINE TRANSFORMATION (DCT)"
INST_CMPRS_RATIO = 16.5598
INST_CMPRS_QUALITY = 0
INST_CMPRS_QUANTZ_TBL_ID = 0
INSTRUMENT_TEMPERATURE = 11.0301
LENS_TEMPERATURE = 8.5833
MACROPIXEL_SIZE = 8
MISSING_FRAMES = 0
PIXEL_SUBSAMPLING_FLAG = N
SIGNAL_CHAIN_ID = 2
/* RADIOMETRIC DATA ELEMENTS */
BANDWIDTH = 178.0
CENTER_FILTER_WAVELENGTH = 679.0
RADIANCE_OFFSET = 0.0
RADIANCE_SCALING_FACTOR = 0.045303
REFLECTANCE_SCALING_FACTOR = 0.00125266
MEX:REFLECTANCE_OFFSET = 0.0
/* IMAGE OBJECT DEFINITIONS */
OBJECT = IMAGE
  INTERCHANGE_FORMAT = BINARY
  LINES = 2109
  LINE_SAMPLES = 3625
  SAMPLE_TYPE = UNSIGNED_INTEGER
  SAMPLE_BITS = 8
  BANDS = 1
  BAND_STORAGE_TYPE = BAND_SEQUENTIAL
  MAXIMUM = 255
  MEAN = 66.0747
  MINIMUM = 1
  STANDARD_DEVIATION = 71.0711
END_OBJECT = IMAGE
/* MAP OBJECT DEFINITIONS */
OBJECT = IMAGE_MAP_PROJECTION
  ^DATA_SET_MAP_PROJECTION_CATALOG= "DSMAP.CAT"
  A_AXIS_RADIUS = 3396.0
  B_AXIS_RADIUS = 3396.0
  C_AXIS_RADIUS = 3396.0
  CENTER_LATITUDE = 0.0
  CENTER_LONGITUDE = 322.0
  COORDINATE_SYSTEM_NAME = PLANETOGRAPHIC
  COORDINATE_SYSTEM_TYPE = "BODY-FIXED ROTATING"
  EASTERNMOST_LONGITUDE = 360.0
  FIRST_STANDARD_PARALLEL = "N/A"
  LINE_FIRST_PIXEL = 1
  LINE_LAST_PIXEL = 2109
  LINE_PROJECTION_OFFSET = 1639.1875
  MAP_PROJECTION_ROTATION = 0.0
  MAP_PROJECTION_TYPE = SINUSOIDAL
  MAP_RESOLUTION = 18.5223063708333
  MAP_SCALE = 3.2
  MAXIMUM_LATITUDE = 90.0
  MINIMUM_LATITUDE = -23.1455
  POSITIVE_LONGITUDE_DIRECTION = EAST
  REFERENCE_LATITUDE = "N/A"
  REFERENCE_LONGITUDE = "N/A"
  SAMPLE_FIRST_PIXEL = 1
  SAMPLE_LAST_PIXEL = 3625
  SAMPLE_PROJECTION_OFFSET = 1811.4375
  SECOND_STANDARD_PARALLEL = "N/A"
  WESTERNMOST_LONGITUDE = 0.0
END_OBJECT = IMAGE_MAP_PROJECTION
/* The JPEG2000 image data file associated with this label. */
OBJECT = COMPRESSED_FILE
  FILE_NAME = "HD329_0000_S23.JP2"
  RECORD_TYPE = UNDEFINED
  FILE_RECORDS = UNK
  ENCODING_TYPE = "JP2"
  INTERCHANGE_FORMAT = BINARY
  UNCOMPRESSED_FILE_NAME = "HD329_0000_S23.IMG"
  REQUIRED_STORAGE_BYTES = "7666875"
  ^DESCRIPTION = "JP2INFO.TXT"
END_OBJECT = COMPRESSED_FILE
END
