PDS_VERSION_ID = PDS3
/* FILE DATA ELEMENTS */
RECORD_TYPE = STREAM
/* POINTERS TO DATA OBJECTS */
^COMPRESSED_FILE = "HD441_0000_GR3.JP2"
/* IDENTIFICATION DATA ELEMENTS */
DATA_SET_ID = "MEX-M-HRSC-5-REFDR-MAPPROJECTED-V3.0"
DATA_SET_NAME = "MARS EXPRESS HRSC MAP PROJECTED REFDR V3.0"
DETECTOR_ID = MEX_HRSC_GREEN
EVENT_TYPE = "MARS-CLOUD-VARIABLE-Gl-At"
INSTRUMENT_HOST_ID = MEX
INSTRUMENT_HOST_NAME = "MARS EXPRESS"
INSTRUMENT_ID = HRSC
INSTRUMENT_NAME = "HIGH RESOLUTION STEREO CAMERA"
MISSION_NAME = "MARS EXPRESS"
MISSION_PHASE_NAME = ME_Phase_30
PROCESSING_LEVEL_ID = 3
PRODUCT_CREATION_TIME = 2016-10-29T11:22:08.000Z
PRODUCT_ID = "HD441_0000_GR3.JP2"
RELEASE_ID = 0124
REVISION_ID = 0000
/* QUALITY DATA ELEMENTS */
DATA_QUALITY_ID = 1
DATA_QUALITY_DESC = "Data calculated based on original SPICE kernels"
/* TIME DATA ELEMENTS */
SPACECRAFT_CLOCK_START_COUNT = "1/0355074420.08280"
SPACECRAFT_CLOCK_STOP_COUNT = "1/0355075929.21055"
START_TIME = 2014-08-02T15:47:05.818Z
STOP_TIME = 2014-08-02T16:06:39.799Z
/* ORBITAL DATA ELEMENTS */
ASCENDING_NODE_LONGITUDE = 321.43
MAXIMUM_RESOLUTION = 177.8
FOOTPRINT_POINT_LATITUDE = (73.9598,74.1032,74.2294,74.338,74.4291 ,74.5025,74.5582,74.596,74.6161,74.6181 ,74.6023,74.5687,74.5175,74.4489, 74.3631,74.2603,74.1407,74.0047,73.8525 ,73.6845,73.5009,73.3019,73.088,72.8596 ,72.6172,72.403,73.0221,73.6493,74.2836 ,74.924,75.5691,76.217,76.8653,77.5109, 78.1495,78.776,79.3841,79.9637,80.5047, 80.9935,81.4114,81.7426,81.9623,82.0538 ,81.9997,81.7149,81.5337,81.315,81.0598 ,80.7696,80.4459,80.0903,79.7048, 79.2904,78.8492,78.8863,79.3438,79.6454 ,79.9188,80.1626,80.3744,80.5524, 80.7387,80.876,80.892,80.8461,81.8026, 82.4267,83.04,83.6418,84.2311,84.8059, 85.3681,85.9112,86.4295,87.1555,87.5725 ,87.9123,88.1383,88.2134,88.1245, 87.5746,86.7749,85.8851,84.966,84.0413, 83.1211,82.2106,81.3124,80.4278,79.5577 ,78.7012,77.8591,77.0307,76.216,75.4146 ,74.6261,73.8502,73.9598)
FOOTPRINT_POINT_LONGITUDE = (353.991,355.919,357.871,359.843, 1.83404,3.84135,5.86098,7.8888,9.92218, 11.9579,13.9893,16.0102,18.0185,20.0124 ,21.9884,23.9429,25.8729,27.7759, 29.6489,31.4899,33.2987,35.0747,36.8149 ,38.5165,40.1796,41.8277,42.6588, 43.5961,44.6553,45.8572,47.2231,48.7806 ,50.5625,52.6076,54.9626,57.6822, 60.8232,64.4686,68.6822,73.5294,79.0737 ,85.298,92.1637,99.5045,107.091,116.534 ,120.147,123.636,126.981,130.165,133.18 ,136.019,138.684,141.176,143.501,147.0, 150.699,153.573,156.604,159.79,163.125, 166.595,171.571,178.61,182.429,187.869, 189.243,190.331,191.591,193.068,194.825 ,196.955,199.527,202.758,206.921, 215.823,224.328,235.804,250.653,267.864 ,284.737,309.587,323.444,331.384, 336.381,339.765,342.279,344.143,345.607 ,346.782,347.73,348.559,349.262,349.878 ,350.421,350.905,351.342,351.737, 353.991)
ORBIT_NUMBER = 13441
ORBITAL_ECCENTRICITY = 0.577
ORBITAL_INCLINATION = 86.9
ORBITAL_SEMIMAJOR_AXIS = 8851.04
PERIAPSIS_ALTITUDE = 344.56
PERIAPSIS_ARGUMENT_ANGLE = 181.61
PERIAPSIS_TIME = 2014-08-02T16:35:48.000Z
SPACECRAFT_ORIENTATION = (0.0,-1.0,0.0)
^MEX_ORIENTATION_DESC = "MEX_ORIENTATION_DESC.TXT"
SPACECRAFT_POINTING_MODE = NADIR
^MEX_POINTING_DESC = "MEX_POINTING_DESC.TXT"
RIGHT_ASCENSION = -1e+32
DECLINATION = -1e+32
OFFSET_ANGLE = -1e+32
SPACECRAFT_SOLAR_DISTANCE = 2.22123e+08
TARGET_NAME = MARS
/* CAMERA DATA ELEMENTS */
DETECTOR_TEMPERATURE = 18.3705
FOCAL_PLANE_TEMPERATURE = 8.7872
INST_CMPRS_NAME = "DISCRETE COSINE TRANSFORMATION (DCT)"
INST_CMPRS_RATIO = 16.3603
INST_CMPRS_QUALITY = 0
INST_CMPRS_QUANTZ_TBL_ID = 0
INSTRUMENT_TEMPERATURE = 11.234
LENS_TEMPERATURE = 9.195
MACROPIXEL_SIZE = 2
MISSING_FRAMES = 1
PIXEL_SUBSAMPLING_FLAG = N
SIGNAL_CHAIN_ID = 2
/* RADIOMETRIC DATA ELEMENTS */
BANDWIDTH = 88.0
CENTER_FILTER_WAVELENGTH = 538.0
RADIANCE_OFFSET = 0.121186
RADIANCE_SCALING_FACTOR = 0.00651757
REFLECTANCE_SCALING_FACTOR = 0.000276876
MEX:REFLECTANCE_OFFSET = 0.00514817
/* IMAGE OBJECT DEFINITIONS */
OBJECT = IMAGE
  INTERCHANGE_FORMAT = BINARY
  LINES = 4602
  LINE_SAMPLES = 10414
  SAMPLE_TYPE = UNSIGNED_INTEGER
  SAMPLE_BITS = 8
  BANDS = 1
  BAND_STORAGE_TYPE = BAND_SEQUENTIAL
  MAXIMUM = 255
  MEAN = 118.002
  MINIMUM = 21
  STANDARD_DEVIATION = 48.2438
END_OBJECT = IMAGE
/* MAP OBJECT DEFINITIONS */
OBJECT = IMAGE_MAP_PROJECTION
  ^DATA_SET_MAP_PROJECTION_CATALOG= "DSMAP.CAT"
  A_AXIS_RADIUS = 3396.0
  B_AXIS_RADIUS = 3396.0
  C_AXIS_RADIUS = 3396.0
  CENTER_LATITUDE = 0.0
  CENTER_LONGITUDE = 40.0
  COORDINATE_SYSTEM_NAME = PLANETOGRAPHIC
  COORDINATE_SYSTEM_TYPE = "BODY-FIXED ROTATING"
  EASTERNMOST_LONGITUDE = 360.0
  FIRST_STANDARD_PARALLEL = "N/A"
  LINE_FIRST_PIXEL = 1
  LINE_LAST_PIXEL = 4602
  LINE_PROJECTION_OFFSET = 26082.0
  MAP_PROJECTION_ROTATION = 0.0
  MAP_PROJECTION_TYPE = SINUSOIDAL
  MAP_RESOLUTION = 296.356901933333
  MAP_SCALE = 0.2
  MAXIMUM_LATITUDE = 90.0
  MINIMUM_LATITUDE = 72.40300000000001
  POSITIVE_LONGITUDE_DIRECTION = EAST
  REFERENCE_LATITUDE = "N/A"
  REFERENCE_LONGITUDE = "N/A"
  SAMPLE_FIRST_PIXEL = 1
  SAMPLE_LAST_PIXEL = 10414
  SAMPLE_PROJECTION_OFFSET = 3547.0
  SECOND_STANDARD_PARALLEL = "N/A"
  WESTERNMOST_LONGITUDE = 0.0
END_OBJECT = IMAGE_MAP_PROJECTION
/* The JPEG2000 image data file associated with this label. */
OBJECT = COMPRESSED_FILE
  FILE_NAME = "HD441_0000_GR3.JP2"
  RECORD_TYPE = UNDEFINED
  FILE_RECORDS = UNK
  ENCODING_TYPE = "JP2"
  INTERCHANGE_FORMAT = BINARY
  UNCOMPRESSED_FILE_NAME = "HD441_0000_GR3.IMG"
  REQUIRED_STORAGE_BYTES = "47956470"
  ^DESCRIPTION = "JP2INFO.TXT"
END_OBJECT = COMPRESSED_FILE
END
