PDS_VERSION_ID = PDS3
/* FILE DATA ELEMENTS */
RECORD_TYPE = STREAM
/* POINTERS TO DATA OBJECTS */
^COMPRESSED_FILE = "HD442_0000_GR3.JP2"
/* IDENTIFICATION DATA ELEMENTS */
DATA_SET_ID = "MEX-M-HRSC-5-REFDR-MAPPROJECTED-V3.0"
DATA_SET_NAME = "MARS EXPRESS HRSC MAP PROJECTED REFDR V3.0"
DETECTOR_ID = MEX_HRSC_GREEN
EVENT_TYPE = "MARS-CLOUD-VARIABLE-Gl-At"
INSTRUMENT_HOST_ID = MEX
INSTRUMENT_HOST_NAME = "MARS EXPRESS"
INSTRUMENT_ID = HRSC
INSTRUMENT_NAME = "HIGH RESOLUTION STEREO CAMERA"
MISSION_NAME = "MARS EXPRESS"
MISSION_PHASE_NAME = ME_Phase_30
PROCESSING_LEVEL_ID = 3
PRODUCT_CREATION_TIME = 2016-10-29T11:22:08.000Z
PRODUCT_ID = "HD442_0000_GR3.JP2"
RELEASE_ID = 0124
REVISION_ID = 0000
/* QUALITY DATA ELEMENTS */
DATA_QUALITY_ID = 1
DATA_QUALITY_DESC = "Data calculated based on original SPICE kernels"
/* TIME DATA ELEMENTS */
SPACECRAFT_CLOCK_START_COUNT = "1/0355099594.09045"
SPACECRAFT_CLOCK_STOP_COUNT = "1/0355101152.48786"
START_TIME = 2014-08-02T22:46:39.705Z
STOP_TIME = 2014-08-02T23:07:34.366Z
/* ORBITAL DATA ELEMENTS */
ASCENDING_NODE_LONGITUDE = 321.41
MAXIMUM_RESOLUTION = 166.6
FOOTPRINT_POINT_LATITUDE = (73.882,74.0241,74.149,74.2566,74.3469, 74.4198,74.475,74.5127,74.5351,74.4867, 74.3689,74.183,73.9308,73.6147,73.4333, 73.2366,73.0253,72.7995,72.5597,72.348, 73.0142,73.6897,74.3735,75.064,75.7597, 76.4579,77.1556,77.8481,78.7027,79.3602 ,79.9867,80.5688,81.0889,81.5252, 81.8532,82.0475,82.0869,82.0847,82.0389 ,81.9485,81.8131,81.6328,81.4084, 81.1395,80.8331,80.4838,80.0996,79.6813 ,79.2305,78.7492,78.239,77.7016,77.1384 ,77.018,77.4584,77.6798,77.9018,78.0736 ,78.3,78.4383,78.5438,78.551,79.6189, 80.3267,81.023,81.708,82.3806,83.0404, 83.6876,84.3202,84.937,85.535,86.1113, 86.6577,87.165,87.613,87.968,88.186, 88.221,88.0706,87.7779,87.395,86.9594, 86.4937,86.0113,85.0235,84.0287,83.0397 ,82.0627,80.855,79.9124,78.9862,78.0764 ,77.1828,76.3048,75.4426,74.5952, 73.7622,73.882)
FOOTPRINT_POINT_LONGITUDE = (251.846,253.76,255.697,257.653,259.628 ,261.619,263.622,265.633,269.668, 273.687,277.657,281.558,285.364,289.054 ,290.852,292.618,294.349,296.042, 297.697,299.35,300.235,301.242,302.393, 303.71,305.224,306.968,308.985,311.331, 314.84,318.166,322.063,326.616,331.916, 338.023,344.93,352.53,356.524,0.596226, 4.70399,8.80027,12.8395,16.7797,20.5847 ,24.2243,27.6813,30.936,33.9887,36.8383 ,39.4882,41.9463,44.2217,46.3254, 48.2684,50.9338,54.9753,57.3957,60.2133 ,62.7972,67.1384,70.9354,76.2301, 81.5979,84.1442,84.8998,85.7568,86.7333 ,87.8672,89.1988,90.7711,92.6728, 95.0042,97.9291,101.67,106.612,113.282, 122.509,135.275,151.943,170.811,188.286 ,202.03,212.054,219.288,224.585,228.59, 234.123,237.805,240.388,242.282,244.101 ,245.226,246.16,246.946,247.623,248.216 ,248.732,249.196,249.618,251.846)
ORBIT_NUMBER = 13442
ORBITAL_ECCENTRICITY = 0.578
ORBITAL_INCLINATION = 86.9
ORBITAL_SEMIMAJOR_AXIS = 8861.06
PERIAPSIS_ALTITUDE = 343.8
PERIAPSIS_ARGUMENT_ANGLE = 181.43
PERIAPSIS_TIME = 2014-08-02T23:35:14.000Z
SPACECRAFT_ORIENTATION = (0.0,-1.0,0.0)
^MEX_ORIENTATION_DESC = "MEX_ORIENTATION_DESC.TXT"
SPACECRAFT_POINTING_MODE = NADIR
^MEX_POINTING_DESC = "MEX_POINTING_DESC.TXT"
RIGHT_ASCENSION = -1e+32
DECLINATION = -1e+32
OFFSET_ANGLE = -1e+32
SPACECRAFT_SOLAR_DISTANCE = 2.22067e+08
TARGET_NAME = MARS
/* CAMERA DATA ELEMENTS */
DETECTOR_TEMPERATURE = 18.5744
FOCAL_PLANE_TEMPERATURE = 8.9911
INST_CMPRS_NAME = "DISCRETE COSINE TRANSFORMATION (DCT)"
INST_CMPRS_RATIO = 16.5318
INST_CMPRS_QUALITY = 0
INST_CMPRS_QUANTZ_TBL_ID = 0
INSTRUMENT_TEMPERATURE = 11.6418
LENS_TEMPERATURE = 9.3989
MACROPIXEL_SIZE = 2
MISSING_FRAMES = 1
PIXEL_SUBSAMPLING_FLAG = N
SIGNAL_CHAIN_ID = 2
/* RADIOMETRIC DATA ELEMENTS */
BANDWIDTH = 88.0
CENTER_FILTER_WAVELENGTH = 538.0
RADIANCE_OFFSET = 0.086561
RADIANCE_SCALING_FACTOR = 0.00617808
REFLECTANCE_SCALING_FACTOR = 0.000262323
MEX:REFLECTANCE_OFFSET = 0.00367541
/* IMAGE OBJECT DEFINITIONS */
OBJECT = IMAGE
  INTERCHANGE_FORMAT = BINARY
  LINES = 3777
  LINE_SAMPLES = 8111
  SAMPLE_TYPE = UNSIGNED_INTEGER
  SAMPLE_BITS = 8
  BANDS = 1
  BAND_STORAGE_TYPE = BAND_SEQUENTIAL
  MAXIMUM = 255
  MEAN = 114.68
  MINIMUM = 1
  STANDARD_DEVIATION = 52.1001
END_OBJECT = IMAGE
/* MAP OBJECT DEFINITIONS */
OBJECT = IMAGE_MAP_PROJECTION
  ^DATA_SET_MAP_PROJECTION_CATALOG= "DSMAP.CAT"
  A_AXIS_RADIUS = 3396.0
  B_AXIS_RADIUS = 3396.0
  C_AXIS_RADIUS = 3396.0
  CENTER_LATITUDE = 90.0
  CENTER_LONGITUDE = 0.0
  COORDINATE_SYSTEM_NAME = PLANETOGRAPHIC
  COORDINATE_SYSTEM_TYPE = "BODY-FIXED ROTATING"
  EASTERNMOST_LONGITUDE = 360.0
  FIRST_STANDARD_PARALLEL = "N/A"
  LINE_FIRST_PIXEL = 1
  LINE_LAST_PIXEL = 3777
  LINE_PROJECTION_OFFSET = 1335.0
  MAP_PROJECTION_ROTATION = 0.0
  MAP_PROJECTION_TYPE = STEREOGRAPHIC
  MAP_RESOLUTION = 296.356901933333
  MAP_SCALE = 0.2
  MAXIMUM_LATITUDE = 90.0
  MINIMUM_LATITUDE = 72.348
  POSITIVE_LONGITUDE_DIRECTION = EAST
  REFERENCE_LATITUDE = "N/A"
  REFERENCE_LONGITUDE = "N/A"
  SAMPLE_FIRST_PIXEL = 1
  SAMPLE_LAST_PIXEL = 8111
  SAMPLE_PROJECTION_OFFSET = 4729.0
  SECOND_STANDARD_PARALLEL = "N/A"
  WESTERNMOST_LONGITUDE = 0.0
END_OBJECT = IMAGE_MAP_PROJECTION
/* The JPEG2000 image data file associated with this label. */
OBJECT = COMPRESSED_FILE
  FILE_NAME = "HD442_0000_GR3.JP2"
  RECORD_TYPE = UNDEFINED
  FILE_RECORDS = UNK
  ENCODING_TYPE = "JP2"
  INTERCHANGE_FORMAT = BINARY
  UNCOMPRESSED_FILE_NAME = "HD442_0000_GR3.IMG"
  REQUIRED_STORAGE_BYTES = "30675802"
  ^DESCRIPTION = "JP2INFO.TXT"
END_OBJECT = COMPRESSED_FILE
END
