PDS_VERSION_ID = PDS3
/* FILE DATA ELEMENTS */
RECORD_TYPE = STREAM
/* POINTERS TO DATA OBJECTS */
^COMPRESSED_FILE = "HD492_0000_RE3.JP2"
/* IDENTIFICATION DATA ELEMENTS */
DATA_SET_ID = "MEX-M-HRSC-5-REFDR-MAPPROJECTED-V3.0"
DATA_SET_NAME = "MARS EXPRESS HRSC MAP PROJECTED REFDR V3.0"
DETECTOR_ID = MEX_HRSC_RED
EVENT_TYPE = "MARS-CLOUD-VARIABLE-Gl-At"
INSTRUMENT_HOST_ID = MEX
INSTRUMENT_HOST_NAME = "MARS EXPRESS"
INSTRUMENT_ID = HRSC
INSTRUMENT_NAME = "HIGH RESOLUTION STEREO CAMERA"
MISSION_NAME = "MARS EXPRESS"
MISSION_PHASE_NAME = ME_Phase_30
PROCESSING_LEVEL_ID = 3
PRODUCT_CREATION_TIME = 2016-10-29T11:22:08.000Z
PRODUCT_ID = "HD492_0000_RE3.JP2"
RELEASE_ID = 0124
REVISION_ID = 0000
/* QUALITY DATA ELEMENTS */
DATA_QUALITY_ID = 1
DATA_QUALITY_DESC = "Data calculated based on original SPICE kernels"
/* TIME DATA ELEMENTS */
SPACECRAFT_CLOCK_START_COUNT = "1/0356358667.08457"
SPACECRAFT_CLOCK_STOP_COUNT = "1/0356359871.37827"
START_TIME = 2014-08-17T12:41:01.715Z
STOP_TIME = 2014-08-17T12:51:15.048Z
/* ORBITAL DATA ELEMENTS */
ASCENDING_NODE_LONGITUDE = 320.46
MAXIMUM_RESOLUTION = 110.9
FOOTPRINT_POINT_LATITUDE = (76.0621,76.0669,76.0404,75.9536, 75.8545,75.7258,75.4555,75.253,75.0236, 74.7684,74.4878,74.574,75.3081,75.7952, 76.2808,76.7702,77.2528,77.734,78.2108, 78.6842,79.1534,79.6171,80.0724,80.5176 ,80.9507,81.3714,81.7725,82.1551, 82.5051,82.823,83.2355,83.5615,83.7231, 83.8396,83.9093,83.9315,83.9074,83.839, 83.6594,83.4927,83.2936,83.0666,82.8128 ,82.2403,81.6026,80.921,80.2061,79.4713 ,78.7208,77.9619,77.1987,77.3456, 77.5945,77.8012,77.956,78.0651,78.1594, 78.6038,79.4772,80.1474,81.0456,81.9642 ,82.9,83.8552,84.8205,85.8021,86.2999, 86.8015,87.3075,87.8184,88.3336,88.8526 ,89.3736,89.8541,89.534,88.9993,88.454, 87.9033,87.3451,86.4963,85.9277,85.3424 ,84.7639,83.8951,83.3199,82.7476, 82.1789,81.6132,81.0503,80.4906,79.934, 79.3801,78.8297,78.2827,77.7402,76.9301 ,76.3943,75.8617,76.0621)
FOOTPRINT_POINT_LONGITUDE = (188.02,190.633,193.232,196.771,199.306 ,201.796,205.727,208.065,210.339, 212.544,214.679,216.62,217.715,218.521, 219.395,220.352,221.391,222.527,223.77, 225.134,226.636,228.294,230.123,232.146 ,234.387,236.879,239.635,242.689, 245.999,249.588,255.521,262.085,266.724 ,271.541,276.463,281.404,286.288,291.05 ,297.871,302.138,306.094,309.736,313.15 ,319.2,324.266,328.478,332.025,335.007, 337.55,339.727,341.604,343.87,347.354, 350.947,354.424,357.755,2.73232,3.99994 ,4.0871,4.16984,4.27554,4.4108,4.57732, 4.79287,5.05146,5.41102,5.65657,5.9701, 6.39681,7.01474,8.00951,9.88862,14.9062 ,58.2708,169.321,177.246,179.675,180.87 ,181.58,182.241,182.561,182.777,182.993 ,183.247,183.387,183.511,183.623, 183.725,183.818,183.905,183.988,184.065 ,184.14,184.212,184.284,184.385,184.45, 184.515,188.02)
ORBIT_NUMBER = 13492
ORBITAL_ECCENTRICITY = 0.577
ORBITAL_INCLINATION = 86.88
ORBITAL_SEMIMAJOR_AXIS = 8854.19
PERIAPSIS_ALTITUDE = 349.5
PERIAPSIS_ARGUMENT_ANGLE = 172.78
PERIAPSIS_TIME = 2014-08-17T13:10:40.000Z
SPACECRAFT_ORIENTATION = (0.0,-1.0,0.0)
^MEX_ORIENTATION_DESC = "MEX_ORIENTATION_DESC.TXT"
SPACECRAFT_POINTING_MODE = NADIR
^MEX_POINTING_DESC = "MEX_POINTING_DESC.TXT"
RIGHT_ASCENSION = -1e+32
DECLINATION = -1e+32
OFFSET_ANGLE = -1e+32
SPACECRAFT_SOLAR_DISTANCE = 2.19311e+08
TARGET_NAME = MARS
/* CAMERA DATA ELEMENTS */
DETECTOR_TEMPERATURE = 18.7783
FOCAL_PLANE_TEMPERATURE = 8.1755
INST_CMPRS_NAME = "DISCRETE COSINE TRANSFORMATION (DCT)"
INST_CMPRS_RATIO = 13.8926
INST_CMPRS_QUALITY = 0
INST_CMPRS_QUANTZ_TBL_ID = 0
INSTRUMENT_TEMPERATURE = 11.234
LENS_TEMPERATURE = 8.7872
MACROPIXEL_SIZE = 2
MISSING_FRAMES = 0
PIXEL_SUBSAMPLING_FLAG = N
SIGNAL_CHAIN_ID = 3
/* RADIOMETRIC DATA ELEMENTS */
BANDWIDTH = 48.0
CENTER_FILTER_WAVELENGTH = 748.0
RADIANCE_OFFSET = 0.0630317
RADIANCE_SCALING_FACTOR = 0.00191567
REFLECTANCE_SCALING_FACTOR = 0.000210275
MEX:REFLECTANCE_OFFSET = 0.00691874
/* IMAGE OBJECT DEFINITIONS */
OBJECT = IMAGE
  INTERCHANGE_FORMAT = BINARY
  LINES = 15855
  LINE_SAMPLES = 6746
  SAMPLE_TYPE = UNSIGNED_INTEGER
  SAMPLE_BITS = 8
  BANDS = 1
  BAND_STORAGE_TYPE = BAND_SEQUENTIAL
  MAXIMUM = 255
  MEAN = 88.6261
  MINIMUM = 1
  STANDARD_DEVIATION = 50.1947
END_OBJECT = IMAGE
/* MAP OBJECT DEFINITIONS */
OBJECT = IMAGE_MAP_PROJECTION
  ^DATA_SET_MAP_PROJECTION_CATALOG= "DSMAP.CAT"
  A_AXIS_RADIUS = 3396.0
  B_AXIS_RADIUS = 3396.0
  C_AXIS_RADIUS = 3396.0
  CENTER_LATITUDE = 90.0
  CENTER_LONGITUDE = 0.0
  COORDINATE_SYSTEM_NAME = PLANETOGRAPHIC
  COORDINATE_SYSTEM_TYPE = "BODY-FIXED ROTATING"
  EASTERNMOST_LONGITUDE = 360.0
  FIRST_STANDARD_PARALLEL = "N/A"
  LINE_FIRST_PIXEL = 1
  LINE_LAST_PIXEL = 15855
  LINE_PROJECTION_OFFSET = 8523.0
  MAP_PROJECTION_ROTATION = 0.0
  MAP_PROJECTION_TYPE = STEREOGRAPHIC
  MAP_RESOLUTION = 592.713803866667
  MAP_SCALE = 0.1
  MAXIMUM_LATITUDE = 90.0
  MINIMUM_LATITUDE = 74.48779999999999
  POSITIVE_LONGITUDE_DIRECTION = EAST
  REFERENCE_LATITUDE = "N/A"
  REFERENCE_LONGITUDE = "N/A"
  SAMPLE_FIRST_PIXEL = 1
  SAMPLE_LAST_PIXEL = 6746
  SAMPLE_PROJECTION_OFFSET = 6147.0
  SECOND_STANDARD_PARALLEL = "N/A"
  WESTERNMOST_LONGITUDE = 0.0
END_OBJECT = IMAGE_MAP_PROJECTION
/* The JPEG2000 image data file associated with this label. */
OBJECT = COMPRESSED_FILE
  FILE_NAME = "HD492_0000_RE3.JP2"
  RECORD_TYPE = UNDEFINED
  FILE_RECORDS = UNK
  ENCODING_TYPE = "JP2"
  INTERCHANGE_FORMAT = BINARY
  UNCOMPRESSED_FILE_NAME = "HD492_0000_RE3.IMG"
  REQUIRED_STORAGE_BYTES = "106991560"
  ^DESCRIPTION = "JP2INFO.TXT"
END_OBJECT = COMPRESSED_FILE
END
