PDS_VERSION_ID = PDS3
/* FILE DATA ELEMENTS */
RECORD_TYPE = STREAM
/* POINTERS TO DATA OBJECTS */
^COMPRESSED_FILE = "HD511_0000_P23.JP2"
/* IDENTIFICATION DATA ELEMENTS */
DATA_SET_ID = "MEX-M-HRSC-5-REFDR-MAPPROJECTED-V3.0"
DATA_SET_NAME = "MARS EXPRESS HRSC MAP PROJECTED REFDR V3.0"
DETECTOR_ID = MEX_HRSC_P2
EVENT_TYPE = "MARS-TERMINATOR-CALIBRATION-Tc"
INSTRUMENT_HOST_ID = MEX
INSTRUMENT_HOST_NAME = "MARS EXPRESS"
INSTRUMENT_ID = HRSC
INSTRUMENT_NAME = "HIGH RESOLUTION STEREO CAMERA"
MISSION_NAME = "MARS EXPRESS"
MISSION_PHASE_NAME = ME_Phase_30
PROCESSING_LEVEL_ID = 3
PRODUCT_CREATION_TIME = 2016-10-29T11:58:31.000Z
PRODUCT_ID = "HD511_0000_P23.JP2"
RELEASE_ID = 0125
REVISION_ID = 0000
/* QUALITY DATA ELEMENTS */
DATA_QUALITY_ID = 1
DATA_QUALITY_DESC = "Data calculated based on original SPICE kernels"
/* TIME DATA ELEMENTS */
SPACECRAFT_CLOCK_START_COUNT = "1/0356832274.09031"
SPACECRAFT_CLOCK_STOP_COUNT = "1/0356832743.04015"
START_TIME = 2014-08-23T00:08:01.982Z
STOP_TIME = 2014-08-23T00:11:46.731Z
/* ORBITAL DATA ELEMENTS */
ASCENDING_NODE_LONGITUDE = 320.1
MAXIMUM_RESOLUTION = 2622.4
FOOTPRINT_POINT_LATITUDE = (-44.4712,-42.6545,-40.0904,-36.3138, -33.9623,-30.5905,-31.3992,-27.6277, -25.4859,-22.8825,-19.7615,-17.4522, -15.5253,-12.2713,-9.51244,-6.75968, -2.45998,2.1966,5.78107,9.33345,12.34, 15.2361,18.0511,20.8107,23.5346,26.2415 ,29.9728,32.5437,35.3282,38.1789, 41.1203,44.1797,47.3976,50.8214,54.5215 ,58.6072,63.2621,65.901,68.8352,72.1931 ,76.2304,78.6622,81.5003,85.1133,87.092 ,86.9301,84.6801,83.234,80.2996,80.0277 ,77.4143,76.7213,72.2585,69.039,66.4789 ,59.5036,57.0783,54.0372,49.8049, 50.5438,50.7883,50.6285,49.5414,48.3026 ,46.9826,45.6251,44.2747,42.2438, 40.0778,37.3123,35.3926,31.8045,29.3518 ,25.5591,22.6984,20.4383,16.4914, 14.0217,11.3509,8.78055,5.28354, 0.146022,-2.50399,-5.51716,-9.65334, -15.674,-20.4188,-24.2801,-27.6329, -31.5342,-36.6936,-40.1984,-45.9673, -50.1544,-47.1289,-48.0683,-46.5364, -45.6478,-43.7752,-44.4712)
FOOTPRINT_POINT_LONGITUDE = (463.975,467.067,469.638,471.936, 473.553,476.085,479.543,479.134,480.868 ,477.432,473.824,471.434,469.593, 466.737,464.531,462.488,459.561,456.72, 454.713,452.843,451.335,449.947,448.654 ,447.429,446.254,445.125,443.625, 442.619,441.546,440.466,439.365,438.224 ,437.023,435.731,434.297,432.635,430.57 ,429.267,427.638,425.419,421.852, 418.795,413.312,397.249,361.355,311.726 ,337.623,301.722,313.326,334.265, 321.847,333.02,334.664,334.685,334.945, 337.608,339.204,341.091,338.733,345.433 ,351.025,358.397,367.731,373.756, 378.494,382.439,385.74,389.965,393.757, 397.841,400.319,404.325,406.712,409.996 ,412.185,413.78,416.324,417.775,419.252 ,420.595,422.304,424.62,425.742,426.964 ,428.57,430.78,432.461,433.799,434.941, 436.294,438.109,439.393,441.631,444.503 ,445.127,449.767,452.949,457.53,460.168 ,463.975)
ORBIT_NUMBER = 13511
ORBITAL_ECCENTRICITY = 0.577
ORBITAL_INCLINATION = 86.9
ORBITAL_SEMIMAJOR_AXIS = 8857.38
PERIAPSIS_ALTITUDE = 350.7
PERIAPSIS_ARGUMENT_ANGLE = 169.48
PERIAPSIS_TIME = 2014-08-23T02:00:39.000Z
SPACECRAFT_ORIENTATION = (0.0,-1.0,0.0)
^MEX_ORIENTATION_DESC = "MEX_ORIENTATION_DESC.TXT"
SPACECRAFT_POINTING_MODE = INERT
^MEX_POINTING_DESC = "MEX_POINTING_DESC.TXT"
RIGHT_ASCENSION = 185.0
DECLINATION = 5.399
OFFSET_ANGLE = -1e+32
SPACECRAFT_SOLAR_DISTANCE = 2.18296e+08
TARGET_NAME = MARS
/* CAMERA DATA ELEMENTS */
DETECTOR_TEMPERATURE = 18.9822
FOCAL_PLANE_TEMPERATURE = 8.5833
INST_CMPRS_NAME = "DISCRETE COSINE TRANSFORMATION (DCT)"
INST_CMPRS_RATIO = 17.096
INST_CMPRS_QUALITY = 0
INST_CMPRS_QUANTZ_TBL_ID = 0
INSTRUMENT_TEMPERATURE = 11.234
LENS_TEMPERATURE = 9.195
MACROPIXEL_SIZE = 8
MISSING_FRAMES = 0
PIXEL_SUBSAMPLING_FLAG = N
SIGNAL_CHAIN_ID = 2
/* RADIOMETRIC DATA ELEMENTS */
BANDWIDTH = 177.0
CENTER_FILTER_WAVELENGTH = 676.5
RADIANCE_OFFSET = 0.0
RADIANCE_SCALING_FACTOR = 0.0183763
REFLECTANCE_SCALING_FACTOR = 0.000464369
MEX:REFLECTANCE_OFFSET = 0.0
/* IMAGE OBJECT DEFINITIONS */
OBJECT = IMAGE
  INTERCHANGE_FORMAT = BINARY
  LINES = 2570
  LINE_SAMPLES = 2007
  SAMPLE_TYPE = UNSIGNED_INTEGER
  SAMPLE_BITS = 8
  BANDS = 1
  BAND_STORAGE_TYPE = BAND_SEQUENTIAL
  MAXIMUM = 255
  MEAN = 128.201
  MINIMUM = 1
  STANDARD_DEVIATION = 111.288
END_OBJECT = IMAGE
/* MAP OBJECT DEFINITIONS */
OBJECT = IMAGE_MAP_PROJECTION
  ^DATA_SET_MAP_PROJECTION_CATALOG= "DSMAP.CAT"
  A_AXIS_RADIUS = 3396.0
  B_AXIS_RADIUS = 3396.0
  C_AXIS_RADIUS = 3396.0
  CENTER_LATITUDE = 0.0
  CENTER_LONGITUDE = 69.0
  COORDINATE_SYSTEM_NAME = PLANETOGRAPHIC
  COORDINATE_SYSTEM_TYPE = "BODY-FIXED ROTATING"
  EASTERNMOST_LONGITUDE = 120.868
  FIRST_STANDARD_PARALLEL = "N/A"
  LINE_FIRST_PIXEL = 1
  LINE_LAST_PIXEL = 2570
  LINE_PROJECTION_OFFSET = 1605.0
  MAP_PROJECTION_ROTATION = 0.0
  MAP_PROJECTION_TYPE = SINUSOIDAL
  MAP_RESOLUTION = 18.5223063708333
  MAP_SCALE = 3.2
  MAXIMUM_LATITUDE = 87.092
  MINIMUM_LATITUDE = -50.1544
  POSITIVE_LONGITUDE_DIRECTION = EAST
  REFERENCE_LATITUDE = "N/A"
  REFERENCE_LONGITUDE = "N/A"
  SAMPLE_FIRST_PIXEL = 1
  SAMPLE_LAST_PIXEL = 2007
  SAMPLE_PROJECTION_OFFSET = 1105.0
  SECOND_STANDARD_PARALLEL = "N/A"
  WESTERNMOST_LONGITUDE = -58.278
END_OBJECT = IMAGE_MAP_PROJECTION
/* The JPEG2000 image data file associated with this label. */
OBJECT = COMPRESSED_FILE
  FILE_NAME = "HD511_0000_P23.JP2"
  RECORD_TYPE = UNDEFINED
  FILE_RECORDS = UNK
  ENCODING_TYPE = "JP2"
  INTERCHANGE_FORMAT = BINARY
  UNCOMPRESSED_FILE_NAME = "HD511_0000_P23.IMG"
  REQUIRED_STORAGE_BYTES = "5178060"
  ^DESCRIPTION = "JP2INFO.TXT"
END_OBJECT = COMPRESSED_FILE
END
