PDS_VERSION_ID = PDS3
/* FILE DATA ELEMENTS */
RECORD_TYPE = STREAM
/* POINTERS TO DATA OBJECTS */
^COMPRESSED_FILE = "HD535_0000_BL3.JP2"
/* IDENTIFICATION DATA ELEMENTS */
DATA_SET_ID = "MEX-M-HRSC-5-REFDR-MAPPROJECTED-V3.0"
DATA_SET_NAME = "MARS EXPRESS HRSC MAP PROJECTED REFDR V3.0"
DETECTOR_ID = MEX_HRSC_BLUE
EVENT_TYPE = "MARS-CLOUD-VARIABLE-At"
INSTRUMENT_HOST_ID = MEX
INSTRUMENT_HOST_NAME = "MARS EXPRESS"
INSTRUMENT_ID = HRSC
INSTRUMENT_NAME = "HIGH RESOLUTION STEREO CAMERA"
MISSION_NAME = "MARS EXPRESS"
MISSION_PHASE_NAME = ME_Phase_30
PROCESSING_LEVEL_ID = 3
PRODUCT_CREATION_TIME = 2016-10-29T11:58:31.000Z
PRODUCT_ID = "HD535_0000_BL3.JP2"
RELEASE_ID = 0125
REVISION_ID = 0000
/* QUALITY DATA ELEMENTS */
DATA_QUALITY_ID = 1
DATA_QUALITY_DESC = "Data calculated based on original SPICE kernels"
/* TIME DATA ELEMENTS */
SPACECRAFT_CLOCK_START_COUNT = "1/0357443020.08249"
SPACECRAFT_CLOCK_STOP_COUNT = "1/0357444408.04619"
START_TIME = 2014-08-30T01:44:25.056Z
STOP_TIME = 2014-08-30T02:04:56.497Z
/* ORBITAL DATA ELEMENTS */
ASCENDING_NODE_LONGITUDE = 319.63
MAXIMUM_RESOLUTION = 56.6
FOOTPRINT_POINT_LATITUDE = (30.6506,29.4569,28.2588,27.0572, 25.8529,24.6456,23.4353,22.223,21.009, 19.7934,18.5765,16.7505,15.533,14.316, 13.0999,11.885,10.6719,9.46082,8.25216, 7.04604,5.24083,2.84998,0.476641, -1.86826,-3.07105,-4.28943,-5.52881, -6.80019,-8.09305,-9.42343,-10.7979, -12.2001,-13.6428,-15.1304,-16.6652, -18.2491,-19.8904,-21.5896,-23.3549, -25.1892,-27.0987,-29.0905,-31.1729, -33.3483,-35.6282,-38.0192,-39.2595, -40.5322,-40.7084,-40.6673,-39.3973, -38.1581,-36.9489,-34.616,-32.3906, -30.261,-28.2226,-26.2688,-24.3946, -22.5915,-20.8573,-19.1843,-17.5677, -16.0062,-14.4924,-13.025,-11.5937, -10.2067,-8.85349,-7.54354,-6.25329, -4.99508,-3.76875,-2.56079,-1.36628, 0.982037,3.36125,4.55701,5.7568,6.96041 ,8.16739,9.37776,10.5892,11.803,13.0187 ,14.2355,16.0623,17.2805,18.4986, 19.7163,20.9337,22.1491,23.3625,24.5741 ,25.7835,26.9902,28.1924,29.3922,30.588 ,30.6506)
FOOTPRINT_POINT_LONGITUDE = (283.539,283.574,283.607,283.635, 283.659,283.68,283.698,283.713,283.725, 283.734,283.742,283.748,283.749,283.748 ,283.744,283.738,283.73,283.721,283.709 ,283.696,283.676,283.64,283.598,283.539 ,283.52,283.49,283.453,283.418,283.367, 283.326,283.292,283.243,283.189,283.131 ,283.067,282.998,282.922,282.839, 282.747,282.646,282.534,282.41,282.275, 282.116,281.937,281.73,281.615,281.491, 284.321,286.485,286.347,286.223,286.111 ,285.918,285.757,285.629,285.522, 285.433,285.357,285.293,285.237,285.19, 285.15,285.116,285.087,285.061,285.051, 285.033,285.022,284.997,284.995,284.987 ,284.97,284.966,284.976,284.959,284.963 ,284.965,284.968,284.973,284.979, 284.986,284.992,284.999,285.006,285.015 ,285.029,285.039,285.049,285.06,285.073 ,285.085,285.097,285.11,285.125,285.139 ,285.152,285.168,285.183,283.539)
ORBIT_NUMBER = 13535
ORBITAL_ECCENTRICITY = 0.577
ORBITAL_INCLINATION = 86.89
ORBITAL_SEMIMAJOR_AXIS = 8854.98
PERIAPSIS_ALTITUDE = 352.8
PERIAPSIS_ARGUMENT_ANGLE = 165.36
PERIAPSIS_TIME = 2014-08-30T01:48:28.000Z
SPACECRAFT_ORIENTATION = (0.0,-1.0,0.0)
^MEX_ORIENTATION_DESC = "MEX_ORIENTATION_DESC.TXT"
SPACECRAFT_POINTING_MODE = NADIR
^MEX_POINTING_DESC = "MEX_POINTING_DESC.TXT"
RIGHT_ASCENSION = -1e+32
DECLINATION = -1e+32
OFFSET_ANGLE = -1e+32
SPACECRAFT_SOLAR_DISTANCE = 2.17045e+08
TARGET_NAME = MARS
/* CAMERA DATA ELEMENTS */
DETECTOR_TEMPERATURE = 18.9822
FOCAL_PLANE_TEMPERATURE = 8.7872
INST_CMPRS_NAME = "DISCRETE COSINE TRANSFORMATION (DCT)"
INST_CMPRS_RATIO = 5.12481
INST_CMPRS_QUALITY = 0
INST_CMPRS_QUANTZ_TBL_ID = 0
INSTRUMENT_TEMPERATURE = 11.8457
LENS_TEMPERATURE = 9.3989
MACROPIXEL_SIZE = 4
MISSING_FRAMES = 0
PIXEL_SUBSAMPLING_FLAG = N
SIGNAL_CHAIN_ID = 2
/* RADIOMETRIC DATA ELEMENTS */
BANDWIDTH = 76.0
CENTER_FILTER_WAVELENGTH = 444.0
RADIANCE_OFFSET = 0.0
RADIANCE_SCALING_FACTOR = 0.000715372
REFLECTANCE_SCALING_FACTOR = 3.46251e-05
MEX:REFLECTANCE_OFFSET = 0.0
/* IMAGE OBJECT DEFINITIONS */
OBJECT = IMAGE
  INTERCHANGE_FORMAT = BINARY
  LINES = 84608
  LINE_SAMPLES = 4569
  SAMPLE_TYPE = UNSIGNED_INTEGER
  SAMPLE_BITS = 8
  BANDS = 1
  BAND_STORAGE_TYPE = BAND_SEQUENTIAL
  MAXIMUM = 255
  MEAN = 118.841
  MINIMUM = 1
  STANDARD_DEVIATION = 37.638
END_OBJECT = IMAGE
/* MAP OBJECT DEFINITIONS */
OBJECT = IMAGE_MAP_PROJECTION
  ^DATA_SET_MAP_PROJECTION_CATALOG= "DSMAP.CAT"
  A_AXIS_RADIUS = 3396.0
  B_AXIS_RADIUS = 3396.0
  C_AXIS_RADIUS = 3396.0
  CENTER_LATITUDE = 0.0
  CENTER_LONGITUDE = 284.0
  COORDINATE_SYSTEM_NAME = PLANETOGRAPHIC
  COORDINATE_SYSTEM_TYPE = "BODY-FIXED ROTATING"
  EASTERNMOST_LONGITUDE = 286.485
  FIRST_STANDARD_PARALLEL = "N/A"
  LINE_FIRST_PIXEL = 1
  LINE_LAST_PIXEL = 84608
  LINE_PROJECTION_OFFSET = 36341.0
  MAP_PROJECTION_ROTATION = 0.0
  MAP_PROJECTION_TYPE = SINUSOIDAL
  MAP_RESOLUTION = 1185.42760773333
  MAP_SCALE = 0.05
  MAXIMUM_LATITUDE = 30.6506
  MINIMUM_LATITUDE = -40.7084
  POSITIVE_LONGITUDE_DIRECTION = EAST
  REFERENCE_LATITUDE = "N/A"
  REFERENCE_LONGITUDE = "N/A"
  SAMPLE_FIRST_PIXEL = 1
  SAMPLE_LAST_PIXEL = 4569
  SAMPLE_PROJECTION_OFFSET = 2300.0
  SECOND_STANDARD_PARALLEL = "N/A"
  WESTERNMOST_LONGITUDE = 281.491
END_OBJECT = IMAGE_MAP_PROJECTION
/* The JPEG2000 image data file associated with this label. */
OBJECT = COMPRESSED_FILE
  FILE_NAME = "HD535_0000_BL3.JP2"
  RECORD_TYPE = UNDEFINED
  FILE_RECORDS = UNK
  ENCODING_TYPE = "JP2"
  INTERCHANGE_FORMAT = BINARY
  UNCOMPRESSED_FILE_NAME = "HD535_0000_BL3.IMG"
  REQUIRED_STORAGE_BYTES = "386601366"
  ^DESCRIPTION = "JP2INFO.TXT"
END_OBJECT = COMPRESSED_FILE
END
