PDS_VERSION_ID = PDS3
/* FILE DATA ELEMENTS */
RECORD_TYPE = STREAM
/* POINTERS TO DATA OBJECTS */
^COMPRESSED_FILE = "HD547_0000_P23.JP2"
/* IDENTIFICATION DATA ELEMENTS */
DATA_SET_ID = "MEX-M-HRSC-5-REFDR-MAPPROJECTED-V3.0"
DATA_SET_NAME = "MARS EXPRESS HRSC MAP PROJECTED REFDR V3.0"
DETECTOR_ID = MEX_HRSC_P2
EVENT_TYPE = "MARS-LOCAL-VARIABLE-Lc-Ot-At"
INSTRUMENT_HOST_ID = MEX
INSTRUMENT_HOST_NAME = "MARS EXPRESS"
INSTRUMENT_ID = HRSC
INSTRUMENT_NAME = "HIGH RESOLUTION STEREO CAMERA"
MISSION_NAME = "MARS EXPRESS"
MISSION_PHASE_NAME = ME_Phase_31
PROCESSING_LEVEL_ID = 3
PRODUCT_CREATION_TIME = 2016-10-29T11:58:31.000Z
PRODUCT_ID = "HD547_0000_P23.JP2"
RELEASE_ID = 0125
REVISION_ID = 0000
/* QUALITY DATA ELEMENTS */
DATA_QUALITY_ID = 1
DATA_QUALITY_DESC = "Data calculated based on original SPICE kernels"
/* TIME DATA ELEMENTS */
SPACECRAFT_CLOCK_START_COUNT = "1/0357745469.07359"
SPACECRAFT_CLOCK_STOP_COUNT = "1/0357745777.14819"
START_TIME = 2014-09-02T13:45:31.542Z
STOP_TIME = 2014-09-02T13:49:22.637Z
/* ORBITAL DATA ELEMENTS */
ASCENDING_NODE_LONGITUDE = 319.4
MAXIMUM_RESOLUTION = 64.2
FOOTPRINT_POINT_LATITUDE = (5.75439,5.75457,5.75516,5.37346, 4.97877,4.71612,4.45381,4.19197,3.93042 ,3.66921,3.40829,3.14768,2.88787, 2.62783,2.36825,2.10915,1.85059,1.59224 ,1.328,1.06357,0.79986,0.404699, 0.138966,-0.130739,-0.399869,-0.804651, -1.21829,-1.62128,-1.89403,-2.16942, -2.44831,-2.72676,-3.00455,-3.28767, -3.71223,-3.99333,-4.28044,-4.71398, -4.99836,-5.29036,-5.58737,-5.88024, -6.18078,-6.47892,-6.77439,-7.07876, -7.38056,-7.68519,-8.07359,-8.07846, -8.07612,-8.0794,-7.92464,-7.61683, -7.31412,-7.01108,-6.71335,-6.40937, -6.10564,-5.808,-5.51864,-5.08078, -4.78426,-4.49696,-4.21749,-3.93053, -3.64749,-3.36447,-3.08407,-2.80361, -2.52628,-2.24637,-1.96966,-1.70115, -1.42252,-1.14878,-0.879476,-0.608472, -0.340842,-0.0704587,0.333304,0.728697, 0.992818,1.25732,1.65229,2.04012, 2.29921,2.55859,2.8181,3.07831,3.33921, 3.60001,3.99215,4.25347,4.51576,4.77816 ,5.04115,5.30439,5.56767,5.75439)
FOOTPRINT_POINT_LONGITUDE = (137.855,137.437,137.084,136.856, 136.849,136.844,136.839,136.835,136.83, 136.824,136.819,136.814,136.809,136.803 ,136.798,136.793,136.787,136.781, 136.775,136.769,136.763,136.754,136.748 ,136.741,136.734,136.725,136.716, 136.703,136.696,136.689,136.681,136.673 ,136.665,136.658,136.646,136.637, 136.629,136.616,136.607,136.597,136.59, 136.581,136.573,136.563,136.553,136.544 ,136.534,136.524,136.626,137.092, 137.576,137.926,138.299,138.296,138.293 ,138.29,138.285,138.286,138.286,138.285 ,138.28,138.275,138.277,138.274,138.266 ,138.266,138.263,138.261,138.257, 138.257,138.254,138.253,138.251,138.247 ,138.248,138.246,138.243,138.243, 138.241,138.241,138.24,138.239,138.238, 138.237,138.236,138.235,138.234,138.234 ,138.233,138.233,138.233,138.232, 138.232,138.232,138.232,138.232,138.232 ,138.232,138.232,137.855)
ORBIT_NUMBER = 13547
ORBITAL_ECCENTRICITY = 0.576
ORBITAL_INCLINATION = 86.88
ORBITAL_SEMIMAJOR_AXIS = 8849.38
PERIAPSIS_ALTITUDE = 354.61
PERIAPSIS_ARGUMENT_ANGLE = 163.27
PERIAPSIS_TIME = 2014-09-02T13:42:18.000Z
SPACECRAFT_ORIENTATION = (0.0,-1.0,0.0)
^MEX_ORIENTATION_DESC = "MEX_ORIENTATION_DESC.TXT"
SPACECRAFT_POINTING_MODE = ACROSSTRACK
^MEX_POINTING_DESC = "MEX_POINTING_DESC.TXT"
RIGHT_ASCENSION = -1e+32
DECLINATION = -1e+32
OFFSET_ANGLE = 0.2
SPACECRAFT_SOLAR_DISTANCE = 2.16436e+08
TARGET_NAME = MARS
/* CAMERA DATA ELEMENTS */
DETECTOR_TEMPERATURE = 18.5744
FOCAL_PLANE_TEMPERATURE = 8.5833
INST_CMPRS_NAME = "DISCRETE COSINE TRANSFORMATION (DCT)"
INST_CMPRS_RATIO = 34.3738
INST_CMPRS_QUALITY = 0
INST_CMPRS_QUANTZ_TBL_ID = 0
INSTRUMENT_TEMPERATURE = 11.234
LENS_TEMPERATURE = 9.195
MACROPIXEL_SIZE = 4
MISSING_FRAMES = 0
PIXEL_SUBSAMPLING_FLAG = N
SIGNAL_CHAIN_ID = 3
/* RADIOMETRIC DATA ELEMENTS */
BANDWIDTH = 177.0
CENTER_FILTER_WAVELENGTH = 676.5
RADIANCE_OFFSET = 0.333077
RADIANCE_SCALING_FACTOR = 0.00335876
REFLECTANCE_SCALING_FACTOR = 8.34243e-05
MEX:REFLECTANCE_OFFSET = 0.00827291
/* IMAGE OBJECT DEFINITIONS */
OBJECT = IMAGE
  INTERCHANGE_FORMAT = BINARY
  LINES = 16416
  LINE_SAMPLES = 2102
  SAMPLE_TYPE = UNSIGNED_INTEGER
  SAMPLE_BITS = 8
  BANDS = 1
  BAND_STORAGE_TYPE = BAND_SEQUENTIAL
  MAXIMUM = 255
  MEAN = 135.886
  MINIMUM = 1
  STANDARD_DEVIATION = 32.6583
END_OBJECT = IMAGE
/* MAP OBJECT DEFINITIONS */
OBJECT = IMAGE_MAP_PROJECTION
  ^DATA_SET_MAP_PROJECTION_CATALOG= "DSMAP.CAT"
  A_AXIS_RADIUS = 3396.0
  B_AXIS_RADIUS = 3396.0
  C_AXIS_RADIUS = 3396.0
  CENTER_LATITUDE = 0.0
  CENTER_LONGITUDE = 137.0
  COORDINATE_SYSTEM_NAME = PLANETOGRAPHIC
  COORDINATE_SYSTEM_TYPE = "BODY-FIXED ROTATING"
  EASTERNMOST_LONGITUDE = 138.299
  FIRST_STANDARD_PARALLEL = "N/A"
  LINE_FIRST_PIXEL = 1
  LINE_LAST_PIXEL = 16416
  LINE_PROJECTION_OFFSET = 6835.875
  MAP_PROJECTION_ROTATION = 0.0
  MAP_PROJECTION_TYPE = SINUSOIDAL
  MAP_RESOLUTION = 1185.42760773333
  MAP_SCALE = 0.05
  MAXIMUM_LATITUDE = 5.75516
  MINIMUM_LATITUDE = -8.0794
  POSITIVE_LONGITUDE_DIRECTION = EAST
  REFERENCE_LATITUDE = "N/A"
  REFERENCE_LONGITUDE = "N/A"
  SAMPLE_FIRST_PIXEL = 1
  SAMPLE_LAST_PIXEL = 2102
  SAMPLE_PROJECTION_OFFSET = 564.625
  SECOND_STANDARD_PARALLEL = "N/A"
  WESTERNMOST_LONGITUDE = 136.524
END_OBJECT = IMAGE_MAP_PROJECTION
/* The JPEG2000 image data file associated with this label. */
OBJECT = COMPRESSED_FILE
  FILE_NAME = "HD547_0000_P23.JP2"
  RECORD_TYPE = UNDEFINED
  FILE_RECORDS = UNK
  ENCODING_TYPE = "JP2"
  INTERCHANGE_FORMAT = BINARY
  UNCOMPRESSED_FILE_NAME = "HD547_0000_P23.IMG"
  REQUIRED_STORAGE_BYTES = "34527452"
  ^DESCRIPTION = "JP2INFO.TXT"
END_OBJECT = COMPRESSED_FILE
END
