PDS_VERSION_ID = PDS3
/* FILE DATA ELEMENTS */
RECORD_TYPE = STREAM
/* POINTERS TO DATA OBJECTS */
^COMPRESSED_FILE = "HD584_0000_GR3.JP2"
/* IDENTIFICATION DATA ELEMENTS */
DATA_SET_ID = "MEX-M-HRSC-5-REFDR-MAPPROJECTED-V3.0"
DATA_SET_NAME = "MARS EXPRESS HRSC MAP PROJECTED REFDR V3.0"
DETECTOR_ID = MEX_HRSC_GREEN
EVENT_TYPE = "MARS-REGIONAL-MAPPING-Fl"
INSTRUMENT_HOST_ID = MEX
INSTRUMENT_HOST_NAME = "MARS EXPRESS"
INSTRUMENT_ID = HRSC
INSTRUMENT_NAME = "HIGH RESOLUTION STEREO CAMERA"
MISSION_NAME = "MARS EXPRESS"
MISSION_PHASE_NAME = ME_Phase_31
PROCESSING_LEVEL_ID = 3
PRODUCT_CREATION_TIME = 2016-10-29T11:58:31.000Z
PRODUCT_ID = "HD584_0000_GR3.JP2"
RELEASE_ID = 0125
REVISION_ID = 0000
/* QUALITY DATA ELEMENTS */
DATA_QUALITY_ID = 1
DATA_QUALITY_DESC = "Data calculated based on original SPICE kernels"
/* TIME DATA ELEMENTS */
SPACECRAFT_CLOCK_START_COUNT = "1/0358676666.09050"
SPACECRAFT_CLOCK_STOP_COUNT = "1/0358676870.57503"
START_TIME = 2014-09-13T08:24:58.956Z
STOP_TIME = 2014-09-13T08:27:11.325Z
/* ORBITAL DATA ELEMENTS */
ASCENDING_NODE_LONGITUDE = 318.7
MAXIMUM_RESOLUTION = 116.5
FOOTPRINT_POINT_LATITUDE = (19.6827,19.6814,19.68,19.6782,19.6762, 19.6739,19.6714,19.508,19.3544,19.2007, 19.047,18.8165,18.6629,18.5093,18.3557, 18.2022,17.9718,17.6647,17.5112,17.281, 17.1275,16.8972,16.5904,16.2837,15.9769 ,15.6704,15.4939,15.311,15.1281,14.9453 ,14.7626,14.58,14.3973,14.2147,14.0322, 13.8497,13.6673,13.4849,13.3026,13.1203 ,12.9381,12.756,12.4828,12.3008,12.119, 11.9374,11.7555,11.4831,11.3014,11.1526 ,11.1532,11.1538,11.1543,11.1545, 11.1544,11.3381,11.5199,11.7019,11.9751 ,12.1572,12.3391,12.6124,12.7947, 12.9771,13.1596,13.3421,13.5247,13.7073 ,13.89,14.0728,14.2556,14.5299,14.7128, 14.8958,15.0788,15.2618,15.4449,15.7076 ,15.8611,16.0913,16.2449,16.3984, 16.6288,16.7823,16.9359,17.0896,17.3201 ,17.4738,17.6275,17.8581,18.0119, 18.1657,18.3195,18.4733,18.6271,18.781, 19.0118,19.2426,19.3965,19.6827)
FOOTPRINT_POINT_LONGITUDE = (313.835,313.64,313.442,313.243,313.042 ,312.839,312.633,312.47,312.471,312.472 ,312.473,312.474,312.475,312.476, 312.477,312.478,312.479,312.48,312.481, 312.481,312.481,312.482,312.482,312.483 ,312.482,312.482,312.482,312.481, 312.481,312.481,312.48,312.48,312.479, 312.479,312.478,312.477,312.476,312.475 ,312.475,312.474,312.473,312.472,312.47 ,312.468,312.468,312.467,312.466, 312.464,312.462,312.605,312.791,313.028 ,313.237,313.495,313.7,313.848,313.847, 313.847,313.846,313.846,313.846,313.845 ,313.845,313.844,313.844,313.844, 313.844,313.843,313.843,313.843,313.842 ,313.842,313.841,313.841,313.841, 313.841,313.84,313.84,313.839,313.839, 313.839,313.838,313.838,313.838,313.837 ,313.837,313.837,313.836,313.836, 313.836,313.835,313.835,313.835,313.834 ,313.834,313.834,313.833,313.833, 313.832,313.835)
ORBIT_NUMBER = 13584
ORBITAL_ECCENTRICITY = 0.575
ORBITAL_INCLINATION = 86.91
ORBITAL_SEMIMAJOR_AXIS = 8837.76
PERIAPSIS_ALTITUDE = 358.59
PERIAPSIS_ARGUMENT_ANGLE = 156.88
PERIAPSIS_TIME = 2014-09-13T08:24:11.000Z
SPACECRAFT_ORIENTATION = (0.0,-1.0,0.0)
^MEX_ORIENTATION_DESC = "MEX_ORIENTATION_DESC.TXT"
SPACECRAFT_POINTING_MODE = ACROSSTRACK
^MEX_POINTING_DESC = "MEX_POINTING_DESC.TXT"
RIGHT_ASCENSION = -1e+32
DECLINATION = -1e+32
OFFSET_ANGLE = -0.8
SPACECRAFT_SOLAR_DISTANCE = 2.1463e+08
TARGET_NAME = MARS
/* CAMERA DATA ELEMENTS */
DETECTOR_TEMPERATURE = 18.3705
FOCAL_PLANE_TEMPERATURE = 8.5833
INST_CMPRS_NAME = "DISCRETE COSINE TRANSFORMATION (DCT)"
INST_CMPRS_RATIO = 17.8576
INST_CMPRS_QUALITY = 0
INST_CMPRS_QUANTZ_TBL_ID = 0
INSTRUMENT_TEMPERATURE = 11.4379
LENS_TEMPERATURE = 8.7872
MACROPIXEL_SIZE = 8
MISSING_FRAMES = 0
PIXEL_SUBSAMPLING_FLAG = N
SIGNAL_CHAIN_ID = 2
/* RADIOMETRIC DATA ELEMENTS */
BANDWIDTH = 88.0
CENTER_FILTER_WAVELENGTH = 538.0
RADIANCE_OFFSET = 0.684902
RADIANCE_SCALING_FACTOR = 0.00160674
REFLECTANCE_SCALING_FACTOR = 6.37259e-05
MEX:REFLECTANCE_OFFSET = 0.0271644
/* IMAGE OBJECT DEFINITIONS */
OBJECT = IMAGE
  INTERCHANGE_FORMAT = BINARY
  LINES = 5058
  LINE_SAMPLES = 868
  SAMPLE_TYPE = UNSIGNED_INTEGER
  SAMPLE_BITS = 8
  BANDS = 1
  BAND_STORAGE_TYPE = BAND_SEQUENTIAL
  MAXIMUM = 255
  MEAN = 118.136
  MINIMUM = 1
  STANDARD_DEVIATION = 43.6625
END_OBJECT = IMAGE
/* MAP OBJECT DEFINITIONS */
OBJECT = IMAGE_MAP_PROJECTION
  ^DATA_SET_MAP_PROJECTION_CATALOG= "DSMAP.CAT"
  A_AXIS_RADIUS = 3396.0
  B_AXIS_RADIUS = 3396.0
  C_AXIS_RADIUS = 3396.0
  CENTER_LATITUDE = 0.0
  CENTER_LONGITUDE = 313.0
  COORDINATE_SYSTEM_NAME = PLANETOGRAPHIC
  COORDINATE_SYSTEM_TYPE = "BODY-FIXED ROTATING"
  EASTERNMOST_LONGITUDE = 313.848
  FIRST_STANDARD_PARALLEL = "N/A"
  LINE_FIRST_PIXEL = 1
  LINE_LAST_PIXEL = 5058
  LINE_PROJECTION_OFFSET = 11665.0625
  MAP_PROJECTION_ROTATION = 0.0
  MAP_PROJECTION_TYPE = SINUSOIDAL
  MAP_RESOLUTION = 592.713803866667
  MAP_SCALE = 0.1
  MAXIMUM_LATITUDE = 19.6827
  MINIMUM_LATITUDE = 11.1526
  POSITIVE_LONGITUDE_DIRECTION = EAST
  REFERENCE_LATITUDE = "N/A"
  REFERENCE_LONGITUDE = "N/A"
  SAMPLE_FIRST_PIXEL = 1
  SAMPLE_LAST_PIXEL = 868
  SAMPLE_PROJECTION_OFFSET = 370.3125
  SECOND_STANDARD_PARALLEL = "N/A"
  WESTERNMOST_LONGITUDE = 312.462
END_OBJECT = IMAGE_MAP_PROJECTION
/* The JPEG2000 image data file associated with this label. */
OBJECT = COMPRESSED_FILE
  FILE_NAME = "HD584_0000_GR3.JP2"
  RECORD_TYPE = UNDEFINED
  FILE_RECORDS = UNK
  ENCODING_TYPE = "JP2"
  INTERCHANGE_FORMAT = BINARY
  UNCOMPRESSED_FILE_NAME = "HD584_0000_GR3.IMG"
  REQUIRED_STORAGE_BYTES = "4408572"
  ^DESCRIPTION = "JP2INFO.TXT"
END_OBJECT = COMPRESSED_FILE
END
