PDS_VERSION_ID = PDS3
/* FILE DATA ELEMENTS */
RECORD_TYPE = STREAM
/* POINTERS TO DATA OBJECTS */
^COMPRESSED_FILE = "HD586_0000_S13.JP2"
/* IDENTIFICATION DATA ELEMENTS */
DATA_SET_ID = "MEX-M-HRSC-5-REFDR-MAPPROJECTED-V3.0"
DATA_SET_NAME = "MARS EXPRESS HRSC MAP PROJECTED REFDR V3.0"
DETECTOR_ID = MEX_HRSC_S1
EVENT_TYPE = "MARS-REGIONAL-VARIABLE-Te"
INSTRUMENT_HOST_ID = MEX
INSTRUMENT_HOST_NAME = "MARS EXPRESS"
INSTRUMENT_ID = HRSC
INSTRUMENT_NAME = "HIGH RESOLUTION STEREO CAMERA"
MISSION_NAME = "MARS EXPRESS"
MISSION_PHASE_NAME = ME_Phase_31
PROCESSING_LEVEL_ID = 3
PRODUCT_CREATION_TIME = 2016-10-29T11:58:31.000Z
PRODUCT_ID = "HD586_0000_S13.JP2"
RELEASE_ID = 0125
REVISION_ID = 0000
/* QUALITY DATA ELEMENTS */
DATA_QUALITY_ID = 1
DATA_QUALITY_DESC = "Data calculated based on original SPICE kernels"
/* TIME DATA ELEMENTS */
SPACECRAFT_CLOCK_START_COUNT = "1/0358727120.08251"
SPACECRAFT_CLOCK_STOP_COUNT = "1/0358727428.31256"
START_TIME = 2014-09-13T22:25:25.791Z
STOP_TIME = 2014-09-13T22:28:56.554Z
/* ORBITAL DATA ELEMENTS */
ASCENDING_NODE_LONGITUDE = 318.67
MAXIMUM_RESOLUTION = 31.8
FOOTPRINT_POINT_LATITUDE = (12.378,12.3725,12.3665,12.36,12.3531, 12.3298,12.0642,11.7981,11.5327,11.1357 ,10.74,10.4758,10.0762,9.80928,9.40821, 9.01054,8.60967,8.34266,8.07646,7.80998 ,7.41078,7.01261,6.74681,6.48069, 6.21737,5.94603,5.5485,5.2816,5.01539, 4.60756,4.33551,4.06452,3.78952,3.51669 ,3.24046,2.95774,2.53912,2.25982,1.9766 ,1.69722,1.40536,0.976921,0.686835, 0.394443,0.102228,-0.189596,-0.635594, -0.934272,-1.23274,-1.38792,-1.38367, -1.37675,-1.37198,-1.37135,-1.22126, -0.922643,-0.622701,-0.174596,0.118073, 0.410928,0.701184,1.13718,1.42409, 1.70763,1.99523,2.41648,2.69892,3.11977 ,3.4,3.67663,3.94641,4.21818,4.49228, 4.7626,5.03551,5.4389,5.70169,5.97226, 6.37298,6.64337,6.90972,7.30759,7.56921 ,7.83482,8.10203,8.36961,8.63461, 8.90151,9.30087,9.56788,9.83406,10.1005 ,10.3666,10.767,11.0279,11.4293,11.8271 ,12.0916,12.3575,12.378)
FOOTPRINT_POINT_LONGITUDE = (109.255,109.047,108.839,108.629, 108.418,108.257,108.255,108.253,108.251 ,108.249,108.247,108.245,108.241, 108.237,108.231,108.227,108.221,108.217 ,108.213,108.209,108.203,108.197, 108.192,108.188,108.185,108.177,108.17, 108.164,108.159,108.151,108.146,108.141 ,108.134,108.127,108.123,108.115, 108.105,108.098,108.092,108.088,108.078 ,108.067,108.059,108.052,108.044, 108.036,108.024,108.015,108.007,108.211 ,108.622,108.906,109.266,109.515, 109.628,109.628,109.627,109.625,109.624 ,109.624,109.623,109.622,109.621, 109.621,109.62,109.62,109.619,109.618, 109.618,109.617,109.617,109.617,109.616 ,109.616,109.616,109.615,109.615, 109.615,109.615,109.614,109.614,109.614 ,109.614,109.614,109.614,109.614, 109.614,109.614,109.614,109.614,109.614 ,109.614,109.614,109.614,109.614, 109.614,109.615,109.615,109.615, 109.255)
ORBIT_NUMBER = 13586
ORBITAL_ECCENTRICITY = 0.576
ORBITAL_INCLINATION = 86.89
ORBITAL_SEMIMAJOR_AXIS = 8845.16
PERIAPSIS_ALTITUDE = 358.19
PERIAPSIS_ARGUMENT_ANGLE = 156.5
PERIAPSIS_TIME = 2014-09-13T22:23:07.000Z
SPACECRAFT_ORIENTATION = (0.0,-1.0,0.0)
^MEX_ORIENTATION_DESC = "MEX_ORIENTATION_DESC.TXT"
SPACECRAFT_POINTING_MODE = ACROSSTRACK
^MEX_POINTING_DESC = "MEX_POINTING_DESC.TXT"
RIGHT_ASCENSION = -1e+32
DECLINATION = -1e+32
OFFSET_ANGLE = -0.539
SPACECRAFT_SOLAR_DISTANCE = 2.14536e+08
TARGET_NAME = MARS
/* CAMERA DATA ELEMENTS */
DETECTOR_TEMPERATURE = 17.7588
FOCAL_PLANE_TEMPERATURE = 8.7872
INST_CMPRS_NAME = "DISCRETE COSINE TRANSFORMATION (DCT)"
INST_CMPRS_RATIO = 12.1954
INST_CMPRS_QUALITY = 0
INST_CMPRS_QUANTZ_TBL_ID = 0
INSTRUMENT_TEMPERATURE = 11.4379
LENS_TEMPERATURE = 9.195
MACROPIXEL_SIZE = 2
MISSING_FRAMES = 0
PIXEL_SUBSAMPLING_FLAG = N
SIGNAL_CHAIN_ID = 1
/* RADIOMETRIC DATA ELEMENTS */
BANDWIDTH = 180.0
CENTER_FILTER_WAVELENGTH = 677.0
RADIANCE_OFFSET = 1.93314
RADIANCE_SCALING_FACTOR = 0.00594959
REFLECTANCE_SCALING_FACTOR = 0.000142866
MEX:REFLECTANCE_OFFSET = 0.0464201
/* IMAGE OBJECT DEFINITIONS */
OBJECT = IMAGE
  INTERCHANGE_FORMAT = BINARY
  LINES = 32627
  LINE_SAMPLES = 4228
  SAMPLE_TYPE = UNSIGNED_INTEGER
  SAMPLE_BITS = 8
  BANDS = 1
  BAND_STORAGE_TYPE = BAND_SEQUENTIAL
  MAXIMUM = 255
  MEAN = 101.4
  MINIMUM = 1
  STANDARD_DEVIATION = 33.6085
END_OBJECT = IMAGE
/* MAP OBJECT DEFINITIONS */
OBJECT = IMAGE_MAP_PROJECTION
  ^DATA_SET_MAP_PROJECTION_CATALOG= "DSMAP.CAT"
  A_AXIS_RADIUS = 3396.0
  B_AXIS_RADIUS = 3396.0
  C_AXIS_RADIUS = 3396.0
  CENTER_LATITUDE = 0.0
  CENTER_LONGITUDE = 109.0
  COORDINATE_SYSTEM_NAME = PLANETOGRAPHIC
  COORDINATE_SYSTEM_TYPE = "BODY-FIXED ROTATING"
  EASTERNMOST_LONGITUDE = 109.628
  FIRST_STANDARD_PARALLEL = "N/A"
  LINE_FIRST_PIXEL = 1
  LINE_LAST_PIXEL = 32627
  LINE_PROJECTION_OFFSET = 29312.75
  MAP_PROJECTION_ROTATION = 0.0
  MAP_PROJECTION_TYPE = SINUSOIDAL
  MAP_RESOLUTION = 2370.85521546667
  MAP_SCALE = 0.025
  MAXIMUM_LATITUDE = 12.378
  MINIMUM_LATITUDE = -1.38792
  POSITIVE_LONGITUDE_DIRECTION = EAST
  REFERENCE_LATITUDE = "N/A"
  REFERENCE_LONGITUDE = "N/A"
  SAMPLE_FIRST_PIXEL = 1
  SAMPLE_LAST_PIXEL = 4228
  SAMPLE_PROJECTION_OFFSET = 2597.75
  SECOND_STANDARD_PARALLEL = "N/A"
  WESTERNMOST_LONGITUDE = 108.007
END_OBJECT = IMAGE_MAP_PROJECTION
/* The JPEG2000 image data file associated with this label. */
OBJECT = COMPRESSED_FILE
  FILE_NAME = "HD586_0000_S13.JP2"
  RECORD_TYPE = UNDEFINED
  FILE_RECORDS = UNK
  ENCODING_TYPE = "JP2"
  INTERCHANGE_FORMAT = BINARY
  UNCOMPRESSED_FILE_NAME = "HD586_0000_S13.IMG"
  REQUIRED_STORAGE_BYTES = "137972324"
  ^DESCRIPTION = "JP2INFO.TXT"
END_OBJECT = COMPRESSED_FILE
END
