PDS_VERSION_ID = PDS3
/* FILE DATA ELEMENTS */
RECORD_TYPE = STREAM
/* POINTERS TO DATA OBJECTS */
^COMPRESSED_FILE = "HD586_0000_S23.JP2"
/* IDENTIFICATION DATA ELEMENTS */
DATA_SET_ID = "MEX-M-HRSC-5-REFDR-MAPPROJECTED-V3.0"
DATA_SET_NAME = "MARS EXPRESS HRSC MAP PROJECTED REFDR V3.0"
DETECTOR_ID = MEX_HRSC_S2
EVENT_TYPE = "MARS-REGIONAL-VARIABLE-Te"
INSTRUMENT_HOST_ID = MEX
INSTRUMENT_HOST_NAME = "MARS EXPRESS"
INSTRUMENT_ID = HRSC
INSTRUMENT_NAME = "HIGH RESOLUTION STEREO CAMERA"
MISSION_NAME = "MARS EXPRESS"
MISSION_PHASE_NAME = ME_Phase_31
PROCESSING_LEVEL_ID = 3
PRODUCT_CREATION_TIME = 2016-10-29T11:58:31.000Z
PRODUCT_ID = "HD586_0000_S23.JP2"
RELEASE_ID = 0125
REVISION_ID = 0000
/* QUALITY DATA ELEMENTS */
DATA_QUALITY_ID = 1
DATA_QUALITY_DESC = "Data calculated based on original SPICE kernels"
/* TIME DATA ELEMENTS */
SPACECRAFT_CLOCK_START_COUNT = "1/0358727120.08251"
SPACECRAFT_CLOCK_STOP_COUNT = "1/0358727428.31256"
START_TIME = 2014-09-13T22:26:36.265Z
STOP_TIME = 2014-09-13T22:30:32.090Z
/* ORBITAL DATA ELEMENTS */
ASCENDING_NODE_LONGITUDE = 318.67
MAXIMUM_RESOLUTION = 33.8
FOOTPRINT_POINT_LATITUDE = (12.3481,12.3563,12.3647,12.3734, 12.3822,12.1465,11.8887,11.6313,11.3719 ,10.9852,10.7275,10.3419,10.0871, 9.70313,9.44536,9.1833,8.92492,8.53747, 8.14178,7.87681,7.61318,7.34985,6.94828 ,6.67883,6.40961,6.00541,5.73379, 5.32666,5.05539,4.77774,4.50008,4.08389 ,3.80379,3.52323,3.10282,2.81657, 2.53063,2.24583,1.95637,1.66096,1.3766, 1.08216,0.641041,0.344172,0.0458123, -0.403823,-0.705775,-1.00795,-1.33385, -1.35338,-1.36391,-1.38371,-1.39381, -1.39873,-1.09513,-0.792567,-0.491542, -0.0417544,0.25639,0.702499,0.997901, 1.2907,1.58148,1.87204,2.16037,2.44842, 2.73083,3.01746,3.29873,3.72045,4.14481 ,4.42214,4.69689,4.97635,5.24663, 5.65959,5.932,6.1959,6.46909,6.73033, 6.99777,7.26722,7.53678,7.80303,8.0674, 8.46242,8.8528,9.11241,9.37352,9.63369, 9.89219,10.1472,10.403,10.6566,10.9158, 11.3068,11.6906,12.0797,12.3389, 12.3481)
FOOTPRINT_POINT_LONGITUDE = (109.23,109.009,108.788,108.565,108.34, 108.209,108.206,108.203,108.201,108.197 ,108.194,108.19,108.186,108.18,108.174, 108.17,108.165,108.158,108.15,108.145, 108.14,108.134,108.126,108.12,108.115, 108.106,108.098,108.087,108.08,108.073, 108.066,108.056,108.048,108.04,108.027, 108.019,108.011,108.002,107.993,107.986 ,107.975,107.966,107.951,107.941, 107.931,107.916,107.905,107.894,107.973 ,108.374,108.645,109.058,109.361,109.61 ,109.738,109.734,109.731,109.727, 109.724,109.72,109.718,109.715,109.712, 109.71,109.708,109.706,109.703,109.701, 109.699,109.696,109.693,109.692,109.689 ,109.688,109.686,109.684,109.682,109.68 ,109.679,109.677,109.675,109.674, 109.673,109.672,109.671,109.669,109.667 ,109.666,109.665,109.664,109.663, 109.662,109.661,109.66,109.659,109.658, 109.657,109.655,109.654,109.23)
ORBIT_NUMBER = 13586
ORBITAL_ECCENTRICITY = 0.576
ORBITAL_INCLINATION = 86.89
ORBITAL_SEMIMAJOR_AXIS = 8845.16
PERIAPSIS_ALTITUDE = 358.19
PERIAPSIS_ARGUMENT_ANGLE = 156.5
PERIAPSIS_TIME = 2014-09-13T22:23:07.000Z
SPACECRAFT_ORIENTATION = (0.0,-1.0,0.0)
^MEX_ORIENTATION_DESC = "MEX_ORIENTATION_DESC.TXT"
SPACECRAFT_POINTING_MODE = ACROSSTRACK
^MEX_POINTING_DESC = "MEX_POINTING_DESC.TXT"
RIGHT_ASCENSION = -1e+32
DECLINATION = -1e+32
OFFSET_ANGLE = -0.539
SPACECRAFT_SOLAR_DISTANCE = 2.14536e+08
TARGET_NAME = MARS
/* CAMERA DATA ELEMENTS */
DETECTOR_TEMPERATURE = 18.9822
FOCAL_PLANE_TEMPERATURE = 8.7872
INST_CMPRS_NAME = "DISCRETE COSINE TRANSFORMATION (DCT)"
INST_CMPRS_RATIO = 12.9956
INST_CMPRS_QUALITY = 0
INST_CMPRS_QUANTZ_TBL_ID = 0
INSTRUMENT_TEMPERATURE = 11.4379
LENS_TEMPERATURE = 9.195
MACROPIXEL_SIZE = 2
MISSING_FRAMES = 0
PIXEL_SUBSAMPLING_FLAG = N
SIGNAL_CHAIN_ID = 1
/* RADIOMETRIC DATA ELEMENTS */
BANDWIDTH = 178.0
CENTER_FILTER_WAVELENGTH = 679.0
RADIANCE_OFFSET = 1.73282
RADIANCE_SCALING_FACTOR = 0.00594596
REFLECTANCE_SCALING_FACTOR = 0.000144928
MEX:REFLECTANCE_OFFSET = 0.0422363
/* IMAGE OBJECT DEFINITIONS */
OBJECT = IMAGE
  INTERCHANGE_FORMAT = BINARY
  LINES = 32627
  LINE_SAMPLES = 4228
  SAMPLE_TYPE = UNSIGNED_INTEGER
  SAMPLE_BITS = 8
  BANDS = 1
  BAND_STORAGE_TYPE = BAND_SEQUENTIAL
  MAXIMUM = 255
  MEAN = 104.686
  MINIMUM = 1
  STANDARD_DEVIATION = 33.5779
END_OBJECT = IMAGE
/* MAP OBJECT DEFINITIONS */
OBJECT = IMAGE_MAP_PROJECTION
  ^DATA_SET_MAP_PROJECTION_CATALOG= "DSMAP.CAT"
  A_AXIS_RADIUS = 3396.0
  B_AXIS_RADIUS = 3396.0
  C_AXIS_RADIUS = 3396.0
  CENTER_LATITUDE = 0.0
  CENTER_LONGITUDE = 109.0
  COORDINATE_SYSTEM_NAME = PLANETOGRAPHIC
  COORDINATE_SYSTEM_TYPE = "BODY-FIXED ROTATING"
  EASTERNMOST_LONGITUDE = 109.738
  FIRST_STANDARD_PARALLEL = "N/A"
  LINE_FIRST_PIXEL = 1
  LINE_LAST_PIXEL = 32627
  LINE_PROJECTION_OFFSET = 29312.75
  MAP_PROJECTION_ROTATION = 0.0
  MAP_PROJECTION_TYPE = SINUSOIDAL
  MAP_RESOLUTION = 2370.85521546667
  MAP_SCALE = 0.025
  MAXIMUM_LATITUDE = 12.3822
  MINIMUM_LATITUDE = -1.39873
  POSITIVE_LONGITUDE_DIRECTION = EAST
  REFERENCE_LATITUDE = "N/A"
  REFERENCE_LONGITUDE = "N/A"
  SAMPLE_FIRST_PIXEL = 1
  SAMPLE_LAST_PIXEL = 4228
  SAMPLE_PROJECTION_OFFSET = 2597.75
  SECOND_STANDARD_PARALLEL = "N/A"
  WESTERNMOST_LONGITUDE = 107.894
END_OBJECT = IMAGE_MAP_PROJECTION
/* The JPEG2000 image data file associated with this label. */
OBJECT = COMPRESSED_FILE
  FILE_NAME = "HD586_0000_S23.JP2"
  RECORD_TYPE = UNDEFINED
  FILE_RECORDS = UNK
  ENCODING_TYPE = "JP2"
  INTERCHANGE_FORMAT = BINARY
  UNCOMPRESSED_FILE_NAME = "HD586_0000_S23.IMG"
  REQUIRED_STORAGE_BYTES = "137972324"
  ^DESCRIPTION = "JP2INFO.TXT"
END_OBJECT = COMPRESSED_FILE
END
