PDS_VERSION_ID = PDS3
/* FILE DATA ELEMENTS */
RECORD_TYPE = STREAM
/* POINTERS TO DATA OBJECTS */
^COMPRESSED_FILE = "HD589_0000_RE3.JP2"
/* IDENTIFICATION DATA ELEMENTS */
DATA_SET_ID = "MEX-M-HRSC-5-REFDR-MAPPROJECTED-V3.0"
DATA_SET_NAME = "MARS EXPRESS HRSC MAP PROJECTED REFDR V3.0"
DETECTOR_ID = MEX_HRSC_RED
EVENT_TYPE = "MARS-REGIONAL-MAPPING-Vo-Fl-At"
INSTRUMENT_HOST_ID = MEX
INSTRUMENT_HOST_NAME = "MARS EXPRESS"
INSTRUMENT_ID = HRSC
INSTRUMENT_NAME = "HIGH RESOLUTION STEREO CAMERA"
MISSION_NAME = "MARS EXPRESS"
MISSION_PHASE_NAME = ME_Phase_31
PROCESSING_LEVEL_ID = 3
PRODUCT_CREATION_TIME = 2016-10-29T11:58:31.000Z
PRODUCT_ID = "HD589_0000_RE3.JP2"
RELEASE_ID = 0125
REVISION_ID = 0000
/* QUALITY DATA ELEMENTS */
DATA_QUALITY_ID = 1
DATA_QUALITY_DESC = "Data calculated based on original SPICE kernels"
/* TIME DATA ELEMENTS */
SPACECRAFT_CLOCK_START_COUNT = "1/0358802758.09049"
SPACECRAFT_CLOCK_STOP_COUNT = "1/0358803140.22716"
START_TIME = 2014-09-14T19:27:22.133Z
STOP_TIME = 2014-09-14T19:32:09.575Z
/* ORBITAL DATA ELEMENTS */
ASCENDING_NODE_LONGITUDE = 318.6
MAXIMUM_RESOLUTION = 156.8
FOOTPRINT_POINT_LATITUDE = (4.4546,4.50307,4.52852,4.59113,4.31459 ,3.90305,3.62482,3.20649,2.92752, 2.50354,2.21999,1.93706,1.64922,1.36156 ,1.07458,0.782695,0.345712,0.051537, -0.24443,-0.68902,-0.988546,-1.28723, -1.59112,-1.89447,-2.35303,-2.66026, -2.97041,-3.28084,-3.75254,-4.22742, -4.54647,-4.86767,-5.34873,-5.83698, -6.16849,-6.49743,-6.83029,-7.16418, -7.50105,-7.83975,-8.18206,-8.69573, -9.21968,-9.74712,-10.1004,-10.6344, -10.9931,-11.0511,-11.0969,-11.1384, -11.1658,-11.2063,-10.8446,-10.4874, -9.95441,-9.6022,-9.25144,-8.90364, -8.55922,-8.21549,-7.87452,-7.53686, -7.19098,-6.69842,-6.36784,-6.03653, -5.71022,-5.38455,-5.06183,-4.73991, -4.42124,-4.10146,-3.78694,-3.47047, -3.15941,-2.84672,-2.53901,-2.07842, -1.77464,-1.46991,-1.17024,-0.869767, -0.423664,-0.127191,0.167886,0.606143, 0.898865,1.18655,1.47469,1.76339, 2.04698,2.33124,2.61622,2.89615,3.17447 ,3.45722,3.8723,4.14837,4.42485,4.4546)
FOOTPRINT_POINT_LONGITUDE = (160.991,160.475,160.209,159.731, 159.725,159.714,159.709,159.697,159.689 ,159.678,159.67,159.662,159.654,159.646 ,159.637,159.628,159.614,159.605, 159.595,159.58,159.569,159.558,159.547, 159.537,159.518,159.507,159.494,159.481 ,159.463,159.444,159.431,159.417, 159.393,159.37,159.357,159.341,159.324, 159.307,159.291,159.273,159.257,159.228 ,159.202,159.174,159.153,159.121, 159.098,159.663,160.194,160.692,161.043 ,161.632,161.627,161.622,161.615,161.61 ,161.605,161.601,161.596,161.592, 161.588,161.584,161.578,161.575,161.571 ,161.567,161.564,161.561,161.557, 161.554,161.551,161.547,161.545,161.541 ,161.538,161.535,161.533,161.529, 161.526,161.523,161.521,161.518,161.515 ,161.512,161.51,161.507,161.504,161.502 ,161.5,161.498,161.496,161.494,161.491, 161.489,161.488,161.485,161.482,161.48, 161.478,160.991)
ORBIT_NUMBER = 13589
ORBITAL_ECCENTRICITY = 0.575
ORBITAL_INCLINATION = 86.9
ORBITAL_SEMIMAJOR_AXIS = 8836.19
PERIAPSIS_ALTITUDE = 359.45
PERIAPSIS_ARGUMENT_ANGLE = 156.01
PERIAPSIS_TIME = 2014-09-14T19:21:38.000Z
SPACECRAFT_ORIENTATION = (0.0,-1.0,0.0)
^MEX_ORIENTATION_DESC = "MEX_ORIENTATION_DESC.TXT"
SPACECRAFT_POINTING_MODE = ACROSSTRACK
^MEX_POINTING_DESC = "MEX_POINTING_DESC.TXT"
RIGHT_ASCENSION = -1e+32
DECLINATION = -1e+32
OFFSET_ANGLE = -2.0
SPACECRAFT_SOLAR_DISTANCE = 2.14396e+08
TARGET_NAME = MARS
/* CAMERA DATA ELEMENTS */
DETECTOR_TEMPERATURE = 18.9822
FOCAL_PLANE_TEMPERATURE = 8.9911
INST_CMPRS_NAME = "DISCRETE COSINE TRANSFORMATION (DCT)"
INST_CMPRS_RATIO = 10.5884
INST_CMPRS_QUALITY = 0
INST_CMPRS_QUANTZ_TBL_ID = 0
INSTRUMENT_TEMPERATURE = 12.0496
LENS_TEMPERATURE = 9.6028
MACROPIXEL_SIZE = 8
MISSING_FRAMES = 0
PIXEL_SUBSAMPLING_FLAG = N
SIGNAL_CHAIN_ID = 2
/* RADIOMETRIC DATA ELEMENTS */
BANDWIDTH = 48.0
CENTER_FILTER_WAVELENGTH = 748.0
RADIANCE_OFFSET = 0.549871
RADIANCE_SCALING_FACTOR = 0.003014
REFLECTANCE_SCALING_FACTOR = 0.000316155
MEX:REFLECTANCE_OFFSET = 0.0576791
/* IMAGE OBJECT DEFINITIONS */
OBJECT = IMAGE
  INTERCHANGE_FORMAT = BINARY
  LINES = 9281
  LINE_SAMPLES = 1432
  SAMPLE_TYPE = UNSIGNED_INTEGER
  SAMPLE_BITS = 8
  BANDS = 1
  BAND_STORAGE_TYPE = BAND_SEQUENTIAL
  MAXIMUM = 255
  MEAN = 113.295
  MINIMUM = 1
  STANDARD_DEVIATION = 32.1991
END_OBJECT = IMAGE
/* MAP OBJECT DEFINITIONS */
OBJECT = IMAGE_MAP_PROJECTION
  ^DATA_SET_MAP_PROJECTION_CATALOG= "DSMAP.CAT"
  A_AXIS_RADIUS = 3396.0
  B_AXIS_RADIUS = 3396.0
  C_AXIS_RADIUS = 3396.0
  CENTER_LATITUDE = 0.0
  CENTER_LONGITUDE = 161.0
  COORDINATE_SYSTEM_NAME = PLANETOGRAPHIC
  COORDINATE_SYSTEM_TYPE = "BODY-FIXED ROTATING"
  EASTERNMOST_LONGITUDE = 161.632
  FIRST_STANDARD_PARALLEL = "N/A"
  LINE_FIRST_PIXEL = 1
  LINE_LAST_PIXEL = 9281
  LINE_PROJECTION_OFFSET = 2672.8125
  MAP_PROJECTION_ROTATION = 0.0
  MAP_PROJECTION_TYPE = SINUSOIDAL
  MAP_RESOLUTION = 592.713803866667
  MAP_SCALE = 0.1
  MAXIMUM_LATITUDE = 4.59113
  MINIMUM_LATITUDE = -11.2063
  POSITIVE_LONGITUDE_DIRECTION = EAST
  REFERENCE_LATITUDE = "N/A"
  REFERENCE_LONGITUDE = "N/A"
  SAMPLE_FIRST_PIXEL = 1
  SAMPLE_LAST_PIXEL = 1432
  SAMPLE_PROJECTION_OFFSET = 1110.4375
  SECOND_STANDARD_PARALLEL = "N/A"
  WESTERNMOST_LONGITUDE = 159.098
END_OBJECT = IMAGE_MAP_PROJECTION
/* The JPEG2000 image data file associated with this label. */
OBJECT = COMPRESSED_FILE
  FILE_NAME = "HD589_0000_RE3.JP2"
  RECORD_TYPE = UNDEFINED
  FILE_RECORDS = UNK
  ENCODING_TYPE = "JP2"
  INTERCHANGE_FORMAT = BINARY
  UNCOMPRESSED_FILE_NAME = "HD589_0000_RE3.IMG"
  REQUIRED_STORAGE_BYTES = "13309008"
  ^DESCRIPTION = "JP2INFO.TXT"
END_OBJECT = COMPRESSED_FILE
END
