PDS_VERSION_ID = PDS3
/* FILE DATA ELEMENTS */
RECORD_TYPE = STREAM
/* POINTERS TO DATA OBJECTS */
^COMPRESSED_FILE = "HD593_0000_P23.JP2"
/* IDENTIFICATION DATA ELEMENTS */
DATA_SET_ID = "MEX-M-HRSC-5-REFDR-MAPPROJECTED-V3.0"
DATA_SET_NAME = "MARS EXPRESS HRSC MAP PROJECTED REFDR V3.0"
DETECTOR_ID = MEX_HRSC_P2
EVENT_TYPE = "MARS-REGIONAL-MAPPING-Im-Fl"
INSTRUMENT_HOST_ID = MEX
INSTRUMENT_HOST_NAME = "MARS EXPRESS"
INSTRUMENT_ID = HRSC
INSTRUMENT_NAME = "HIGH RESOLUTION STEREO CAMERA"
MISSION_NAME = "MARS EXPRESS"
MISSION_PHASE_NAME = ME_Phase_31
PROCESSING_LEVEL_ID = 3
PRODUCT_CREATION_TIME = 2016-10-29T11:58:31.000Z
PRODUCT_ID = "HD593_0000_P23.JP2"
RELEASE_ID = 0125
REVISION_ID = 0000
/* QUALITY DATA ELEMENTS */
DATA_QUALITY_ID = 1
DATA_QUALITY_DESC = "Data calculated based on original SPICE kernels"
/* TIME DATA ELEMENTS */
SPACECRAFT_CLOCK_START_COUNT = "1/0358903469.07320"
SPACECRAFT_CLOCK_STOP_COUNT = "1/0358903704.20252"
START_TIME = 2014-09-15T23:25:46.271Z
STOP_TIME = 2014-09-15T23:28:05.587Z
/* ORBITAL DATA ELEMENTS */
ASCENDING_NODE_LONGITUDE = 318.53
MAXIMUM_RESOLUTION = 79
FOOTPRINT_POINT_LATITUDE = (2.4668,2.46853,2.47135,2.47432,2.4766, 2.47885,2.4823,2.48457,2.41535,2.12621, 1.97885,1.68519,1.39129,1.24221,1.09286 ,0.868436,0.645758,0.348671,0.198038, -0.0267768,-0.177169,-0.330581,-0.48413 ,-0.63618,-0.788519,-0.939397,-1.093, -1.24869,-1.40424,-1.55948,-1.71469, -1.95076,-2.1088,-2.26652,-2.42379, -2.58238,-2.74252,-2.98201,-3.14183, -3.30462,-3.54796,-3.70965,-3.87206, -4.0367,-4.19941,-4.36322,-4.52945, -4.77866,-4.94491,-5.1103,-5.34676, -5.34681,-5.35067,-5.35481,-5.35712, -5.36478,-5.36736,-5.36645,-5.36899, -5.28827,-5.11818,-4.87063,-4.70468, -4.53891,-4.37386,-4.20926,-4.04503, -3.88253,-3.64072,-3.47843,-3.31675, -3.15525,-2.91458,-2.75412,-2.59407, -2.35636,-2.19934,-1.96224,-1.80415, -1.64881,-1.49428,-1.26303,-1.11026, -0.95604,-0.729599,-0.574823,-0.342537, -0.190032,-0.039338,0.112212,0.33912, 0.49028,0.639501,0.78854,0.938771, 1.08798,1.4557,1.74819,2.0422,2.4668)
FOOTPRINT_POINT_LONGITUDE = (114.533,114.345,114.063,113.798,113.61 ,113.438,113.188,113.032,112.853, 112.844,112.84,112.831,112.822,112.818, 112.813,112.806,112.799,112.788,112.783 ,112.774,112.769,112.764,112.759, 112.753,112.748,112.741,112.736,112.73, 112.724,112.719,112.713,112.705,112.699 ,112.693,112.687,112.681,112.675, 112.665,112.659,112.653,112.644,112.638 ,112.631,112.625,112.617,112.611, 112.605,112.594,112.587,112.58,112.57, 112.739,112.949,113.158,113.311,113.672 ,113.901,114.054,114.359,114.612,114.61 ,114.606,114.604,114.601,114.599, 114.598,114.596,114.593,114.589,114.587 ,114.585,114.583,114.581,114.58,114.578 ,114.575,114.573,114.571,114.569, 114.568,114.566,114.563,114.56,114.558, 114.555,114.554,114.553,114.552,114.55, 114.549,114.547,114.546,114.545,114.544 ,114.544,114.543,114.539,114.536, 114.534,114.533)
ORBIT_NUMBER = 13593
ORBITAL_ECCENTRICITY = 0.576
ORBITAL_INCLINATION = 86.89
ORBITAL_SEMIMAJOR_AXIS = 8843.43
PERIAPSIS_ALTITUDE = 358.92
PERIAPSIS_ARGUMENT_ANGLE = 155.29
PERIAPSIS_TIME = 2014-09-15T23:19:26.000Z
SPACECRAFT_ORIENTATION = (0.0,-1.0,0.0)
^MEX_ORIENTATION_DESC = "MEX_ORIENTATION_DESC.TXT"
SPACECRAFT_POINTING_MODE = NADIR
^MEX_POINTING_DESC = "MEX_POINTING_DESC.TXT"
RIGHT_ASCENSION = -1e+32
DECLINATION = -1e+32
OFFSET_ANGLE = -1e+32
SPACECRAFT_SOLAR_DISTANCE = 2.1421e+08
TARGET_NAME = MARS
/* CAMERA DATA ELEMENTS */
DETECTOR_TEMPERATURE = 18.7783
FOCAL_PLANE_TEMPERATURE = 8.7872
INST_CMPRS_NAME = "DISCRETE COSINE TRANSFORMATION (DCT)"
INST_CMPRS_RATIO = 8.00797
INST_CMPRS_QUALITY = 0
INST_CMPRS_QUANTZ_TBL_ID = 0
INSTRUMENT_TEMPERATURE = 11.8457
LENS_TEMPERATURE = 9.195
MACROPIXEL_SIZE = 4
MISSING_FRAMES = 0
PIXEL_SUBSAMPLING_FLAG = N
SIGNAL_CHAIN_ID = 3
/* RADIOMETRIC DATA ELEMENTS */
BANDWIDTH = 177.0
CENTER_FILTER_WAVELENGTH = 676.5
RADIANCE_OFFSET = 1.59554
RADIANCE_SCALING_FACTOR = 0.00683236
REFLECTANCE_SCALING_FACTOR = 0.000166229
MEX:REFLECTANCE_OFFSET = 0.0388189
/* IMAGE OBJECT DEFINITIONS */
OBJECT = IMAGE
  INTERCHANGE_FORMAT = BINARY
  LINES = 9319
  LINE_SAMPLES = 2359
  SAMPLE_TYPE = UNSIGNED_INTEGER
  SAMPLE_BITS = 8
  BANDS = 1
  BAND_STORAGE_TYPE = BAND_SEQUENTIAL
  MAXIMUM = 255
  MEAN = 103.541
  MINIMUM = 1
  STANDARD_DEVIATION = 33.2511
END_OBJECT = IMAGE
/* MAP OBJECT DEFINITIONS */
OBJECT = IMAGE_MAP_PROJECTION
  ^DATA_SET_MAP_PROJECTION_CATALOG= "DSMAP.CAT"
  A_AXIS_RADIUS = 3396.0
  B_AXIS_RADIUS = 3396.0
  C_AXIS_RADIUS = 3396.0
  CENTER_LATITUDE = 0.0
  CENTER_LONGITUDE = 114.0
  COORDINATE_SYSTEM_NAME = PLANETOGRAPHIC
  COORDINATE_SYSTEM_TYPE = "BODY-FIXED ROTATING"
  EASTERNMOST_LONGITUDE = 114.612
  FIRST_STANDARD_PARALLEL = "N/A"
  LINE_FIRST_PIXEL = 1
  LINE_LAST_PIXEL = 9319
  LINE_PROJECTION_OFFSET = 2943.125
  MAP_PROJECTION_ROTATION = 0.0
  MAP_PROJECTION_TYPE = SINUSOIDAL
  MAP_RESOLUTION = 1185.42760773333
  MAP_SCALE = 0.05
  MAXIMUM_LATITUDE = 2.48457
  MINIMUM_LATITUDE = -5.36899
  POSITIVE_LONGITUDE_DIRECTION = EAST
  REFERENCE_LATITUDE = "N/A"
  REFERENCE_LONGITUDE = "N/A"
  SAMPLE_FIRST_PIXEL = 1
  SAMPLE_LAST_PIXEL = 2359
  SAMPLE_PROJECTION_OFFSET = 1660.375
  SECOND_STANDARD_PARALLEL = "N/A"
  WESTERNMOST_LONGITUDE = 112.57
END_OBJECT = IMAGE_MAP_PROJECTION
/* The JPEG2000 image data file associated with this label. */
OBJECT = COMPRESSED_FILE
  FILE_NAME = "HD593_0000_P23.JP2"
  RECORD_TYPE = UNDEFINED
  FILE_RECORDS = UNK
  ENCODING_TYPE = "JP2"
  INTERCHANGE_FORMAT = BINARY
  UNCOMPRESSED_FILE_NAME = "HD593_0000_P23.IMG"
  REQUIRED_STORAGE_BYTES = "22002393"
  ^DESCRIPTION = "JP2INFO.TXT"
END_OBJECT = COMPRESSED_FILE
END
