PDS_VERSION_ID = PDS3
/* FILE DATA ELEMENTS */
RECORD_TYPE = STREAM
/* POINTERS TO DATA OBJECTS */
^COMPRESSED_FILE = "HD596_0000_BL3.JP2"
/* IDENTIFICATION DATA ELEMENTS */
DATA_SET_ID = "MEX-M-HRSC-5-REFDR-MAPPROJECTED-V3.0"
DATA_SET_NAME = "MARS EXPRESS HRSC MAP PROJECTED REFDR V3.0"
DETECTOR_ID = MEX_HRSC_BLUE
EVENT_TYPE = "MARS-REGIONAL-SYSTEMTEST-Tc-Ot-At"
INSTRUMENT_HOST_ID = MEX
INSTRUMENT_HOST_NAME = "MARS EXPRESS"
INSTRUMENT_ID = HRSC
INSTRUMENT_NAME = "HIGH RESOLUTION STEREO CAMERA"
MISSION_NAME = "MARS EXPRESS"
MISSION_PHASE_NAME = ME_Phase_31
PROCESSING_LEVEL_ID = 3
PRODUCT_CREATION_TIME = 2016-10-29T11:58:31.000Z
PRODUCT_ID = "HD596_0000_BL3.JP2"
RELEASE_ID = 0125
REVISION_ID = 0000
/* QUALITY DATA ELEMENTS */
DATA_QUALITY_ID = 1
DATA_QUALITY_DESC = "Data calculated based on original SPICE kernels"
/* TIME DATA ELEMENTS */
SPACECRAFT_CLOCK_START_COUNT = "1/0358978578.09034"
SPACECRAFT_CLOCK_STOP_COUNT = "1/0358978878.39594"
START_TIME = 2014-09-16T20:17:02.857Z
STOP_TIME = 2014-09-16T20:20:52.204Z
/* ORBITAL DATA ELEMENTS */
ASCENDING_NODE_LONGITUDE = 318.47
MAXIMUM_RESOLUTION = 116.4
FOOTPRINT_POINT_LATITUDE = (29.033,29.0323,29.03,29.0271,29.0327, 28.749,28.4652,28.1814,27.8976,27.4718, 27.188,26.7623,26.4786,26.1947,25.911, 25.4855,25.2018,24.9181,24.6346,24.351, 24.0675,23.7841,23.5008,23.2175,22.9343 ,22.6511,22.368,22.0849,21.8021,21.5194 ,21.2367,20.9542,20.5306,20.2484, 19.9663,19.6843,19.4024,19.1207,18.8392 ,18.5578,18.2765,17.9955,17.7146, 17.2171,16.8824,16.5481,16.2139,15.8802 ,15.5466,15.2134,14.8804,14.5478, 14.2972,14.2964,14.2943,14.2913,14.2915 ,14.6242,14.9572,15.4564,15.958,16.2925 ,16.6268,16.9616,17.2967,17.7809, 18.0622,18.3435,18.6252,18.9069,19.3299 ,19.6119,19.8941,20.1764,20.459,20.8828 ,21.1659,21.4488,21.7316,22.0148, 22.4397,22.8645,23.1479,23.4321,23.8577 ,24.1414,24.4252,24.7089,25.1351, 25.4192,25.8453,26.1294,26.5555,26.8397 ,27.2659,27.6922,28.1185,28.4026, 28.8288,29.033)
FOOTPRINT_POINT_LONGITUDE = (167.628,167.376,166.91,166.538,166.315 ,166.32,166.325,166.33,166.334,166.341, 166.345,166.351,166.354,166.358,166.361 ,166.366,166.368,166.371,166.373, 166.376,166.378,166.38,166.381,166.383, 166.384,166.386,166.387,166.388,166.388 ,166.389,166.389,166.39,166.39,166.39, 166.389,166.389,166.388,166.388,166.387 ,166.386,166.385,166.383,166.382, 166.379,166.377,166.375,166.372,166.369 ,166.367,166.364,166.36,166.357,166.456 ,166.664,167.027,167.507,167.736, 167.736,167.737,167.735,167.737,167.738 ,167.738,167.739,167.739,167.74,167.74, 167.74,167.741,167.742,167.742,167.743, 167.743,167.744,167.744,167.745,167.746 ,167.746,167.747,167.747,167.748, 167.749,167.749,167.751,167.752,167.753 ,167.754,167.754,167.755,167.756, 167.757,167.758,167.759,167.76,167.761, 167.762,167.764,167.764,167.765, 167.628)
ORBIT_NUMBER = 13596
ORBITAL_ECCENTRICITY = 0.575
ORBITAL_INCLINATION = 86.9
ORBITAL_SEMIMAJOR_AXIS = 8833.86
PERIAPSIS_ALTITUDE = 360.03
PERIAPSIS_ARGUMENT_ANGLE = 154.78
PERIAPSIS_TIME = 2014-09-16T20:17:57.000Z
SPACECRAFT_ORIENTATION = (0.0,-1.0,0.0)
^MEX_ORIENTATION_DESC = "MEX_ORIENTATION_DESC.TXT"
SPACECRAFT_POINTING_MODE = NADIR
^MEX_POINTING_DESC = "MEX_POINTING_DESC.TXT"
RIGHT_ASCENSION = -1e+32
DECLINATION = -1e+32
OFFSET_ANGLE = -1e+32
SPACECRAFT_SOLAR_DISTANCE = 2.14072e+08
TARGET_NAME = MARS
/* CAMERA DATA ELEMENTS */
DETECTOR_TEMPERATURE = 18.5744
FOCAL_PLANE_TEMPERATURE = 8.7872
INST_CMPRS_NAME = "DISCRETE COSINE TRANSFORMATION (DCT)"
INST_CMPRS_RATIO = 4.82902
INST_CMPRS_QUALITY = 0
INST_CMPRS_QUANTZ_TBL_ID = 0
INSTRUMENT_TEMPERATURE = 11.6418
LENS_TEMPERATURE = 9.195
MACROPIXEL_SIZE = 8
MISSING_FRAMES = 0
PIXEL_SUBSAMPLING_FLAG = N
SIGNAL_CHAIN_ID = 2
/* RADIOMETRIC DATA ELEMENTS */
BANDWIDTH = 76.0
CENTER_FILTER_WAVELENGTH = 444.0
RADIANCE_OFFSET = 0.2435
RADIANCE_SCALING_FACTOR = 0.00083939
REFLECTANCE_SCALING_FACTOR = 3.9522e-05
MEX:REFLECTANCE_OFFSET = 0.011465
/* IMAGE OBJECT DEFINITIONS */
OBJECT = IMAGE
  INTERCHANGE_FORMAT = BINARY
  LINES = 8746
  LINE_SAMPLES = 838
  SAMPLE_TYPE = UNSIGNED_INTEGER
  SAMPLE_BITS = 8
  BANDS = 1
  BAND_STORAGE_TYPE = BAND_SEQUENTIAL
  MAXIMUM = 255
  MEAN = 105.93
  MINIMUM = 1
  STANDARD_DEVIATION = 33.5099
END_OBJECT = IMAGE
/* MAP OBJECT DEFINITIONS */
OBJECT = IMAGE_MAP_PROJECTION
  ^DATA_SET_MAP_PROJECTION_CATALOG= "DSMAP.CAT"
  A_AXIS_RADIUS = 3396.0
  B_AXIS_RADIUS = 3396.0
  C_AXIS_RADIUS = 3396.0
  CENTER_LATITUDE = 0.0
  CENTER_LONGITUDE = 167.0
  COORDINATE_SYSTEM_NAME = PLANETOGRAPHIC
  COORDINATE_SYSTEM_TYPE = "BODY-FIXED ROTATING"
  EASTERNMOST_LONGITUDE = 167.765
  FIRST_STANDARD_PARALLEL = "N/A"
  LINE_FIRST_PIXEL = 1
  LINE_LAST_PIXEL = 8746
  LINE_PROJECTION_OFFSET = 17220.4375
  MAP_PROJECTION_ROTATION = 0.0
  MAP_PROJECTION_TYPE = SINUSOIDAL
  MAP_RESOLUTION = 592.713803866667
  MAP_SCALE = 0.1
  MAXIMUM_LATITUDE = 29.033
  MINIMUM_LATITUDE = 14.2913
  POSITIVE_LONGITUDE_DIRECTION = EAST
  REFERENCE_LATITUDE = "N/A"
  REFERENCE_LONGITUDE = "N/A"
  SAMPLE_FIRST_PIXEL = 1
  SAMPLE_LAST_PIXEL = 838
  SAMPLE_PROJECTION_OFFSET = 396.6875
  SECOND_STANDARD_PARALLEL = "N/A"
  WESTERNMOST_LONGITUDE = 166.315
END_OBJECT = IMAGE_MAP_PROJECTION
/* The JPEG2000 image data file associated with this label. */
OBJECT = COMPRESSED_FILE
  FILE_NAME = "HD596_0000_BL3.JP2"
  RECORD_TYPE = UNDEFINED
  FILE_RECORDS = UNK
  ENCODING_TYPE = "JP2"
  INTERCHANGE_FORMAT = BINARY
  UNCOMPRESSED_FILE_NAME = "HD596_0000_BL3.IMG"
  REQUIRED_STORAGE_BYTES = "7347584"
  ^DESCRIPTION = "JP2INFO.TXT"
END_OBJECT = COMPRESSED_FILE
END
