PDS_VERSION_ID = PDS3
/* FILE DATA ELEMENTS */
RECORD_TYPE = STREAM
/* POINTERS TO DATA OBJECTS */
^COMPRESSED_FILE = "HD600_0000_RE3.JP2"
/* IDENTIFICATION DATA ELEMENTS */
DATA_SET_ID = "MEX-M-HRSC-5-REFDR-MAPPROJECTED-V3.0"
DATA_SET_NAME = "MARS EXPRESS HRSC MAP PROJECTED REFDR V3.0"
DETECTOR_ID = MEX_HRSC_RED
EVENT_TYPE = "MARS-REGIONAL-MAPPING-Im-Fl-Lc"
INSTRUMENT_HOST_ID = MEX
INSTRUMENT_HOST_NAME = "MARS EXPRESS"
INSTRUMENT_ID = HRSC
INSTRUMENT_NAME = "HIGH RESOLUTION STEREO CAMERA"
MISSION_NAME = "MARS EXPRESS"
MISSION_PHASE_NAME = ME_Phase_31
PROCESSING_LEVEL_ID = 3
PRODUCT_CREATION_TIME = 2016-10-29T11:58:31.000Z
PRODUCT_ID = "HD600_0000_RE3.JP2"
RELEASE_ID = 0125
REVISION_ID = 0000
/* QUALITY DATA ELEMENTS */
DATA_QUALITY_ID = 1
DATA_QUALITY_DESC = "Data calculated based on original SPICE kernels"
/* TIME DATA ELEMENTS */
SPACECRAFT_CLOCK_START_COUNT = "1/0359079656.08287"
SPACECRAFT_CLOCK_STOP_COUNT = "1/0359080072.39284"
START_TIME = 2014-09-18T00:22:22.783Z
STOP_TIME = 2014-09-18T00:27:39.187Z
/* ORBITAL DATA ELEMENTS */
ASCENDING_NODE_LONGITUDE = 318.4
MAXIMUM_RESOLUTION = 82.1
FOOTPRINT_POINT_LATITUDE = (3.20854,3.21395,3.21852,3.22481, 3.22571,2.80007,2.22936,1.93997,1.50611 ,1.21285,0.920209,0.62329,0.326637, -0.122412,-0.42278,-0.723757,-1.02939, -1.33645,-1.64686,-1.9545,-2.26899, -2.58122,-2.8972,-3.21385,-3.5342, -3.85488,-4.18099,-4.50362,-4.82956, -5.16186,-5.49242,-5.82743,-6.16317, -6.50233,-6.84421,-7.18879,-7.53476, -7.88329,-8.23424,-8.76615,-9.12204, -9.48174,-9.84526,-10.2109,-10.5792, -11.1388,-11.7013,-12.0802,-12.4617, -12.8461,-13.2337,-13.3187,-13.3285, -13.3374,-13.3439,-13.3426,-12.9573, -12.5716,-12.1893,-11.8047,-11.4315, -11.0568,-10.6852,-10.1312,-9.7668, -9.40596,-9.04729,-8.69135,-8.3401, -7.98433,-7.45427,-7.10843,-6.7676, -6.43223,-6.09089,-5.75424,-5.25481, -4.75895,-4.43046,-4.10639,-3.78296, -3.46299,-2.98565,-2.66787,-2.35609, -2.04313,-1.73317,-1.26843,-0.962234, -0.656078,-0.352389,-0.0500571,0.247838 ,0.543344,0.840079,1.13293,1.42675, 2.00648,2.72445,3.20854)
FOOTPRINT_POINT_LONGITUDE = (118.774,118.245,117.876,117.443, 117.119,117.105,117.086,117.077,117.062 ,117.052,117.041,117.032,117.021, 117.004,116.993,116.981,116.969,116.958 ,116.946,116.934,116.922,116.909, 116.895,116.882,116.868,116.854,116.841 ,116.825,116.81,116.795,116.78,116.764, 116.747,116.731,116.714,116.698,116.68, 116.663,116.644,116.617,116.597,116.578 ,116.558,116.537,116.516,116.485, 116.452,116.429,116.405,116.381,116.356 ,116.917,117.354,117.842,118.331, 118.925,119.101,119.09,119.08,119.071, 119.06,119.051,119.042,119.029,119.021, 119.012,119.004,118.996,118.988,118.982 ,118.975,118.968,118.961,118.953, 118.948,118.943,118.934,118.927,118.922 ,118.917,118.912,118.907,118.9,118.896, 118.892,118.887,118.884,118.879,118.875 ,118.872,118.87,118.867,118.864,118.86, 118.857,118.854,118.851,118.846,118.84, 118.774)
ORBIT_NUMBER = 13600
ORBITAL_ECCENTRICITY = 0.576
ORBITAL_INCLINATION = 86.89
ORBITAL_SEMIMAJOR_AXIS = 8841.7
PERIAPSIS_ALTITUDE = 359.64
PERIAPSIS_ARGUMENT_ANGLE = 154.08
PERIAPSIS_TIME = 2014-09-18T00:15:46.000Z
SPACECRAFT_ORIENTATION = (0.0,-1.0,0.0)
^MEX_ORIENTATION_DESC = "MEX_ORIENTATION_DESC.TXT"
SPACECRAFT_POINTING_MODE = NADIR
^MEX_POINTING_DESC = "MEX_POINTING_DESC.TXT"
RIGHT_ASCENSION = -1e+32
DECLINATION = -1e+32
OFFSET_ANGLE = -1e+32
SPACECRAFT_SOLAR_DISTANCE = 2.13889e+08
TARGET_NAME = MARS
/* CAMERA DATA ELEMENTS */
DETECTOR_TEMPERATURE = 19.1861
FOCAL_PLANE_TEMPERATURE = 9.195
INST_CMPRS_NAME = "DISCRETE COSINE TRANSFORMATION (DCT)"
INST_CMPRS_RATIO = 12.105
INST_CMPRS_QUALITY = 0
INST_CMPRS_QUANTZ_TBL_ID = 0
INSTRUMENT_TEMPERATURE = 12.0496
LENS_TEMPERATURE = 9.6028
MACROPIXEL_SIZE = 4
MISSING_FRAMES = 0
PIXEL_SUBSAMPLING_FLAG = N
SIGNAL_CHAIN_ID = 2
/* RADIOMETRIC DATA ELEMENTS */
BANDWIDTH = 48.0
CENTER_FILTER_WAVELENGTH = 748.0
RADIANCE_OFFSET = 0.391933
RADIANCE_SCALING_FACTOR = 0.00269565
REFLECTANCE_SCALING_FACTOR = 0.000281426
MEX:REFLECTANCE_OFFSET = 0.0409179
/* IMAGE OBJECT DEFINITIONS */
OBJECT = IMAGE
  INTERCHANGE_FORMAT = BINARY
  LINES = 19648
  LINE_SAMPLES = 2952
  SAMPLE_TYPE = UNSIGNED_INTEGER
  SAMPLE_BITS = 8
  BANDS = 1
  BAND_STORAGE_TYPE = BAND_SEQUENTIAL
  MAXIMUM = 255
  MEAN = 100.628
  MINIMUM = 1
  STANDARD_DEVIATION = 34.7277
END_OBJECT = IMAGE
/* MAP OBJECT DEFINITIONS */
OBJECT = IMAGE_MAP_PROJECTION
  ^DATA_SET_MAP_PROJECTION_CATALOG= "DSMAP.CAT"
  A_AXIS_RADIUS = 3396.0
  B_AXIS_RADIUS = 3396.0
  C_AXIS_RADIUS = 3396.0
  CENTER_LATITUDE = 0.0
  CENTER_LONGITUDE = 118.0
  COORDINATE_SYSTEM_NAME = PLANETOGRAPHIC
  COORDINATE_SYSTEM_TYPE = "BODY-FIXED ROTATING"
  EASTERNMOST_LONGITUDE = 119.101
  FIRST_STANDARD_PARALLEL = "N/A"
  LINE_FIRST_PIXEL = 1
  LINE_LAST_PIXEL = 19648
  LINE_PROJECTION_OFFSET = 3834.125
  MAP_PROJECTION_ROTATION = 0.0
  MAP_PROJECTION_TYPE = SINUSOIDAL
  MAP_RESOLUTION = 1185.42760773333
  MAP_SCALE = 0.05
  MAXIMUM_LATITUDE = 3.22571
  MINIMUM_LATITUDE = -13.3439
  POSITIVE_LONGITUDE_DIRECTION = EAST
  REFERENCE_LATITUDE = "N/A"
  REFERENCE_LONGITUDE = "N/A"
  SAMPLE_FIRST_PIXEL = 1
  SAMPLE_LAST_PIXEL = 2952
  SAMPLE_PROJECTION_OFFSET = 1778.375
  SECOND_STANDARD_PARALLEL = "N/A"
  WESTERNMOST_LONGITUDE = 116.356
END_OBJECT = IMAGE_MAP_PROJECTION
/* The JPEG2000 image data file associated with this label. */
OBJECT = COMPRESSED_FILE
  FILE_NAME = "HD600_0000_RE3.JP2"
  RECORD_TYPE = UNDEFINED
  FILE_RECORDS = UNK
  ENCODING_TYPE = "JP2"
  INTERCHANGE_FORMAT = BINARY
  UNCOMPRESSED_FILE_NAME = "HD600_0000_RE3.IMG"
  REQUIRED_STORAGE_BYTES = "58024512"
  ^DESCRIPTION = "JP2INFO.TXT"
END_OBJECT = COMPRESSED_FILE
END
