PDS_VERSION_ID = PDS3
/* FILE DATA ELEMENTS */
RECORD_TYPE = STREAM
/* POINTERS TO DATA OBJECTS */
^COMPRESSED_FILE = "HD602_0000_BL3.JP2"
/* IDENTIFICATION DATA ELEMENTS */
DATA_SET_ID = "MEX-M-HRSC-5-REFDR-MAPPROJECTED-V3.0"
DATA_SET_NAME = "MARS EXPRESS HRSC MAP PROJECTED REFDR V3.0"
DETECTOR_ID = MEX_HRSC_BLUE
EVENT_TYPE = "MARS-REGIONAL-MAPPING-Vo"
INSTRUMENT_HOST_ID = MEX
INSTRUMENT_HOST_NAME = "MARS EXPRESS"
INSTRUMENT_ID = HRSC
INSTRUMENT_NAME = "HIGH RESOLUTION STEREO CAMERA"
MISSION_NAME = "MARS EXPRESS"
MISSION_PHASE_NAME = ME_Phase_31
PROCESSING_LEVEL_ID = 3
PRODUCT_CREATION_TIME = 2016-10-29T11:58:31.000Z
PRODUCT_ID = "HD602_0000_BL3.JP2"
RELEASE_ID = 0125
REVISION_ID = 0000
/* QUALITY DATA ELEMENTS */
DATA_QUALITY_ID = 1
DATA_QUALITY_DESC = "Data calculated based on original SPICE kernels"
/* TIME DATA ELEMENTS */
SPACECRAFT_CLOCK_START_COUNT = "1/0359129760.08242"
SPACECRAFT_CLOCK_STOP_COUNT = "1/0359130118.64304"
START_TIME = 2014-09-18T14:16:44.314Z
STOP_TIME = 2014-09-18T14:21:20.514Z
/* ORBITAL DATA ELEMENTS */
ASCENDING_NODE_LONGITUDE = 318.36
MAXIMUM_RESOLUTION = 118.1
FOOTPRINT_POINT_LATITUDE = (19.2475,19.2496,19.2509,19.1103, 18.5146,18.1796,17.845,17.5106,17.1764, 16.8427,16.5092,16.176,15.843,15.5104, 15.178,14.8461,14.5144,14.1831,13.8521, 13.5216,13.1914,12.8616,12.5321,12.203, 11.8744,11.5462,11.2184,10.5641,10.0642 ,9.72956,9.39544,9.06171,8.72049, 8.20862,7.86805,7.34856,7.00062,6.65334 ,6.30072,5.94606,5.59199,5.23373,4.8724 ,4.51169,4.14607,3.77823,3.41125, 3.03711,2.47669,2.09622,2.07021,2.06157 ,2.05711,2.4383,2.81227,3.18705,3.74188 ,4.11009,4.47652,4.83765,5.19942, 5.55834,5.91284,6.26798,6.62132,6.96898 ,7.31728,7.83779,8.17881,8.69127, 9.03324,9.3673,9.70175,10.0368,10.5375, 10.8649,11.1926,11.5208,11.8493,12.1784 ,12.5078,12.8376,13.1678,13.4984, 13.8292,14.1605,14.4922,14.8241,15.1565 ,15.4892,15.8222,16.1555,16.4891,16.823 ,17.1572,17.4916,17.8265,18.1615, 18.8138,19.2475)
FOOTPRINT_POINT_LONGITUDE = (273.745,273.342,272.937,272.583, 272.583,272.582,272.581,272.58,272.578, 272.576,272.574,272.572,272.57,272.567, 272.565,272.562,272.559,272.556,272.553 ,272.549,272.545,272.541,272.537, 272.533,272.528,272.524,272.519,272.508 ,272.5,272.494,272.488,272.482,272.476, 272.466,272.459,272.448,272.44,272.432, 272.424,272.416,272.407,272.398,272.389 ,272.38,272.371,272.361,272.351,272.341 ,272.325,272.314,272.956,273.535, 273.981,273.979,273.977,273.975,273.973 ,273.971,273.969,273.968,273.966, 273.965,273.963,273.962,273.96,273.959, 273.958,273.956,273.955,273.953,273.952 ,273.952,273.951,273.95,273.948,273.948 ,273.947,273.946,273.945,273.945, 273.944,273.944,273.943,273.942,273.942 ,273.941,273.941,273.94,273.939,273.939 ,273.939,273.938,273.938,273.937, 273.937,273.936,273.936,273.935,273.934 ,273.745)
ORBIT_NUMBER = 13602
ORBITAL_ECCENTRICITY = 0.576
ORBITAL_INCLINATION = 86.89
ORBITAL_SEMIMAJOR_AXIS = 8844.96
PERIAPSIS_ALTITUDE = 359.89
PERIAPSIS_ARGUMENT_ANGLE = 153.74
PERIAPSIS_TIME = 2014-09-18T14:14:50.000Z
SPACECRAFT_ORIENTATION = (0.0,-1.0,0.0)
^MEX_ORIENTATION_DESC = "MEX_ORIENTATION_DESC.TXT"
SPACECRAFT_POINTING_MODE = ACROSSTRACK
^MEX_POINTING_DESC = "MEX_POINTING_DESC.TXT"
RIGHT_ASCENSION = -1e+32
DECLINATION = -1e+32
OFFSET_ANGLE = -0.3
SPACECRAFT_SOLAR_DISTANCE = 2.13798e+08
TARGET_NAME = MARS
/* CAMERA DATA ELEMENTS */
DETECTOR_TEMPERATURE = 18.7783
FOCAL_PLANE_TEMPERATURE = 8.9911
INST_CMPRS_NAME = "DISCRETE COSINE TRANSFORMATION (DCT)"
INST_CMPRS_RATIO = 6.86073
INST_CMPRS_QUALITY = 0
INST_CMPRS_QUANTZ_TBL_ID = 0
INSTRUMENT_TEMPERATURE = 12.0496
LENS_TEMPERATURE = 9.6028
MACROPIXEL_SIZE = 8
MISSING_FRAMES = 0
PIXEL_SUBSAMPLING_FLAG = N
SIGNAL_CHAIN_ID = 2
/* RADIOMETRIC DATA ELEMENTS */
BANDWIDTH = 76.0
CENTER_FILTER_WAVELENGTH = 444.0
RADIANCE_OFFSET = 0.308596
RADIANCE_SCALING_FACTOR = 0.00163538
REFLECTANCE_SCALING_FACTOR = 7.68035e-05
MEX:REFLECTANCE_OFFSET = 0.0144928
/* IMAGE OBJECT DEFINITIONS */
OBJECT = IMAGE
  INTERCHANGE_FORMAT = BINARY
  LINES = 10192
  LINE_SAMPLES = 1040
  SAMPLE_TYPE = UNSIGNED_INTEGER
  SAMPLE_BITS = 8
  BANDS = 1
  BAND_STORAGE_TYPE = BAND_SEQUENTIAL
  MAXIMUM = 255
  MEAN = 77.2494
  MINIMUM = 1
  STANDARD_DEVIATION = 25.8038
END_OBJECT = IMAGE
/* MAP OBJECT DEFINITIONS */
OBJECT = IMAGE_MAP_PROJECTION
  ^DATA_SET_MAP_PROJECTION_CATALOG= "DSMAP.CAT"
  A_AXIS_RADIUS = 3396.0
  B_AXIS_RADIUS = 3396.0
  C_AXIS_RADIUS = 3396.0
  CENTER_LATITUDE = 0.0
  CENTER_LONGITUDE = 273.0
  COORDINATE_SYSTEM_NAME = PLANETOGRAPHIC
  COORDINATE_SYSTEM_TYPE = "BODY-FIXED ROTATING"
  EASTERNMOST_LONGITUDE = 273.981
  FIRST_STANDARD_PARALLEL = "N/A"
  LINE_FIRST_PIXEL = 1
  LINE_LAST_PIXEL = 10192
  LINE_PROJECTION_OFFSET = 11413.5625
  MAP_PROJECTION_ROTATION = 0.0
  MAP_PROJECTION_TYPE = SINUSOIDAL
  MAP_RESOLUTION = 592.713803866667
  MAP_SCALE = 0.1
  MAXIMUM_LATITUDE = 19.2509
  MINIMUM_LATITUDE = 2.05711
  POSITIVE_LONGITUDE_DIRECTION = EAST
  REFERENCE_LATITUDE = "N/A"
  REFERENCE_LONGITUDE = "N/A"
  SAMPLE_FIRST_PIXEL = 1
  SAMPLE_LAST_PIXEL = 1040
  SAMPLE_PROJECTION_OFFSET = 445.4375
  SECOND_STANDARD_PARALLEL = "N/A"
  WESTERNMOST_LONGITUDE = 272.314
END_OBJECT = IMAGE_MAP_PROJECTION
/* The JPEG2000 image data file associated with this label. */
OBJECT = COMPRESSED_FILE
  FILE_NAME = "HD602_0000_BL3.JP2"
  RECORD_TYPE = UNDEFINED
  FILE_RECORDS = UNK
  ENCODING_TYPE = "JP2"
  INTERCHANGE_FORMAT = BINARY
  UNCOMPRESSED_FILE_NAME = "HD602_0000_BL3.IMG"
  REQUIRED_STORAGE_BYTES = "10617360"
  ^DESCRIPTION = "JP2INFO.TXT"
END_OBJECT = COMPRESSED_FILE
END
