PDS_VERSION_ID = PDS3
/* FILE DATA ELEMENTS */
RECORD_TYPE = STREAM
/* POINTERS TO DATA OBJECTS */
^COMPRESSED_FILE = "HD602_0000_P23.JP2"
/* IDENTIFICATION DATA ELEMENTS */
DATA_SET_ID = "MEX-M-HRSC-5-REFDR-MAPPROJECTED-V3.0"
DATA_SET_NAME = "MARS EXPRESS HRSC MAP PROJECTED REFDR V3.0"
DETECTOR_ID = MEX_HRSC_P2
EVENT_TYPE = "MARS-REGIONAL-MAPPING-Vo"
INSTRUMENT_HOST_ID = MEX
INSTRUMENT_HOST_NAME = "MARS EXPRESS"
INSTRUMENT_ID = HRSC
INSTRUMENT_NAME = "HIGH RESOLUTION STEREO CAMERA"
MISSION_NAME = "MARS EXPRESS"
MISSION_PHASE_NAME = ME_Phase_31
PROCESSING_LEVEL_ID = 3
PRODUCT_CREATION_TIME = 2016-10-29T11:58:31.000Z
PRODUCT_ID = "HD602_0000_P23.JP2"
RELEASE_ID = 0125
REVISION_ID = 0000
/* QUALITY DATA ELEMENTS */
DATA_QUALITY_ID = 1
DATA_QUALITY_DESC = "Data calculated based on original SPICE kernels"
/* TIME DATA ELEMENTS */
SPACECRAFT_CLOCK_START_COUNT = "1/0359129760.08242"
SPACECRAFT_CLOCK_STOP_COUNT = "1/0359130118.64304"
START_TIME = 2014-09-18T14:17:00.909Z
STOP_TIME = 2014-09-18T14:21:44.538Z
/* ORBITAL DATA ELEMENTS */
ASCENDING_NODE_LONGITUDE = 318.36
MAXIMUM_RESOLUTION = 61.4
FOOTPRINT_POINT_LATITUDE = (19.2387,19.2439,19.2491,19.09,18.7548, 18.4198,18.0853,17.7514,17.4179,17.0848 ,16.7525,16.4205,16.0892,15.5921, 15.2616,14.9316,14.602,14.273,13.9443, 13.6164,13.2892,12.9624,12.6362,12.3102 ,11.6605,11.3287,10.9966,10.6653, 10.3346,9.99829,9.66,9.32278,8.98584, 8.64159,8.29784,7.95478,7.43268,7.08294 ,6.55585,6.19988,5.84501,5.48544, 5.12358,4.76274,4.39494,3.84408,3.47038 ,3.09716,2.5311,2.15225,2.06995,2.05802 ,2.04946,2.23521,2.61461,2.99331, 3.36674,3.92582,4.29359,4.84364,5.20525 ,5.74785,6.10324,6.45954,6.81359, 7.16299,7.51363,7.86288,8.20624,8.55041 ,9.06494,9.40224,9.74032,10.2477,10.579 ,10.9105,11.243,11.5767,11.9015,12.227, 12.553,12.8797,13.3706,13.6983,14.0267, 14.3558,14.6849,15.0148,15.3456,15.6767 ,16.0083,16.3402,16.6727,17.0055, 17.3387,17.6727,18.0071,18.3418,18.6769 ,19.2387)
FOOTPRINT_POINT_LONGITUDE = (273.826,273.431,273.02,272.56,272.559, 272.558,272.557,272.556,272.554,272.552 ,272.55,272.548,272.545,272.541,272.538 ,272.535,272.532,272.528,272.525, 272.521,272.517,272.512,272.508,272.503 ,272.494,272.488,272.483,272.477, 272.471,272.465,272.458,272.452,272.445 ,272.438,272.43,272.423,272.411,272.403 ,272.39,272.381,272.372,272.362,272.353 ,272.343,272.333,272.317,272.306, 272.295,272.278,272.266,272.738,273.293 ,273.715,274.01,274.007,274.005,274.002 ,273.998,273.996,273.993,273.991, 273.988,273.986,273.984,273.982,273.98, 273.978,273.977,273.975,273.973,273.971 ,273.97,273.968,273.966,273.965,273.964 ,273.963,273.962,273.961,273.96,273.959 ,273.958,273.956,273.955,273.954, 273.953,273.953,273.952,273.951,273.95, 273.949,273.948,273.948,273.947,273.946 ,273.945,273.945,273.944,273.943, 273.826)
ORBIT_NUMBER = 13602
ORBITAL_ECCENTRICITY = 0.576
ORBITAL_INCLINATION = 86.89
ORBITAL_SEMIMAJOR_AXIS = 8844.96
PERIAPSIS_ALTITUDE = 359.89
PERIAPSIS_ARGUMENT_ANGLE = 153.74
PERIAPSIS_TIME = 2014-09-18T14:14:50.000Z
SPACECRAFT_ORIENTATION = (0.0,-1.0,0.0)
^MEX_ORIENTATION_DESC = "MEX_ORIENTATION_DESC.TXT"
SPACECRAFT_POINTING_MODE = ACROSSTRACK
^MEX_POINTING_DESC = "MEX_POINTING_DESC.TXT"
RIGHT_ASCENSION = -1e+32
DECLINATION = -1e+32
OFFSET_ANGLE = -0.3
SPACECRAFT_SOLAR_DISTANCE = 2.13798e+08
TARGET_NAME = MARS
/* CAMERA DATA ELEMENTS */
DETECTOR_TEMPERATURE = 18.9822
FOCAL_PLANE_TEMPERATURE = 8.9911
INST_CMPRS_NAME = "DISCRETE COSINE TRANSFORMATION (DCT)"
INST_CMPRS_RATIO = 5.15678
INST_CMPRS_QUALITY = 0
INST_CMPRS_QUANTZ_TBL_ID = 0
INSTRUMENT_TEMPERATURE = 12.0496
LENS_TEMPERATURE = 9.6028
MACROPIXEL_SIZE = 4
MISSING_FRAMES = 0
PIXEL_SUBSAMPLING_FLAG = N
SIGNAL_CHAIN_ID = 3
/* RADIOMETRIC DATA ELEMENTS */
BANDWIDTH = 177.0
CENTER_FILTER_WAVELENGTH = 676.5
RADIANCE_OFFSET = 1.99588
RADIANCE_SCALING_FACTOR = 0.0118391
REFLECTANCE_SCALING_FACTOR = 0.000286937
MEX:REFLECTANCE_OFFSET = 0.0483728
/* IMAGE OBJECT DEFINITIONS */
OBJECT = IMAGE
  INTERCHANGE_FORMAT = BINARY
  LINES = 20383
  LINE_SAMPLES = 2079
  SAMPLE_TYPE = UNSIGNED_INTEGER
  SAMPLE_BITS = 8
  BANDS = 1
  BAND_STORAGE_TYPE = BAND_SEQUENTIAL
  MAXIMUM = 255
  MEAN = 89.2682
  MINIMUM = 1
  STANDARD_DEVIATION = 25.7316
END_OBJECT = IMAGE
/* MAP OBJECT DEFINITIONS */
OBJECT = IMAGE_MAP_PROJECTION
  ^DATA_SET_MAP_PROJECTION_CATALOG= "DSMAP.CAT"
  A_AXIS_RADIUS = 3396.0
  B_AXIS_RADIUS = 3396.0
  C_AXIS_RADIUS = 3396.0
  CENTER_LATITUDE = 0.0
  CENTER_LONGITUDE = 273.0
  COORDINATE_SYSTEM_NAME = PLANETOGRAPHIC
  COORDINATE_SYSTEM_TYPE = "BODY-FIXED ROTATING"
  EASTERNMOST_LONGITUDE = 274.01
  FIRST_STANDARD_PARALLEL = "N/A"
  LINE_FIRST_PIXEL = 1
  LINE_LAST_PIXEL = 20383
  LINE_PROJECTION_OFFSET = 22827.625
  MAP_PROJECTION_ROTATION = 0.0
  MAP_PROJECTION_TYPE = SINUSOIDAL
  MAP_RESOLUTION = 1185.42760773333
  MAP_SCALE = 0.05
  MAXIMUM_LATITUDE = 19.2491
  MINIMUM_LATITUDE = 2.04946
  POSITIVE_LONGITUDE_DIRECTION = EAST
  REFERENCE_LATITUDE = "N/A"
  REFERENCE_LONGITUDE = "N/A"
  SAMPLE_FIRST_PIXEL = 1
  SAMPLE_LAST_PIXEL = 2079
  SAMPLE_PROJECTION_OFFSET = 891.375
  SECOND_STANDARD_PARALLEL = "N/A"
  WESTERNMOST_LONGITUDE = 272.266
END_OBJECT = IMAGE_MAP_PROJECTION
/* The JPEG2000 image data file associated with this label. */
OBJECT = COMPRESSED_FILE
  FILE_NAME = "HD602_0000_P23.JP2"
  RECORD_TYPE = UNDEFINED
  FILE_RECORDS = UNK
  ENCODING_TYPE = "JP2"
  INTERCHANGE_FORMAT = BINARY
  UNCOMPRESSED_FILE_NAME = "HD602_0000_P23.IMG"
  REQUIRED_STORAGE_BYTES = "42397047"
  ^DESCRIPTION = "JP2INFO.TXT"
END_OBJECT = COMPRESSED_FILE
END
