PDS_VERSION_ID = PDS3
/* FILE DATA ELEMENTS */
RECORD_TYPE = STREAM
/* POINTERS TO DATA OBJECTS */
^COMPRESSED_FILE = "HD605_0000_S23.JP2"
/* IDENTIFICATION DATA ELEMENTS */
DATA_SET_ID = "MEX-M-HRSC-5-REFDR-MAPPROJECTED-V3.0"
DATA_SET_NAME = "MARS EXPRESS HRSC MAP PROJECTED REFDR V3.0"
DETECTOR_ID = MEX_HRSC_S2
EVENT_TYPE = "MARS-LOCAL-STEREO-Im-Tc-Ts"
INSTRUMENT_HOST_ID = MEX
INSTRUMENT_HOST_NAME = "MARS EXPRESS"
INSTRUMENT_ID = HRSC
INSTRUMENT_NAME = "HIGH RESOLUTION STEREO CAMERA"
MISSION_NAME = "MARS EXPRESS"
MISSION_PHASE_NAME = ME_Phase_31
PROCESSING_LEVEL_ID = 3
PRODUCT_CREATION_TIME = 2016-10-29T11:58:31.000Z
PRODUCT_ID = "HD605_0000_S23.JP2"
RELEASE_ID = 0125
REVISION_ID = 0000
/* QUALITY DATA ELEMENTS */
DATA_QUALITY_ID = 1
DATA_QUALITY_DESC = "Data calculated based on original SPICE kernels"
/* TIME DATA ELEMENTS */
SPACECRAFT_CLOCK_START_COUNT = "1/0359205390.09035"
SPACECRAFT_CLOCK_STOP_COUNT = "1/0359205557.50710"
START_TIME = 2014-09-19T11:17:51.817Z
STOP_TIME = 2014-09-19T11:19:21.421Z
/* ORBITAL DATA ELEMENTS */
ASCENDING_NODE_LONGITUDE = 318.31
MAXIMUM_RESOLUTION = 18.4
FOOTPRINT_POINT_LATITUDE = (11.32,11.3212,11.3222,11.3232,11.3249, 11.326,11.3273,11.3286,11.3299,11.3313, 11.367,11.2113,11.0055,10.8536,10.6519, 10.4994,10.3962,10.1941,10.0469,9.89668 ,9.74362,9.59025,9.48792,9.3299,9.21974 ,9.11066,8.95934,8.80916,8.70508, 8.60102,8.49715,8.3933,8.28826,8.18185, 8.07575,7.96973,7.81059,7.6518,7.49396, 7.38873,7.22772,7.11954,7.01173,6.90192 ,6.7936,6.6305,6.52343,6.41497,6.30358, 6.19318,6.13071,6.12725,6.12514,6.12134 ,6.11774,6.11559,6.11402,6.11319, 6.11041,6.16478,6.27435,6.38323,6.54434 ,6.70727,6.81749,6.93056,7.03886, 7.19996,7.36023,7.46577,7.57168,7.67804 ,7.7851,7.89122,8.05098,8.15763,8.2639, 8.36908,8.47307,8.62946,8.73372,8.88973 ,9.04524,9.14956,9.25549,9.36041, 9.56529,9.71686,9.82009,9.92366,10.0266 ,10.13,10.2836,10.3866,10.4893,10.6418, 10.7922,10.9916,11.2449,11.32)
FOOTPRINT_POINT_LONGITUDE = (327.421,327.255,327.134,327.014, 326.833,326.713,326.592,326.472,326.351 ,326.23,326.047,326.046,326.043,326.04, 326.036,326.033,326.031,326.025,326.02, 326.015,326.012,326.008,326.006,326.003 ,326.002,326.001,325.996,325.991, 325.988,325.985,325.983,325.98,325.978, 325.975,325.972,325.97,325.966,325.962, 325.957,325.954,325.95,325.947,325.944, 325.942,325.939,325.936,325.933,325.93, 325.928,325.925,326.04,326.241,326.375, 326.592,326.792,326.943,327.06,327.227, 327.444,327.619,327.619,327.618,327.617 ,327.617,327.617,327.618,327.617, 327.616,327.615,327.614,327.614,327.613 ,327.613,327.613,327.612,327.611, 327.611,327.61,327.61,327.609,327.609, 327.608,327.607,327.606,327.606,327.606 ,327.605,327.603,327.603,327.603, 327.603,327.602,327.601,327.601,327.601 ,327.6,327.599,327.598,327.597,327.421)
ORBIT_NUMBER = 13605
ORBITAL_ECCENTRICITY = 0.575
ORBITAL_INCLINATION = 86.91
ORBITAL_SEMIMAJOR_AXIS = 8831.91
PERIAPSIS_ALTITUDE = 360.63
PERIAPSIS_ARGUMENT_ANGLE = 153.21
PERIAPSIS_TIME = 2014-09-19T11:13:11.000Z
SPACECRAFT_ORIENTATION = (0.0,-1.0,0.0)
^MEX_ORIENTATION_DESC = "MEX_ORIENTATION_DESC.TXT"
SPACECRAFT_POINTING_MODE = NADIR
^MEX_POINTING_DESC = "MEX_POINTING_DESC.TXT"
RIGHT_ASCENSION = -1e+32
DECLINATION = -1e+32
OFFSET_ANGLE = -1e+32
SPACECRAFT_SOLAR_DISTANCE = 2.13663e+08
TARGET_NAME = MARS
/* CAMERA DATA ELEMENTS */
DETECTOR_TEMPERATURE = 18.9822
FOCAL_PLANE_TEMPERATURE = 9.3989
INST_CMPRS_NAME = "DISCRETE COSINE TRANSFORMATION (DCT)"
INST_CMPRS_RATIO = 6.46571
INST_CMPRS_QUALITY = 0
INST_CMPRS_QUANTZ_TBL_ID = 0
INSTRUMENT_TEMPERATURE = 13.4769
LENS_TEMPERATURE = 9.8067
MACROPIXEL_SIZE = 1
MISSING_FRAMES = 0
PIXEL_SUBSAMPLING_FLAG = N
SIGNAL_CHAIN_ID = 1
/* RADIOMETRIC DATA ELEMENTS */
BANDWIDTH = 178.0
CENTER_FILTER_WAVELENGTH = 679.0
RADIANCE_OFFSET = 2.21489
RADIANCE_SCALING_FACTOR = 0.00526696
REFLECTANCE_SCALING_FACTOR = 0.000127335
MEX:REFLECTANCE_OFFSET = 0.0535476
/* IMAGE OBJECT DEFINITIONS */
OBJECT = IMAGE
  INTERCHANGE_FORMAT = BINARY
  LINES = 24866
  LINE_SAMPLES = 7759
  SAMPLE_TYPE = UNSIGNED_INTEGER
  SAMPLE_BITS = 8
  BANDS = 1
  BAND_STORAGE_TYPE = BAND_SEQUENTIAL
  MAXIMUM = 255
  MEAN = 110.54
  MINIMUM = 1
  STANDARD_DEVIATION = 34.206
END_OBJECT = IMAGE
/* MAP OBJECT DEFINITIONS */
OBJECT = IMAGE_MAP_PROJECTION
  ^DATA_SET_MAP_PROJECTION_CATALOG= "DSMAP.CAT"
  A_AXIS_RADIUS = 3396.0
  B_AXIS_RADIUS = 3396.0
  C_AXIS_RADIUS = 3396.0
  CENTER_LATITUDE = 0.0
  CENTER_LONGITUDE = 327.0
  COORDINATE_SYSTEM_NAME = PLANETOGRAPHIC
  COORDINATE_SYSTEM_TYPE = "BODY-FIXED ROTATING"
  EASTERNMOST_LONGITUDE = 327.619
  FIRST_STANDARD_PARALLEL = "N/A"
  LINE_FIRST_PIXEL = 1
  LINE_LAST_PIXEL = 24866
  LINE_PROJECTION_OFFSET = 53717.0
  MAP_PROJECTION_ROTATION = 0.0
  MAP_PROJECTION_TYPE = SINUSOIDAL
  MAP_RESOLUTION = 4741.71043093333
  MAP_SCALE = 0.0125
  MAXIMUM_LATITUDE = 11.367
  MINIMUM_LATITUDE = 6.11041
  POSITIVE_LONGITUDE_DIRECTION = EAST
  REFERENCE_LATITUDE = "N/A"
  REFERENCE_LONGITUDE = "N/A"
  SAMPLE_FIRST_PIXEL = 1
  SAMPLE_LAST_PIXEL = 7759
  SAMPLE_PROJECTION_OFFSET = 4935.0
  SECOND_STANDARD_PARALLEL = "N/A"
  WESTERNMOST_LONGITUDE = 325.925
END_OBJECT = IMAGE_MAP_PROJECTION
/* The JPEG2000 image data file associated with this label. */
OBJECT = COMPRESSED_FILE
  FILE_NAME = "HD605_0000_S23.JP2"
  RECORD_TYPE = UNDEFINED
  FILE_RECORDS = UNK
  ENCODING_TYPE = "JP2"
  INTERCHANGE_FORMAT = BINARY
  UNCOMPRESSED_FILE_NAME = "HD605_0000_S23.IMG"
  REQUIRED_STORAGE_BYTES = "192966330"
  ^DESCRIPTION = "JP2INFO.TXT"
END_OBJECT = COMPRESSED_FILE
END
