PDS_VERSION_ID = PDS3
/* FILE DATA ELEMENTS */
RECORD_TYPE = STREAM
/* POINTERS TO DATA OBJECTS */
^COMPRESSED_FILE = "HD614_0000_GR3.JP2"
/* IDENTIFICATION DATA ELEMENTS */
DATA_SET_ID = "MEX-M-HRSC-5-REFDR-MAPPROJECTED-V3.0"
DATA_SET_NAME = "MARS EXPRESS HRSC MAP PROJECTED REFDR V3.0"
DETECTOR_ID = MEX_HRSC_GREEN
EVENT_TYPE = "MARS-REGIONAL-MAPPING-Te-Fl-Mw"
INSTRUMENT_HOST_ID = MEX
INSTRUMENT_HOST_NAME = "MARS EXPRESS"
INSTRUMENT_ID = HRSC
INSTRUMENT_NAME = "HIGH RESOLUTION STEREO CAMERA"
MISSION_NAME = "MARS EXPRESS"
MISSION_PHASE_NAME = ME_Phase_31
PROCESSING_LEVEL_ID = 3
PRODUCT_CREATION_TIME = 2016-10-29T11:58:31.000Z
PRODUCT_ID = "HD614_0000_GR3.JP2"
RELEASE_ID = 0125
REVISION_ID = 0000
/* QUALITY DATA ELEMENTS */
DATA_QUALITY_ID = 1
DATA_QUALITY_DESC = "Data calculated based on original SPICE kernels"
/* TIME DATA ELEMENTS */
SPACECRAFT_CLOCK_START_COUNT = "1/0359431830.09040"
SPACECRAFT_CLOCK_STOP_COUNT = "1/0359432060.30201"
START_TIME = 2014-09-22T02:11:03.903Z
STOP_TIME = 2014-09-22T02:13:33.893Z
/* ORBITAL DATA ELEMENTS */
ASCENDING_NODE_LONGITUDE = 318.13
MAXIMUM_RESOLUTION = 60.9
FOOTPRINT_POINT_LATITUDE = (18.6678,18.6707,18.6734,18.6757, 18.6778,18.6797,18.5808,18.3923,18.2039 ,18.0155,17.8272,17.6389,17.3565, 17.0746,16.8866,16.6987,16.5109,16.3231 ,16.1355,15.9479,15.7604,15.5729, 15.3856,15.1983,15.0111,14.8241,14.637, 14.4501,14.2633,13.9832,13.7966,13.6101 ,13.2373,12.865,12.4931,12.1217,11.8367 ,11.6463,11.456,11.2658,11.0758,10.8859 ,10.6961,10.4062,10.2117,10.0174, 9.72626,9.53215,9.15294,9.14991,9.14472 ,9.1415,9.13598,9.13018,9.32664,9.61797 ,9.81228,10.0067,10.2013,10.396,10.5907 ,10.7804,10.9703,11.1604,11.3507, 11.6365,11.827,12.1119,12.4838,12.8561, 13.2288,13.4153,13.6019,13.7886,13.9754 ,14.1623,14.3493,14.5363,14.7234, 14.9107,15.098,15.2854,15.4729,15.6605, 15.8481,16.0358,16.2236,16.4115,16.5995 ,16.7876,16.9756,17.1639,17.3521, 17.5405,17.7288,17.9172,18.1058,18.2944 ,18.4831,18.6678)
FOOTPRINT_POINT_LONGITUDE = (127.777,127.567,127.358,127.15,126.944 ,126.739,126.478,126.477,126.475, 126.473,126.471,126.469,126.466,126.463 ,126.46,126.458,126.456,126.453,126.451 ,126.449,126.446,126.444,126.441, 126.438,126.435,126.433,126.43,126.427, 126.424,126.42,126.417,126.414,126.407, 126.401,126.394,126.387,126.382,126.378 ,126.374,126.371,126.367,126.363, 126.359,126.353,126.349,126.345,126.338 ,126.334,126.326,126.551,126.907, 127.136,127.454,127.774,127.866,127.866 ,127.866,127.866,127.866,127.866, 127.867,127.868,127.869,127.869,127.87, 127.87,127.87,127.871,127.872,127.872, 127.873,127.873,127.874,127.874,127.874 ,127.875,127.875,127.876,127.876, 127.877,127.877,127.878,127.879,127.879 ,127.88,127.88,127.881,127.882,127.882, 127.883,127.884,127.884,127.885,127.886 ,127.886,127.888,127.888,127.889,127.89 ,127.777)
ORBIT_NUMBER = 13614
ORBITAL_ECCENTRICITY = 0.575
ORBITAL_INCLINATION = 86.89
ORBITAL_SEMIMAJOR_AXIS = 8837.49
PERIAPSIS_ALTITUDE = 361.4
PERIAPSIS_ARGUMENT_ANGLE = 151.67
PERIAPSIS_TIME = 2014-09-22T02:08:40.000Z
SPACECRAFT_ORIENTATION = (0.0,-1.0,0.0)
^MEX_ORIENTATION_DESC = "MEX_ORIENTATION_DESC.TXT"
SPACECRAFT_POINTING_MODE = ACROSSTRACK
^MEX_POINTING_DESC = "MEX_POINTING_DESC.TXT"
RIGHT_ASCENSION = -1e+32
DECLINATION = -1e+32
OFFSET_ANGLE = 0.539
SPACECRAFT_SOLAR_DISTANCE = 2.13262e+08
TARGET_NAME = MARS
/* CAMERA DATA ELEMENTS */
DETECTOR_TEMPERATURE = 18.5744
FOCAL_PLANE_TEMPERATURE = 8.9911
INST_CMPRS_NAME = "DISCRETE COSINE TRANSFORMATION (DCT)"
INST_CMPRS_RATIO = 13.6875
INST_CMPRS_QUALITY = 0
INST_CMPRS_QUANTZ_TBL_ID = 0
INSTRUMENT_TEMPERATURE = 12.8652
LENS_TEMPERATURE = 9.3989
MACROPIXEL_SIZE = 4
MISSING_FRAMES = 0
PIXEL_SUBSAMPLING_FLAG = N
SIGNAL_CHAIN_ID = 2
/* RADIOMETRIC DATA ELEMENTS */
BANDWIDTH = 88.0
CENTER_FILTER_WAVELENGTH = 538.0
RADIANCE_OFFSET = 0.881772
RADIANCE_SCALING_FACTOR = 0.00186915
REFLECTANCE_SCALING_FACTOR = 7.31915e-05
MEX:REFLECTANCE_OFFSET = 0.0345281
/* IMAGE OBJECT DEFINITIONS */
OBJECT = IMAGE
  INTERCHANGE_FORMAT = BINARY
  LINES = 11308
  LINE_SAMPLES = 1903
  SAMPLE_TYPE = UNSIGNED_INTEGER
  SAMPLE_BITS = 8
  BANDS = 1
  BAND_STORAGE_TYPE = BAND_SEQUENTIAL
  MAXIMUM = 255
  MEAN = 96.2962
  MINIMUM = 1
  STANDARD_DEVIATION = 25.8975
END_OBJECT = IMAGE
/* MAP OBJECT DEFINITIONS */
OBJECT = IMAGE_MAP_PROJECTION
  ^DATA_SET_MAP_PROJECTION_CATALOG= "DSMAP.CAT"
  A_AXIS_RADIUS = 3396.0
  B_AXIS_RADIUS = 3396.0
  C_AXIS_RADIUS = 3396.0
  CENTER_LATITUDE = 0.0
  CENTER_LONGITUDE = 127.0
  COORDINATE_SYSTEM_NAME = PLANETOGRAPHIC
  COORDINATE_SYSTEM_TYPE = "BODY-FIXED ROTATING"
  EASTERNMOST_LONGITUDE = 127.89
  FIRST_STANDARD_PARALLEL = "N/A"
  LINE_FIRST_PIXEL = 1
  LINE_LAST_PIXEL = 11308
  LINE_PROJECTION_OFFSET = 22141.875
  MAP_PROJECTION_ROTATION = 0.0
  MAP_PROJECTION_TYPE = SINUSOIDAL
  MAP_RESOLUTION = 1185.42760773333
  MAP_SCALE = 0.05
  MAXIMUM_LATITUDE = 18.6797
  MINIMUM_LATITUDE = 9.130179999999999
  POSITIVE_LONGITUDE_DIRECTION = EAST
  REFERENCE_LATITUDE = "N/A"
  REFERENCE_LONGITUDE = "N/A"
  SAMPLE_FIRST_PIXEL = 1
  SAMPLE_LAST_PIXEL = 1903
  SAMPLE_PROJECTION_OFFSET = 808.375
  SECOND_STANDARD_PARALLEL = "N/A"
  WESTERNMOST_LONGITUDE = 126.326
END_OBJECT = IMAGE_MAP_PROJECTION
/* The JPEG2000 image data file associated with this label. */
OBJECT = COMPRESSED_FILE
  FILE_NAME = "HD614_0000_GR3.JP2"
  RECORD_TYPE = UNDEFINED
  FILE_RECORDS = UNK
  ENCODING_TYPE = "JP2"
  INTERCHANGE_FORMAT = BINARY
  UNCOMPRESSED_FILE_NAME = "HD614_0000_GR3.IMG"
  REQUIRED_STORAGE_BYTES = "21538154"
  ^DESCRIPTION = "JP2INFO.TXT"
END_OBJECT = COMPRESSED_FILE
END
