PDS_VERSION_ID = PDS3
/* FILE DATA ELEMENTS */
RECORD_TYPE = STREAM
/* POINTERS TO DATA OBJECTS */
^COMPRESSED_FILE = "HD615_0000_S23.JP2"
/* IDENTIFICATION DATA ELEMENTS */
DATA_SET_ID = "MEX-M-HRSC-5-REFDR-MAPPROJECTED-V3.0"
DATA_SET_NAME = "MARS EXPRESS HRSC MAP PROJECTED REFDR V3.0"
DETECTOR_ID = MEX_HRSC_S2
EVENT_TYPE = "MARS-REGIONAL-MAPPING-Im-Eo-La"
INSTRUMENT_HOST_ID = MEX
INSTRUMENT_HOST_NAME = "MARS EXPRESS"
INSTRUMENT_ID = HRSC
INSTRUMENT_NAME = "HIGH RESOLUTION STEREO CAMERA"
MISSION_NAME = "MARS EXPRESS"
MISSION_PHASE_NAME = ME_Phase_31
PROCESSING_LEVEL_ID = 3
PRODUCT_CREATION_TIME = 2016-10-29T11:58:31.000Z
PRODUCT_ID = "HD615_0000_S23.JP2"
RELEASE_ID = 0125
REVISION_ID = 0000
/* QUALITY DATA ELEMENTS */
DATA_QUALITY_ID = 1
DATA_QUALITY_DESC = "Data calculated based on original SPICE kernels"
/* TIME DATA ELEMENTS */
SPACECRAFT_CLOCK_START_COUNT = "1/0359457222.09034"
SPACECRAFT_CLOCK_STOP_COUNT = "1/0359457496.53967"
START_TIME = 2014-09-22T09:15:24.827Z
STOP_TIME = 2014-09-22T09:18:20.470Z
/* ORBITAL DATA ELEMENTS */
ASCENDING_NODE_LONGITUDE = 318.12
MAXIMUM_RESOLUTION = 44.5
FOOTPRINT_POINT_LATITUDE = (4.19195,4.21834,4.24563,4.2739,4.30324 ,4.33364,4.37044,4.11726,3.77861,3.2647 ,2.9212,2.74671,2.57353,2.39852,2.22499 ,1.96141,1.78552,1.60967,1.34265, 1.16431,0.986277,0.715458,0.534877, 0.355065,0.173558,-0.00943861,-0.190826 ,-0.373643,-0.558184,-0.833909,-1.01973 ,-1.29895,-1.48505,-1.67273,-1.95436, -2.14406,-2.33297,-2.61816,-2.8094, -3.09605,-3.29012,-3.57863,-3.77469, -3.97006,-4.16782,-4.46467,-4.66367, -4.84176,-4.86412,-4.8903,-4.91978, -4.9367,-4.9564,-4.97768,-4.99422, -5.01167,-5.04033,-4.95155,-4.7507, -4.55318,-4.35662,-4.16255,-3.86348, -3.66333,-3.37596,-3.18323,-2.98838, -2.78747,-2.60078,-2.41909,-2.225, -2.03616,-1.84702,-1.65784,-1.47137, -1.28398,-1.09729,-0.911989,-0.634259, -0.448698,-0.266577,-0.0834286,0.100366 ,0.279807,0.460439,0.641849,0.911811, 1.17951,1.35876,1.53442,1.71189,1.88888 ,2.06467,2.23875,2.41558,2.76531, 3.10913,3.62288,3.87749,4.19195)
FOOTPRINT_POINT_LONGITUDE = (23.274,22.9871,22.6954,22.3989,22.0975 ,21.7907,21.4127,21.4039,21.3925, 21.3761,21.3647,21.3593,21.3524,21.3472 ,21.341,21.331,21.3244,21.3179,21.3083, 21.3016,21.2949,21.2854,21.2785,21.2712 ,21.2642,21.2572,21.2491,21.2416, 21.2338,21.2218,21.214,21.2016,21.1933, 21.1842,21.1711,21.1626,21.1528,21.1392 ,21.1293,21.1145,21.1049,21.0891, 21.0793,21.0692,21.0601,21.045,21.0349, 21.1972,21.4176,21.6612,21.9493,22.1385 ,22.3503,22.5615,22.7469,22.9315, 23.2733,23.46,23.4569,23.454,23.4514, 23.4489,23.444,23.4404,23.437,23.4344, 23.4314,23.4273,23.4254,23.4245,23.4214 ,23.4188,23.4163,23.4138,23.4114,23.409 ,23.4067,23.4042,23.4007,23.3981,23.396 ,23.3937,23.3913,23.3893,23.3872,23.385 ,23.3816,23.3786,23.3764,23.3745, 23.3723,23.3703,23.3684,23.3664,23.3639 ,23.3598,23.3562,23.3508,23.3483, 23.274)
ORBIT_NUMBER = 13615
ORBITAL_ECCENTRICITY = 0.575
ORBITAL_INCLINATION = 86.89
ORBITAL_SEMIMAJOR_AXIS = 8836.29
PERIAPSIS_ALTITUDE = 361.71
PERIAPSIS_ARGUMENT_ANGLE = 151.49
PERIAPSIS_TIME = 2014-09-22T09:08:09.000Z
SPACECRAFT_ORIENTATION = (0.0,-1.0,0.0)
^MEX_ORIENTATION_DESC = "MEX_ORIENTATION_DESC.TXT"
SPACECRAFT_POINTING_MODE = ACROSSTRACK
^MEX_POINTING_DESC = "MEX_POINTING_DESC.TXT"
RIGHT_ASCENSION = -1e+32
DECLINATION = -1e+32
OFFSET_ANGLE = -1.8
SPACECRAFT_SOLAR_DISTANCE = 2.13218e+08
TARGET_NAME = MARS
/* CAMERA DATA ELEMENTS */
DETECTOR_TEMPERATURE = 18.9822
FOCAL_PLANE_TEMPERATURE = 8.9911
INST_CMPRS_NAME = "DISCRETE COSINE TRANSFORMATION (DCT)"
INST_CMPRS_RATIO = 11.5647
INST_CMPRS_QUALITY = 0
INST_CMPRS_QUANTZ_TBL_ID = 0
INSTRUMENT_TEMPERATURE = 11.8457
LENS_TEMPERATURE = 9.195
MACROPIXEL_SIZE = 2
MISSING_FRAMES = 0
PIXEL_SUBSAMPLING_FLAG = N
SIGNAL_CHAIN_ID = 1
/* RADIOMETRIC DATA ELEMENTS */
BANDWIDTH = 178.0
CENTER_FILTER_WAVELENGTH = 679.0
RADIANCE_OFFSET = 2.42022
RADIANCE_SCALING_FACTOR = 0.0157413
REFLECTANCE_SCALING_FACTOR = 0.00037898
MEX:REFLECTANCE_OFFSET = 0.0582682
/* IMAGE OBJECT DEFINITIONS */
OBJECT = IMAGE
  INTERCHANGE_FORMAT = BINARY
  LINES = 10960
  LINE_SAMPLES = 2707
  SAMPLE_TYPE = UNSIGNED_INTEGER
  SAMPLE_BITS = 8
  BANDS = 1
  BAND_STORAGE_TYPE = BAND_SEQUENTIAL
  MAXIMUM = 255
  MEAN = 122.614
  MINIMUM = 1
  STANDARD_DEVIATION = 31.8089
END_OBJECT = IMAGE
/* MAP OBJECT DEFINITIONS */
OBJECT = IMAGE_MAP_PROJECTION
  ^DATA_SET_MAP_PROJECTION_CATALOG= "DSMAP.CAT"
  A_AXIS_RADIUS = 3396.0
  B_AXIS_RADIUS = 3396.0
  C_AXIS_RADIUS = 3396.0
  CENTER_LATITUDE = 0.0
  CENTER_LONGITUDE = 22.0
  COORDINATE_SYSTEM_NAME = PLANETOGRAPHIC
  COORDINATE_SYSTEM_TYPE = "BODY-FIXED ROTATING"
  EASTERNMOST_LONGITUDE = 23.46
  FIRST_STANDARD_PARALLEL = "N/A"
  LINE_FIRST_PIXEL = 1
  LINE_LAST_PIXEL = 10960
  LINE_PROJECTION_OFFSET = 5084.25
  MAP_PROJECTION_ROTATION = 0.0
  MAP_PROJECTION_TYPE = SINUSOIDAL
  MAP_RESOLUTION = 1185.42760773333
  MAP_SCALE = 0.05
  MAXIMUM_LATITUDE = 4.37044
  MINIMUM_LATITUDE = -5.04033
  POSITIVE_LONGITUDE_DIRECTION = EAST
  REFERENCE_LATITUDE = "N/A"
  REFERENCE_LONGITUDE = "N/A"
  SAMPLE_FIRST_PIXEL = 1
  SAMPLE_LAST_PIXEL = 2707
  SAMPLE_PROJECTION_OFFSET = 1100.25
  SECOND_STANDARD_PARALLEL = "N/A"
  WESTERNMOST_LONGITUDE = 21.0349
END_OBJECT = IMAGE_MAP_PROJECTION
/* The JPEG2000 image data file associated with this label. */
OBJECT = COMPRESSED_FILE
  FILE_NAME = "HD615_0000_S23.JP2"
  RECORD_TYPE = UNDEFINED
  FILE_RECORDS = UNK
  ENCODING_TYPE = "JP2"
  INTERCHANGE_FORMAT = BINARY
  UNCOMPRESSED_FILE_NAME = "HD615_0000_S23.IMG"
  REQUIRED_STORAGE_BYTES = "29690376"
  ^DESCRIPTION = "JP2INFO.TXT"
END_OBJECT = COMPRESSED_FILE
END
