PDS_VERSION_ID = PDS3
/* FILE DATA ELEMENTS */
RECORD_TYPE = STREAM
/* POINTERS TO DATA OBJECTS */
^COMPRESSED_FILE = "HD628_0000_GR3.JP2"
/* IDENTIFICATION DATA ELEMENTS */
DATA_SET_ID = "MEX-M-HRSC-5-REFDR-MAPPROJECTED-V3.0"
DATA_SET_NAME = "MARS EXPRESS HRSC MAP PROJECTED REFDR V3.0"
DETECTOR_ID = MEX_HRSC_GREEN
EVENT_TYPE = "MARS-REGIONAL-MAPPING-Fl-Eo-Mw"
INSTRUMENT_HOST_ID = MEX
INSTRUMENT_HOST_NAME = "MARS EXPRESS"
INSTRUMENT_ID = HRSC
INSTRUMENT_NAME = "HIGH RESOLUTION STEREO CAMERA"
MISSION_NAME = "MARS EXPRESS"
MISSION_PHASE_NAME = ME_Phase_31
PROCESSING_LEVEL_ID = 3
PRODUCT_CREATION_TIME = 2016-10-29T11:58:31.000Z
PRODUCT_ID = "HD628_0000_GR3.JP2"
RELEASE_ID = 0125
REVISION_ID = 0000
/* QUALITY DATA ELEMENTS */
DATA_QUALITY_ID = 1
DATA_QUALITY_DESC = "Data calculated based on original SPICE kernels"
/* TIME DATA ELEMENTS */
SPACECRAFT_CLOCK_START_COUNT = "1/0359784288.08287"
SPACECRAFT_CLOCK_STOP_COUNT = "1/0359784593.60673"
START_TIME = 2014-09-26T04:05:24.086Z
STOP_TIME = 2014-09-26T04:08:51.723Z
/* ORBITAL DATA ELEMENTS */
ASCENDING_NODE_LONGITUDE = 317.86
MAXIMUM_RESOLUTION = 65.5
FOOTPRINT_POINT_LATITUDE = (15.4443,15.4463,15.4488,15.0969, 14.6338,14.28,14.0427,13.8056,13.5687, 13.332,13.0954,12.7322,12.49,12.2479, 12.0061,11.7645,11.5176,11.2702,11.0231 ,10.7763,10.5287,10.1513,9.89911,9.6472 ,9.39555,9.13931,8.88207,8.6251,8.36846 ,8.10844,7.84624,7.58435,7.32281, 7.05758,6.79068,6.52422,6.25779,5.98584 ,5.71428,5.44304,5.03061,4.75432, 4.47843,4.19814,3.91716,3.63657,3.35176 ,3.06615,2.61651,2.61042,2.60616,2.6023 ,2.59739,2.73813,3.0238,3.30993,3.59553 ,3.87651,4.15794,4.439,4.71525,4.99189, 5.40527,5.67697,5.94886,6.35482,6.62165 ,6.88883,7.15633,7.41932,7.81261, 8.07507,8.33578,8.5928,8.85011,9.10771, 9.36471,9.61662,9.86884,10.2477,10.5005 ,10.7475,10.9947,11.2422,11.4899, 11.7374,11.9793,12.2214,12.4638,12.8279 ,13.0705,13.3074,13.5445,13.7818, 14.0191,14.2568,14.6114,15.0752,15.3072 ,15.4443)
FOOTPRINT_POINT_LONGITUDE = (135.452,135.179,134.717,134.346, 134.339,134.334,134.33,134.326,134.323, 134.319,134.314,134.308,134.304,134.299 ,134.295,134.29,134.285,134.28,134.275, 134.27,134.263,134.257,134.251,134.245, 134.24,134.234,134.227,134.221,134.215, 134.208,134.201,134.195,134.188,134.181 ,134.173,134.166,134.158,134.151, 134.143,134.135,134.123,134.114,134.106 ,134.097,134.088,134.079,134.07,134.06, 134.18,134.623,134.912,135.168,135.491, 135.871,135.869,135.868,135.866,135.864 ,135.863,135.862,135.86,135.859,135.857 ,135.856,135.854,135.853,135.852,135.85 ,135.849,135.848,135.847,135.846, 135.845,135.844,135.843,135.842,135.842 ,135.841,135.84,135.839,135.838,135.838 ,135.837,135.836,135.836,135.835, 135.835,135.834,135.834,135.833,135.832 ,135.831,135.831,135.83,135.83,135.829, 135.828,135.828,135.827,135.452)
ORBIT_NUMBER = 13628
ORBITAL_ECCENTRICITY = 0.575
ORBITAL_INCLINATION = 86.89
ORBITAL_SEMIMAJOR_AXIS = 8832.63
PERIAPSIS_ALTITUDE = 363.28
PERIAPSIS_ARGUMENT_ANGLE = 149.24
PERIAPSIS_TIME = 2014-09-26T04:01:31.000Z
SPACECRAFT_ORIENTATION = (0.0,-1.0,0.0)
^MEX_ORIENTATION_DESC = "MEX_ORIENTATION_DESC.TXT"
SPACECRAFT_POINTING_MODE = NADIR
^MEX_POINTING_DESC = "MEX_POINTING_DESC.TXT"
RIGHT_ASCENSION = -1e+32
DECLINATION = -1e+32
OFFSET_ANGLE = -1e+32
SPACECRAFT_SOLAR_DISTANCE = 2.12657e+08
TARGET_NAME = MARS
/* CAMERA DATA ELEMENTS */
DETECTOR_TEMPERATURE = 18.5744
FOCAL_PLANE_TEMPERATURE = 8.9911
INST_CMPRS_NAME = "DISCRETE COSINE TRANSFORMATION (DCT)"
INST_CMPRS_RATIO = 12.1602
INST_CMPRS_QUALITY = 0
INST_CMPRS_QUANTZ_TBL_ID = 0
INSTRUMENT_TEMPERATURE = 11.6418
LENS_TEMPERATURE = 8.7872
MACROPIXEL_SIZE = 4
MISSING_FRAMES = 0
PIXEL_SUBSAMPLING_FLAG = N
SIGNAL_CHAIN_ID = 2
/* RADIOMETRIC DATA ELEMENTS */
BANDWIDTH = 88.0
CENTER_FILTER_WAVELENGTH = 538.0
RADIANCE_OFFSET = 1.03994
RADIANCE_SCALING_FACTOR = 0.00257718
REFLECTANCE_SCALING_FACTOR = 0.000100344
MEX:REFLECTANCE_OFFSET = 0.0404906
/* IMAGE OBJECT DEFINITIONS */
OBJECT = IMAGE
  INTERCHANGE_FORMAT = BINARY
  LINES = 15242
  LINE_SAMPLES = 2268
  SAMPLE_TYPE = UNSIGNED_INTEGER
  SAMPLE_BITS = 8
  BANDS = 1
  BAND_STORAGE_TYPE = BAND_SEQUENTIAL
  MAXIMUM = 255
  MEAN = 105.449
  MINIMUM = 1
  STANDARD_DEVIATION = 28.6878
END_OBJECT = IMAGE
/* MAP OBJECT DEFINITIONS */
OBJECT = IMAGE_MAP_PROJECTION
  ^DATA_SET_MAP_PROJECTION_CATALOG= "DSMAP.CAT"
  A_AXIS_RADIUS = 3396.0
  B_AXIS_RADIUS = 3396.0
  C_AXIS_RADIUS = 3396.0
  CENTER_LATITUDE = 0.0
  CENTER_LONGITUDE = 135.0
  COORDINATE_SYSTEM_NAME = PLANETOGRAPHIC
  COORDINATE_SYSTEM_TYPE = "BODY-FIXED ROTATING"
  EASTERNMOST_LONGITUDE = 135.871
  FIRST_STANDARD_PARALLEL = "N/A"
  LINE_FIRST_PIXEL = 1
  LINE_LAST_PIXEL = 15242
  LINE_PROJECTION_OFFSET = 18323.625
  MAP_PROJECTION_ROTATION = 0.0
  MAP_PROJECTION_TYPE = SINUSOIDAL
  MAP_RESOLUTION = 1185.42760773333
  MAP_SCALE = 0.05
  MAXIMUM_LATITUDE = 15.4488
  MINIMUM_LATITUDE = 2.59739
  POSITIVE_LONGITUDE_DIRECTION = EAST
  REFERENCE_LATITUDE = "N/A"
  REFERENCE_LONGITUDE = "N/A"
  SAMPLE_FIRST_PIXEL = 1
  SAMPLE_LAST_PIXEL = 2268
  SAMPLE_PROJECTION_OFFSET = 1181.875
  SECOND_STANDARD_PARALLEL = "N/A"
  WESTERNMOST_LONGITUDE = 134.06
END_OBJECT = IMAGE_MAP_PROJECTION
/* The JPEG2000 image data file associated with this label. */
OBJECT = COMPRESSED_FILE
  FILE_NAME = "HD628_0000_GR3.JP2"
  RECORD_TYPE = UNDEFINED
  FILE_RECORDS = UNK
  ENCODING_TYPE = "JP2"
  INTERCHANGE_FORMAT = BINARY
  UNCOMPRESSED_FILE_NAME = "HD628_0000_GR3.IMG"
  REQUIRED_STORAGE_BYTES = "34591536"
  ^DESCRIPTION = "JP2INFO.TXT"
END_OBJECT = COMPRESSED_FILE
END
