PDS_VERSION_ID = PDS3
/* FILE DATA ELEMENTS */
RECORD_TYPE = STREAM
/* POINTERS TO DATA OBJECTS */
^COMPRESSED_FILE = "HD629_0000_P23.JP2"
/* IDENTIFICATION DATA ELEMENTS */
DATA_SET_ID = "MEX-M-HRSC-5-REFDR-MAPPROJECTED-V3.0"
DATA_SET_NAME = "MARS EXPRESS HRSC MAP PROJECTED REFDR V3.0"
DETECTOR_ID = MEX_HRSC_P2
EVENT_TYPE = "MARS-REGIONAL-MAPPING-Im-Fl-La"
INSTRUMENT_HOST_ID = MEX
INSTRUMENT_HOST_NAME = "MARS EXPRESS"
INSTRUMENT_ID = HRSC
INSTRUMENT_NAME = "HIGH RESOLUTION STEREO CAMERA"
MISSION_NAME = "MARS EXPRESS"
MISSION_PHASE_NAME = ME_Phase_31
PROCESSING_LEVEL_ID = 3
PRODUCT_CREATION_TIME = 2016-10-29T11:58:31.000Z
PRODUCT_ID = "HD629_0000_P23.JP2"
RELEASE_ID = 0125
REVISION_ID = 0000
/* QUALITY DATA ELEMENTS */
DATA_QUALITY_ID = 1
DATA_QUALITY_DESC = "Data calculated based on original SPICE kernels"
/* TIME DATA ELEMENTS */
SPACECRAFT_CLOCK_START_COUNT = "1/0359809422.09056"
SPACECRAFT_CLOCK_STOP_COUNT = "1/0359809687.29370"
START_TIME = 2014-09-26T11:04:48.496Z
STOP_TIME = 2014-09-26T11:07:52.988Z
/* ORBITAL DATA ELEMENTS */
ASCENDING_NODE_LONGITUDE = 317.85
MAXIMUM_RESOLUTION = 33.5
FOOTPRINT_POINT_LATITUDE = (17.8701,17.8792,17.8883,17.8976, 17.9069,17.9163,17.9395,17.5354,17.3291 ,17.1219,16.9151,16.5031,16.093,15.7778 ,15.5664,15.3555,15.1454,14.9362, 14.7266,14.5141,14.2997,14.0868,13.8736 ,13.6608,13.4476,13.2313,13.0134, 12.7961,12.5793,12.254,12.0323,11.6999, 11.4786,11.2591,11.0354,10.8115,10.5873 ,10.3637,10.1397,9.91112,9.56883, 9.34122,9.11181,8.88014,8.64804,8.41715 ,8.18302,7.94785,7.71243,7.47831,7.2411 ,6.96131,6.93684,6.91803,6.89717, 6.88216,7.12109,7.36109,7.59515,7.9494, 8.18586,8.41772,8.65055,8.88354,9.11651 ,9.34444,9.57308,9.80128,10.1436, 10.3676,10.5907,10.8194,11.159,11.379, 11.5975,11.8173,12.0385,12.2599,12.5854 ,12.8028,13.0202,13.3462,13.559,13.773, 13.9859,14.2025,14.4186,14.6368,15.0472 ,15.2586,15.5767,15.7878,15.9979, 16.2041,16.4102,16.7203,16.9269,17.1337 ,17.5449,17.8701)
FOOTPRINT_POINT_LONGITUDE = (32.354,32.1235,31.8902,31.6538,31.4147 ,31.1723,30.8897,30.8891,30.8882, 30.8879,30.8872,30.8846,30.8807,30.8798 ,30.8794,30.8785,30.877,30.8747,30.873, 30.8711,30.8692,30.8657,30.8627,30.8596 ,30.8571,30.8538,30.8511,30.8478, 30.8443,30.8396,30.8366,30.8318,30.8286 ,30.8236,30.8206,30.8153,30.8106, 30.8054,30.8008,30.7959,30.7886,30.7834 ,30.7788,30.773,30.7679,30.7619,30.7575 ,30.7512,30.7455,30.7388,30.7319, 30.8156,31.3703,31.7411,32.2091,32.5401 ,32.5379,32.5356,32.5336,32.5302,32.528 ,32.5259,32.5237,32.5215,32.5193, 32.5172,32.5151,32.5131,32.51,32.508, 32.5063,32.5037,32.5001,32.4983,32.4967 ,32.495,32.4931,32.4908,32.4879,32.486, 32.4841,32.4812,32.4793,32.4773,32.4755 ,32.473,32.4707,32.4676,32.4656,32.4634 ,32.4598,32.4577,32.4556,32.4535, 32.4515,32.4483,32.4463,32.4443,32.4403 ,32.354)
ORBIT_NUMBER = 13629
ORBITAL_ECCENTRICITY = 0.575
ORBITAL_INCLINATION = 86.89
ORBITAL_SEMIMAJOR_AXIS = 8833.67
PERIAPSIS_ALTITUDE = 363.25
PERIAPSIS_ARGUMENT_ANGLE = 149.06
PERIAPSIS_TIME = 2014-09-26T11:01:01.000Z
SPACECRAFT_ORIENTATION = (0.0,-1.0,0.0)
^MEX_ORIENTATION_DESC = "MEX_ORIENTATION_DESC.TXT"
SPACECRAFT_POINTING_MODE = ACROSSTRACK
^MEX_POINTING_DESC = "MEX_POINTING_DESC.TXT"
RIGHT_ASCENSION = -1e+32
DECLINATION = -1e+32
OFFSET_ANGLE = -1.1
SPACECRAFT_SOLAR_DISTANCE = 2.12615e+08
TARGET_NAME = MARS
/* CAMERA DATA ELEMENTS */
DETECTOR_TEMPERATURE = 19.1861
FOCAL_PLANE_TEMPERATURE = 9.3989
INST_CMPRS_NAME = "DISCRETE COSINE TRANSFORMATION (DCT)"
INST_CMPRS_RATIO = 5.5361
INST_CMPRS_QUALITY = 0
INST_CMPRS_QUANTZ_TBL_ID = 0
INSTRUMENT_TEMPERATURE = 12.2535
LENS_TEMPERATURE = 9.8067
MACROPIXEL_SIZE = 2
MISSING_FRAMES = 0
PIXEL_SUBSAMPLING_FLAG = N
SIGNAL_CHAIN_ID = 3
/* RADIOMETRIC DATA ELEMENTS */
BANDWIDTH = 177.0
CENTER_FILTER_WAVELENGTH = 676.5
RADIANCE_OFFSET = 2.91385
RADIANCE_SCALING_FACTOR = 0.0135257
REFLECTANCE_SCALING_FACTOR = 0.000324191
MEX:REFLECTANCE_OFFSET = 0.0698407
/* IMAGE OBJECT DEFINITIONS */
OBJECT = IMAGE
  INTERCHANGE_FORMAT = BINARY
  LINES = 26043
  LINE_SAMPLES = 4304
  SAMPLE_TYPE = UNSIGNED_INTEGER
  SAMPLE_BITS = 8
  BANDS = 1
  BAND_STORAGE_TYPE = BAND_SEQUENTIAL
  MAXIMUM = 255
  MEAN = 99.2322
  MINIMUM = 1
  STANDARD_DEVIATION = 26.0974
END_OBJECT = IMAGE
/* MAP OBJECT DEFINITIONS */
OBJECT = IMAGE_MAP_PROJECTION
  ^DATA_SET_MAP_PROJECTION_CATALOG= "DSMAP.CAT"
  A_AXIS_RADIUS = 3396.0
  B_AXIS_RADIUS = 3396.0
  C_AXIS_RADIUS = 3396.0
  CENTER_LATITUDE = 0.0
  CENTER_LONGITUDE = 32.0
  COORDINATE_SYSTEM_NAME = PLANETOGRAPHIC
  COORDINATE_SYSTEM_TYPE = "BODY-FIXED ROTATING"
  EASTERNMOST_LONGITUDE = 32.5401
  FIRST_STANDARD_PARALLEL = "N/A"
  LINE_FIRST_PIXEL = 1
  LINE_LAST_PIXEL = 26043
  LINE_PROJECTION_OFFSET = 42440.75
  MAP_PROJECTION_ROTATION = 0.0
  MAP_PROJECTION_TYPE = SINUSOIDAL
  MAP_RESOLUTION = 2370.85521546667
  MAP_SCALE = 0.025
  MAXIMUM_LATITUDE = 17.9395
  MINIMUM_LATITUDE = 6.88216
  POSITIVE_LONGITUDE_DIRECTION = EAST
  REFERENCE_LATITUDE = "N/A"
  REFERENCE_LONGITUDE = "N/A"
  SAMPLE_FIRST_PIXEL = 1
  SAMPLE_LAST_PIXEL = 4304
  SAMPLE_PROJECTION_OFFSET = 3117.25
  SECOND_STANDARD_PARALLEL = "N/A"
  WESTERNMOST_LONGITUDE = 30.7319
END_OBJECT = IMAGE_MAP_PROJECTION
/* The JPEG2000 image data file associated with this label. */
OBJECT = COMPRESSED_FILE
  FILE_NAME = "HD629_0000_P23.JP2"
  RECORD_TYPE = UNDEFINED
  FILE_RECORDS = UNK
  ENCODING_TYPE = "JP2"
  INTERCHANGE_FORMAT = BINARY
  UNCOMPRESSED_FILE_NAME = "HD629_0000_P23.IMG"
  REQUIRED_STORAGE_BYTES = "112114896"
  ^DESCRIPTION = "JP2INFO.TXT"
END_OBJECT = COMPRESSED_FILE
END
