PDS_VERSION_ID = PDS3
/* FILE DATA ELEMENTS */
RECORD_TYPE = STREAM
/* POINTERS TO DATA OBJECTS */
^COMPRESSED_FILE = "HD632_0000_ND3.JP2"
/* IDENTIFICATION DATA ELEMENTS */
DATA_SET_ID = "MEX-M-HRSC-5-REFDR-MAPPROJECTED-V3.0"
DATA_SET_NAME = "MARS EXPRESS HRSC MAP PROJECTED REFDR V3.0"
DETECTOR_ID = MEX_HRSC_NADIR
EVENT_TYPE = "MARS-LOCAL-STEREO-Mw-Tc-Ts"
INSTRUMENT_HOST_ID = MEX
INSTRUMENT_HOST_NAME = "MARS EXPRESS"
INSTRUMENT_ID = HRSC
INSTRUMENT_NAME = "HIGH RESOLUTION STEREO CAMERA"
MISSION_NAME = "MARS EXPRESS"
MISSION_PHASE_NAME = ME_Phase_31
PROCESSING_LEVEL_ID = 3
PRODUCT_CREATION_TIME = 2016-10-29T11:58:31.000Z
PRODUCT_ID = "HD632_0000_ND3.JP2"
RELEASE_ID = 0125
REVISION_ID = 0000
/* QUALITY DATA ELEMENTS */
DATA_QUALITY_ID = 1
DATA_QUALITY_DESC = "Data calculated based on original SPICE kernels"
/* TIME DATA ELEMENTS */
SPACECRAFT_CLOCK_START_COUNT = "1/0359885106.09040"
SPACECRAFT_CLOCK_STOP_COUNT = "1/0359885291.42586"
START_TIME = 2014-09-27T08:05:55.856Z
STOP_TIME = 2014-09-27T08:07:15.845Z
/* ORBITAL DATA ELEMENTS */
ASCENDING_NODE_LONGITUDE = 317.79
MAXIMUM_RESOLUTION = 19.5
FOOTPRINT_POINT_LATITUDE = (7.0431,7.04502,7.04691,7.04879,7.05057 ,7.05235,7.05407,7.05574,7.05736, 7.05896,7.06051,7.06202,6.83678,6.65618 ,6.51806,6.33377,6.14967,5.96577, 5.78206,5.59507,5.50139,5.3142,5.12722, 4.94045,4.79807,4.70286,4.6077,4.5126, 4.41756,4.32257,4.22762,4.13273,4.03672 ,3.93998,3.84329,3.74667,3.6501,3.55359 ,3.4571,3.31248,3.16526,3.06706,2.96896 ,2.87096,2.77297,2.67503,2.57715, 2.47814,2.29806,2.29621,2.29382,2.2922, 2.29027,2.28843,2.28599,2.28461,2.28181 ,2.27985,2.27668,2.27229,2.32061, 2.42044,2.56917,2.66718,2.76524,2.86339 ,2.96157,3.05981,3.15816,3.30516, 3.40165,3.49819,3.59478,3.73986,3.83663 ,3.93344,4.07859,4.17357,4.26861,4.3637 ,4.45885,4.55405,4.64931,4.74462, 4.83999,4.93446,5.12148,5.30872,5.40241 ,5.49616,5.58995,5.77679,5.96074, 6.14488,6.32922,6.51375,6.65165,6.83249 ,7.01351,7.0431)
FOOTPRINT_POINT_LONGITUDE = (87.4182,87.2804,87.1431,87.0062, 86.8698,86.7339,86.5985,86.4637,86.3292 ,86.1952,86.0613,85.928,85.862,85.8565, 85.8522,85.8464,85.8406,85.8347,85.8288 ,85.8227,85.8197,85.8136,85.8074, 85.8012,85.7964,85.7932,85.79,85.7868, 85.7835,85.7803,85.7771,85.7739,85.7705 ,85.7671,85.7637,85.7604,85.757,85.7536 ,85.7503,85.7454,85.7403,85.7369, 85.7333,85.7296,85.7261,85.7225,85.719, 85.7155,85.7457,85.8753,86.0426,86.1541 ,86.2841,86.4152,86.5838,86.6777, 86.8661,86.9985,87.2066,87.4871,87.6124 ,87.6142,87.6176,87.6179,87.6174, 87.6185,87.6173,87.6164,87.6183,87.6183 ,87.6176,87.6166,87.6147,87.6175, 87.6173,87.6169,87.6163,87.6159,87.6154 ,87.6151,87.6146,87.6142,87.6138, 87.6134,87.613,87.6126,87.6118,87.6111, 87.6108,87.6104,87.6101,87.6093,87.6087 ,87.6081,87.6075,87.6069,87.6065, 87.6059,87.6052,87.4182)
ORBIT_NUMBER = 13632
ORBITAL_ECCENTRICITY = 0.575
ORBITAL_INCLINATION = 86.91
ORBITAL_SEMIMAJOR_AXIS = 8834.85
PERIAPSIS_ALTITUDE = 362.73
PERIAPSIS_ARGUMENT_ANGLE = 148.52
PERIAPSIS_TIME = 2014-09-27T07:59:29.000Z
SPACECRAFT_ORIENTATION = (0.0,-1.0,0.0)
^MEX_ORIENTATION_DESC = "MEX_ORIENTATION_DESC.TXT"
SPACECRAFT_POINTING_MODE = ACROSSTRACK
^MEX_POINTING_DESC = "MEX_POINTING_DESC.TXT"
RIGHT_ASCENSION = -1e+32
DECLINATION = -1e+32
OFFSET_ANGLE = 0.7
SPACECRAFT_SOLAR_DISTANCE = 2.12488e+08
TARGET_NAME = MARS
/* CAMERA DATA ELEMENTS */
DETECTOR_TEMPERATURE = 18.3705
FOCAL_PLANE_TEMPERATURE = 8.3794
INST_CMPRS_NAME = "DISCRETE COSINE TRANSFORMATION (DCT)"
INST_CMPRS_RATIO = 7.28578
INST_CMPRS_QUALITY = 0
INST_CMPRS_QUANTZ_TBL_ID = 0
INSTRUMENT_TEMPERATURE = 11.4379
LENS_TEMPERATURE = 8.7872
MACROPIXEL_SIZE = 1
MISSING_FRAMES = 0
PIXEL_SUBSAMPLING_FLAG = N
SIGNAL_CHAIN_ID = 0
/* RADIOMETRIC DATA ELEMENTS */
BANDWIDTH = 177.0
CENTER_FILTER_WAVELENGTH = 677.5
RADIANCE_OFFSET = 2.60819
RADIANCE_SCALING_FACTOR = 0.00658367
REFLECTANCE_SCALING_FACTOR = 0.000157914
MEX:REFLECTANCE_OFFSET = 0.0625593
/* IMAGE OBJECT DEFINITIONS */
OBJECT = IMAGE
  INTERCHANGE_FORMAT = BINARY
  LINES = 11362
  LINE_SAMPLES = 4696
  SAMPLE_TYPE = UNSIGNED_INTEGER
  SAMPLE_BITS = 8
  BANDS = 1
  BAND_STORAGE_TYPE = BAND_SEQUENTIAL
  MAXIMUM = 255
  MEAN = 136.972
  MINIMUM = 1
  STANDARD_DEVIATION = 29.6001
END_OBJECT = IMAGE
/* MAP OBJECT DEFINITIONS */
OBJECT = IMAGE_MAP_PROJECTION
  ^DATA_SET_MAP_PROJECTION_CATALOG= "DSMAP.CAT"
  A_AXIS_RADIUS = 3396.0
  B_AXIS_RADIUS = 3396.0
  C_AXIS_RADIUS = 3396.0
  CENTER_LATITUDE = 0.0
  CENTER_LONGITUDE = 87.0
  COORDINATE_SYSTEM_NAME = PLANETOGRAPHIC
  COORDINATE_SYSTEM_TYPE = "BODY-FIXED ROTATING"
  EASTERNMOST_LONGITUDE = 87.6185
  FIRST_STANDARD_PARALLEL = "N/A"
  LINE_FIRST_PIXEL = 1
  LINE_LAST_PIXEL = 11362
  LINE_PROJECTION_OFFSET = 16744.0
  MAP_PROJECTION_ROTATION = 0.0
  MAP_PROJECTION_TYPE = SINUSOIDAL
  MAP_RESOLUTION = 2370.85521546667
  MAP_SCALE = 0.025
  MAXIMUM_LATITUDE = 7.06202
  MINIMUM_LATITUDE = 2.27229
  POSITIVE_LONGITUDE_DIRECTION = EAST
  REFERENCE_LATITUDE = "N/A"
  REFERENCE_LONGITUDE = "N/A"
  SAMPLE_FIRST_PIXEL = 1
  SAMPLE_LAST_PIXEL = 4696
  SAMPLE_PROJECTION_OFFSET = 3066.0
  SECOND_STANDARD_PARALLEL = "N/A"
  WESTERNMOST_LONGITUDE = 85.71550000000001
END_OBJECT = IMAGE_MAP_PROJECTION
/* The JPEG2000 image data file associated with this label. */
OBJECT = COMPRESSED_FILE
  FILE_NAME = "HD632_0000_ND3.JP2"
  RECORD_TYPE = UNDEFINED
  FILE_RECORDS = UNK
  ENCODING_TYPE = "JP2"
  INTERCHANGE_FORMAT = BINARY
  UNCOMPRESSED_FILE_NAME = "HD632_0000_ND3.IMG"
  REQUIRED_STORAGE_BYTES = "53379432"
  ^DESCRIPTION = "JP2INFO.TXT"
END_OBJECT = COMPRESSED_FILE
END
