PDS_VERSION_ID = PDS3
/* FILE DATA ELEMENTS */
RECORD_TYPE = STREAM
/* POINTERS TO DATA OBJECTS */
^COMPRESSED_FILE = "HD640_0000_P23.JP2"
/* IDENTIFICATION DATA ELEMENTS */
DATA_SET_ID = "MEX-M-HRSC-5-REFDR-MAPPROJECTED-V3.0"
DATA_SET_NAME = "MARS EXPRESS HRSC MAP PROJECTED REFDR V3.0"
DETECTOR_ID = MEX_HRSC_P2
EVENT_TYPE = "MARS-LOCAL-STEREO-Fl-Tc-Ts"
INSTRUMENT_HOST_ID = MEX
INSTRUMENT_HOST_NAME = "MARS EXPRESS"
INSTRUMENT_ID = HRSC
INSTRUMENT_NAME = "HIGH RESOLUTION STEREO CAMERA"
MISSION_NAME = "MARS EXPRESS"
MISSION_PHASE_NAME = ME_Phase_31
PROCESSING_LEVEL_ID = 3
PRODUCT_CREATION_TIME = 2016-10-29T11:58:31.000Z
PRODUCT_ID = "HD640_0000_P23.JP2"
RELEASE_ID = 0125
REVISION_ID = 0000
/* QUALITY DATA ELEMENTS */
DATA_QUALITY_ID = 1
DATA_QUALITY_DESC = "Data calculated based on original SPICE kernels"
/* TIME DATA ELEMENTS */
SPACECRAFT_CLOCK_START_COUNT = "1/0360086440.08266"
SPACECRAFT_CLOCK_STOP_COUNT = "1/0360086630.00280"
START_TIME = 2014-09-29T16:01:59.369Z
STOP_TIME = 2014-09-29T16:03:32.702Z
/* ORBITAL DATA ELEMENTS */
ASCENDING_NODE_LONGITUDE = 317.64
MAXIMUM_RESOLUTION = 40.5
FOOTPRINT_POINT_LATITUDE = (10.1515,10.1505,10.1494,10.1484, 10.1475,10.1466,10.1457,10.1449,10.1441 ,10.1433,10.1426,10.1418,10.0534, 9.79956,9.59604,9.39297,9.19043,8.98459 ,8.67547,8.36652,8.26209,8.1571,8.0523, 7.89509,7.7902,7.68662,7.58137,7.4749, 7.31542,7.20895,7.10263,6.99652,6.89058 ,6.78436,6.67639,6.56865,6.46101, 6.35349,6.24613,6.13872,5.97595,5.86671 ,5.75753,5.64845,5.53948,5.3762,5.21022 ,5.09944,4.93317,4.87838,4.87825, 4.87472,4.87494,4.87507,4.87501,4.87715 ,4.8749,4.87946,4.88107,4.88097,4.88035 ,5.04787,5.16008,5.32831,5.4386,5.5467, 5.70683,5.86817,5.97695,6.14074,6.24861 ,6.35638,6.51788,6.62519,6.73305, 6.84027,6.94661,7.05366,7.16026,7.26672 ,7.37319,7.47986,7.586,7.74313,7.84784, 7.95263,8.0575,8.16265,8.26764,8.37209, 8.52666,8.68168,8.88855,8.99211,9.19844 ,9.50331,9.70697,9.91109,10.0634, 10.1515)
FOOTPRINT_POINT_LONGITUDE = (349.393,349.255,349.118,348.981, 348.845,348.709,348.573,348.438,348.303 ,348.169,348.035,347.901,347.774, 347.767,347.76,347.754,347.748,347.741, 347.731,347.721,347.718,347.715,347.711 ,347.706,347.703,347.699,347.696, 347.692,347.687,347.683,347.679,347.676 ,347.672,347.668,347.665,347.661, 347.657,347.653,347.649,347.645,347.64, 347.636,347.632,347.628,347.624,347.617 ,347.611,347.607,347.601,347.692, 347.824,347.976,348.146,348.279,348.431 ,348.565,348.794,349.008,349.24,349.394 ,349.53,349.575,349.575,349.575,349.575 ,349.573,349.569,349.566,349.565, 349.564,349.564,349.563,349.562,349.56, 349.56,349.559,349.558,349.558,349.558, 349.557,349.557,349.556,349.555,349.555 ,349.554,349.553,349.553,349.552, 349.552,349.551,349.55,349.549,349.549, 349.548,349.547,349.545,349.544,349.544 ,349.543,349.393)
ORBIT_NUMBER = 13640
ORBITAL_ECCENTRICITY = 0.575
ORBITAL_INCLINATION = 86.9
ORBITAL_SEMIMAJOR_AXIS = 8824.57
PERIAPSIS_ALTITUDE = 364.55
PERIAPSIS_ARGUMENT_ANGLE = 147.13
PERIAPSIS_TIME = 2014-09-29T15:55:30.000Z
SPACECRAFT_ORIENTATION = (0.0,-1.0,0.0)
^MEX_ORIENTATION_DESC = "MEX_ORIENTATION_DESC.TXT"
SPACECRAFT_POINTING_MODE = ACROSSTRACK
^MEX_POINTING_DESC = "MEX_POINTING_DESC.TXT"
RIGHT_ASCENSION = -1e+32
DECLINATION = -1e+32
OFFSET_ANGLE = 0.6
SPACECRAFT_SOLAR_DISTANCE = 2.12156e+08
TARGET_NAME = MARS
/* CAMERA DATA ELEMENTS */
DETECTOR_TEMPERATURE = 19.1861
FOCAL_PLANE_TEMPERATURE = 9.3989
INST_CMPRS_NAME = "DISCRETE COSINE TRANSFORMATION (DCT)"
INST_CMPRS_RATIO = 7.49909
INST_CMPRS_QUALITY = 0
INST_CMPRS_QUANTZ_TBL_ID = 0
INSTRUMENT_TEMPERATURE = 12.0496
LENS_TEMPERATURE = 9.6028
MACROPIXEL_SIZE = 2
MISSING_FRAMES = 0
PIXEL_SUBSAMPLING_FLAG = N
SIGNAL_CHAIN_ID = 3
/* RADIOMETRIC DATA ELEMENTS */
BANDWIDTH = 177.0
CENTER_FILTER_WAVELENGTH = 676.5
RADIANCE_OFFSET = 2.71031
RADIANCE_SCALING_FACTOR = 0.00963533
REFLECTANCE_SCALING_FACTOR = 0.00022995
MEX:REFLECTANCE_OFFSET = 0.0646824
/* IMAGE OBJECT DEFINITIONS */
OBJECT = IMAGE
  INTERCHANGE_FORMAT = BINARY
  LINES = 6290
  LINE_SAMPLES = 2296
  SAMPLE_TYPE = UNSIGNED_INTEGER
  SAMPLE_BITS = 8
  BANDS = 1
  BAND_STORAGE_TYPE = BAND_SEQUENTIAL
  MAXIMUM = 255
  MEAN = 101.579
  MINIMUM = 1
  STANDARD_DEVIATION = 22.6997
END_OBJECT = IMAGE
/* MAP OBJECT DEFINITIONS */
OBJECT = IMAGE_MAP_PROJECTION
  ^DATA_SET_MAP_PROJECTION_CATALOG= "DSMAP.CAT"
  A_AXIS_RADIUS = 3396.0
  B_AXIS_RADIUS = 3396.0
  C_AXIS_RADIUS = 3396.0
  CENTER_LATITUDE = 0.0
  CENTER_LONGITUDE = 349.0
  COORDINATE_SYSTEM_NAME = PLANETOGRAPHIC
  COORDINATE_SYSTEM_TYPE = "BODY-FIXED ROTATING"
  EASTERNMOST_LONGITUDE = 349.575
  FIRST_STANDARD_PARALLEL = "N/A"
  LINE_FIRST_PIXEL = 1
  LINE_LAST_PIXEL = 6290
  LINE_PROJECTION_OFFSET = 12041.25
  MAP_PROJECTION_ROTATION = 0.0
  MAP_PROJECTION_TYPE = SINUSOIDAL
  MAP_RESOLUTION = 1185.42760773333
  MAP_SCALE = 0.05
  MAXIMUM_LATITUDE = 10.1515
  MINIMUM_LATITUDE = 4.87472
  POSITIVE_LONGITUDE_DIRECTION = EAST
  REFERENCE_LATITUDE = "N/A"
  REFERENCE_LONGITUDE = "N/A"
  SAMPLE_FIRST_PIXEL = 1
  SAMPLE_LAST_PIXEL = 2296
  SAMPLE_PROJECTION_OFFSET = 1606.75
  SECOND_STANDARD_PARALLEL = "N/A"
  WESTERNMOST_LONGITUDE = 347.601
END_OBJECT = IMAGE_MAP_PROJECTION
/* The JPEG2000 image data file associated with this label. */
OBJECT = COMPRESSED_FILE
  FILE_NAME = "HD640_0000_P23.JP2"
  RECORD_TYPE = UNDEFINED
  FILE_RECORDS = UNK
  ENCODING_TYPE = "JP2"
  INTERCHANGE_FORMAT = BINARY
  UNCOMPRESSED_FILE_NAME = "HD640_0000_P23.IMG"
  REQUIRED_STORAGE_BYTES = "14464800"
  ^DESCRIPTION = "JP2INFO.TXT"
END_OBJECT = COMPRESSED_FILE
END
