PDS_VERSION_ID = PDS3
/* FILE DATA ELEMENTS */
RECORD_TYPE = STREAM
/* POINTERS TO DATA OBJECTS */
^COMPRESSED_FILE = "HD646_0000_S23.JP2"
/* IDENTIFICATION DATA ELEMENTS */
DATA_SET_ID = "MEX-M-HRSC-5-REFDR-MAPPROJECTED-V3.0"
DATA_SET_NAME = "MARS EXPRESS HRSC MAP PROJECTED REFDR V3.0"
DETECTOR_ID = MEX_HRSC_S2
EVENT_TYPE = "MARS-REGIONAL-MAPPING-Im-Gl-Pf"
INSTRUMENT_HOST_ID = MEX
INSTRUMENT_HOST_NAME = "MARS EXPRESS"
INSTRUMENT_ID = HRSC
INSTRUMENT_NAME = "HIGH RESOLUTION STEREO CAMERA"
MISSION_NAME = "MARS EXPRESS"
MISSION_PHASE_NAME = ME_Phase_31
PROCESSING_LEVEL_ID = 3
PRODUCT_CREATION_TIME = 2016-10-29T11:58:31.000Z
PRODUCT_ID = "HD646_0000_S23.JP2"
RELEASE_ID = 0125
REVISION_ID = 0000
/* QUALITY DATA ELEMENTS */
DATA_QUALITY_ID = 1
DATA_QUALITY_DESC = "Data calculated based on original SPICE kernels"
/* TIME DATA ELEMENTS */
SPACECRAFT_CLOCK_START_COUNT = "1/0360237289.07343"
SPACECRAFT_CLOCK_STOP_COUNT = "1/0360237599.07147"
START_TIME = 2014-10-01T09:56:06.949Z
STOP_TIME = 2014-10-01T10:00:02.791Z
/* ORBITAL DATA ELEMENTS */
ASCENDING_NODE_LONGITUDE = 317.53
MAXIMUM_RESOLUTION = 34.4
FOOTPRINT_POINT_LATITUDE = (22.764,22.742,22.6349,22.381,22.1274, 21.8744,21.6215,21.369,21.1113,20.8527, 20.5951,20.3377,20.0807,19.8238,19.5614 ,19.1681,18.9065,18.5148,18.1154, 17.8492,17.5834,17.3178,16.9131,16.6426 ,16.3724,15.9657,15.6905,15.416,15.1419 ,14.8644,14.5853,14.3069,14.0284, 13.7449,13.4619,13.1798,12.8938,12.6067 ,12.3204,12.031,11.7397,11.4488,11.0066 ,10.7119,10.4131,10.1198,9.81375, 9.36273,9.06079,9.03911,9.04702,9.05995 ,9.06943,9.08372,9.38618,9.69027, 10.1413,10.4413,10.8864,11.1823,11.4775 ,11.7686,12.0601,12.3502,12.6371, 12.9243,13.2109,13.4941,13.777,14.2011, 14.4792,14.7584,15.1766,15.4506,15.7254 ,16.0008,16.2736,16.5434,16.8141, 17.0852,17.4885,17.7537,18.0199,18.287, 18.685,18.9462,19.2085,19.4707,19.7337, 20.1224,20.5082,20.7658,21.1538,21.4122 ,21.6647,21.9179,22.1717,22.4258, 22.6799,22.764)
FOOTPRINT_POINT_LONGITUDE = (95.7899,95.3104,94.8984,94.8948, 94.8911,94.8873,94.8833,94.8793,94.8751 ,94.8707,94.8663,94.8618,94.8571, 94.8524,94.8475,94.8398,94.8347,94.8267 ,94.8182,94.8125,94.8067,94.8007, 94.7915,94.7851,94.7787,94.7688,94.762, 94.755,94.748,94.7407,94.7333,94.7258, 94.7181,94.7102,94.7022,94.6941,94.6857 ,94.6772,94.6686,94.6598,94.6507, 94.6416,94.6274,94.6178,94.6079,94.5982 ,94.5876,94.5721,94.5614,94.9984, 95.2935,95.7598,96.0621,96.4894,96.4876 ,96.4863,96.4841,96.483,96.4811,96.4802 ,96.479,96.4782,96.4772,96.4761,96.4754 ,96.4744,96.4736,96.4735,96.4727, 96.4722,96.4716,96.4713,96.471,96.4707, 96.4707,96.4706,96.4704,96.4702,96.4705 ,96.4706,96.4712,96.471,96.4712,96.4718 ,96.473,96.4733,96.474,96.4745,96.4752, 96.476,96.4769,96.4774,96.4788,96.4797, 96.4805,96.4815,96.4828,96.4841,96.485, 95.7899)
ORBIT_NUMBER = 13646
ORBITAL_ECCENTRICITY = 0.575
ORBITAL_INCLINATION = 86.9
ORBITAL_SEMIMAJOR_AXIS = 8831.76
PERIAPSIS_ALTITUDE = 364.42
PERIAPSIS_ARGUMENT_ANGLE = 146.1
PERIAPSIS_TIME = 2014-10-01T09:52:37.000Z
SPACECRAFT_ORIENTATION = (0.0,-1.0,0.0)
^MEX_ORIENTATION_DESC = "MEX_ORIENTATION_DESC.TXT"
SPACECRAFT_POINTING_MODE = ACROSSTRACK
^MEX_POINTING_DESC = "MEX_POINTING_DESC.TXT"
RIGHT_ASCENSION = -1e+32
DECLINATION = -1e+32
OFFSET_ANGLE = 1.0
SPACECRAFT_SOLAR_DISTANCE = 2.11912e+08
TARGET_NAME = MARS
/* CAMERA DATA ELEMENTS */
DETECTOR_TEMPERATURE = 18.7783
FOCAL_PLANE_TEMPERATURE = 8.9911
INST_CMPRS_NAME = "DISCRETE COSINE TRANSFORMATION (DCT)"
INST_CMPRS_RATIO = 10.4225
INST_CMPRS_QUALITY = 0
INST_CMPRS_QUANTZ_TBL_ID = 0
INSTRUMENT_TEMPERATURE = 12.0496
LENS_TEMPERATURE = 9.6028
MACROPIXEL_SIZE = 2
MISSING_FRAMES = 0
PIXEL_SUBSAMPLING_FLAG = N
SIGNAL_CHAIN_ID = 1
/* RADIOMETRIC DATA ELEMENTS */
BANDWIDTH = 178.0
CENTER_FILTER_WAVELENGTH = 679.0
RADIANCE_OFFSET = 3.27311
RADIANCE_SCALING_FACTOR = 0.00773919
REFLECTANCE_SCALING_FACTOR = 0.000184051
MEX:REFLECTANCE_OFFSET = 0.0778401
/* IMAGE OBJECT DEFINITIONS */
OBJECT = IMAGE
  INTERCHANGE_FORMAT = BINARY
  LINES = 32618
  LINE_SAMPLES = 4380
  SAMPLE_TYPE = UNSIGNED_INTEGER
  SAMPLE_BITS = 8
  BANDS = 1
  BAND_STORAGE_TYPE = BAND_SEQUENTIAL
  MAXIMUM = 255
  MEAN = 110.901
  MINIMUM = 1
  STANDARD_DEVIATION = 37.2357
END_OBJECT = IMAGE
/* MAP OBJECT DEFINITIONS */
OBJECT = IMAGE_MAP_PROJECTION
  ^DATA_SET_MAP_PROJECTION_CATALOG= "DSMAP.CAT"
  A_AXIS_RADIUS = 3396.0
  B_AXIS_RADIUS = 3396.0
  C_AXIS_RADIUS = 3396.0
  CENTER_LATITUDE = 0.0
  CENTER_LONGITUDE = 96.0
  COORDINATE_SYSTEM_NAME = PLANETOGRAPHIC
  COORDINATE_SYSTEM_TYPE = "BODY-FIXED ROTATING"
  EASTERNMOST_LONGITUDE = 96.4894
  FIRST_STANDARD_PARALLEL = "N/A"
  LINE_FIRST_PIXEL = 1
  LINE_LAST_PIXEL = 32618
  LINE_PROJECTION_OFFSET = 53987.25
  MAP_PROJECTION_ROTATION = 0.0
  MAP_PROJECTION_TYPE = SINUSOIDAL
  MAP_RESOLUTION = 2370.85521546667
  MAP_SCALE = 0.025
  MAXIMUM_LATITUDE = 22.764
  MINIMUM_LATITUDE = 9.039110000000001
  POSITIVE_LONGITUDE_DIRECTION = EAST
  REFERENCE_LATITUDE = "N/A"
  REFERENCE_LONGITUDE = "N/A"
  SAMPLE_FIRST_PIXEL = 1
  SAMPLE_LAST_PIXEL = 4380
  SAMPLE_PROJECTION_OFFSET = 3229.75
  SECOND_STANDARD_PARALLEL = "N/A"
  WESTERNMOST_LONGITUDE = 94.56140000000001
END_OBJECT = IMAGE_MAP_PROJECTION
/* The JPEG2000 image data file associated with this label. */
OBJECT = COMPRESSED_FILE
  FILE_NAME = "HD646_0000_S23.JP2"
  RECORD_TYPE = UNDEFINED
  FILE_RECORDS = UNK
  ENCODING_TYPE = "JP2"
  INTERCHANGE_FORMAT = BINARY
  UNCOMPRESSED_FILE_NAME = "HD646_0000_S23.IMG"
  REQUIRED_STORAGE_BYTES = "142893120"
  ^DESCRIPTION = "JP2INFO.TXT"
END_OBJECT = COMPRESSED_FILE
END
