PDS_VERSION_ID = PDS3
/* FILE DATA ELEMENTS */
RECORD_TYPE = STREAM
/* POINTERS TO DATA OBJECTS */
^COMPRESSED_FILE = "HD652_0000_ND3.JP2"
/* IDENTIFICATION DATA ELEMENTS */
DATA_SET_ID = "MEX-M-HRSC-5-REFDR-MAPPROJECTED-V3.0"
DATA_SET_NAME = "MARS EXPRESS HRSC MAP PROJECTED REFDR V3.0"
DETECTOR_ID = MEX_HRSC_NADIR
EVENT_TYPE = "MARS-REGIONAL-MAPPING-Vo-Pf-At"
INSTRUMENT_HOST_ID = MEX
INSTRUMENT_HOST_NAME = "MARS EXPRESS"
INSTRUMENT_ID = HRSC
INSTRUMENT_NAME = "HIGH RESOLUTION STEREO CAMERA"
MISSION_NAME = "MARS EXPRESS"
MISSION_PHASE_NAME = ME_Phase_31
PROCESSING_LEVEL_ID = 3
PRODUCT_CREATION_TIME = 2016-10-29T11:58:31.000Z
PRODUCT_ID = "HD652_0000_ND3.JP2"
RELEASE_ID = 0125
REVISION_ID = 0000
/* QUALITY DATA ELEMENTS */
DATA_QUALITY_ID = 1
DATA_QUALITY_DESC = "Data calculated based on original SPICE kernels"
/* TIME DATA ELEMENTS */
SPACECRAFT_CLOCK_START_COUNT = "1/0360388161.07308"
SPACECRAFT_CLOCK_STOP_COUNT = "1/0360388433.04519"
START_TIME = 2014-10-03T03:49:59.978Z
STOP_TIME = 2014-10-03T03:53:17.961Z
/* ORBITAL DATA ELEMENTS */
ASCENDING_NODE_LONGITUDE = 317.41
MAXIMUM_RESOLUTION = 14.8
FOOTPRINT_POINT_LATITUDE = (33.6786,33.6761,33.6722,33.6649, 33.3208,33.092,32.8632,32.6344,32.4057, 32.177,31.9483,31.7196,31.491,31.2624, 30.8053,30.3484,29.8917,29.4353,28.9791 ,28.5715,28.2995,28.0277,27.7559, 27.4843,27.2128,26.9414,26.6701,26.399, 26.128,25.8572,25.5865,25.3159,25.0456, 24.7753,24.5053,24.2354,23.9657,23.6961 ,23.4268,23.1576,22.8886,22.6199, 22.3513,22.0829,21.8147,21.5467,21.279, 21.0035,21.0036,21.0026,21.0016,21.1345 ,21.4025,21.6707,21.9392,22.2078, 22.4767,22.7457,23.015,23.2844,23.5541, 23.8239,24.0939,24.3641,24.6344,24.905, 25.1757,25.4465,25.7175,25.9887,26.26, 26.5314,26.803,27.0747,27.3465,27.6185, 27.8906,28.1628,28.4351,28.7076,29.0951 ,29.5521,29.7807,30.0093,30.238,30.4668 ,30.6956,30.9244,31.1533,31.3823, 31.6113,31.8403,32.0694,32.2985,32.5276 ,32.7567,32.9859,33.2151,33.4444, 33.6786)
FOOTPRINT_POINT_LONGITUDE = (201.566,201.224,200.837,200.301,200.19 ,200.195,200.2,200.205,200.209,200.214, 200.218,200.223,200.227,200.231,200.238 ,200.245,200.251,200.257,200.262, 200.266,200.268,200.271,200.273,200.275 ,200.277,200.278,200.28,200.281,200.282 ,200.283,200.283,200.284,200.284, 200.285,200.285,200.285,200.284,200.284 ,200.283,200.282,200.282,200.281, 200.279,200.278,200.277,200.275,200.273 ,200.497,200.828,201.309,201.564, 201.797,201.796,201.795,201.794,201.793 ,201.792,201.791,201.79,201.789,201.788 ,201.787,201.786,201.785,201.784, 201.783,201.782,201.781,201.78,201.779, 201.778,201.776,201.775,201.774,201.773 ,201.772,201.77,201.769,201.768,201.767 ,201.765,201.763,201.761,201.76,201.759 ,201.758,201.757,201.755,201.754, 201.753,201.751,201.75,201.749,201.747, 201.746,201.744,201.743,201.741,201.74, 201.566)
ORBIT_NUMBER = 13652
ORBITAL_ECCENTRICITY = 0.574
ORBITAL_INCLINATION = 86.91
ORBITAL_SEMIMAJOR_AXIS = 8820.96
PERIAPSIS_ALTITUDE = 365.8
PERIAPSIS_ARGUMENT_ANGLE = 145.07
PERIAPSIS_TIME = 2014-10-03T03:49:41.000Z
SPACECRAFT_ORIENTATION = (0.0,-1.0,0.0)
^MEX_ORIENTATION_DESC = "MEX_ORIENTATION_DESC.TXT"
SPACECRAFT_POINTING_MODE = NADIR
^MEX_POINTING_DESC = "MEX_POINTING_DESC.TXT"
RIGHT_ASCENSION = -1e+32
DECLINATION = -1e+32
OFFSET_ANGLE = -1e+32
SPACECRAFT_SOLAR_DISTANCE = 2.11673e+08
TARGET_NAME = MARS
/* CAMERA DATA ELEMENTS */
DETECTOR_TEMPERATURE = 18.9822
FOCAL_PLANE_TEMPERATURE = 9.3989
INST_CMPRS_NAME = "DISCRETE COSINE TRANSFORMATION (DCT)"
INST_CMPRS_RATIO = 6.63875
INST_CMPRS_QUALITY = 0
INST_CMPRS_QUANTZ_TBL_ID = 0
INSTRUMENT_TEMPERATURE = 11.8457
LENS_TEMPERATURE = 10.2145
MACROPIXEL_SIZE = 1
MISSING_FRAMES = 0
PIXEL_SUBSAMPLING_FLAG = N
SIGNAL_CHAIN_ID = 0
/* RADIOMETRIC DATA ELEMENTS */
BANDWIDTH = 177.0
CENTER_FILTER_WAVELENGTH = 677.5
RADIANCE_OFFSET = 2.30851
RADIANCE_SCALING_FACTOR = 0.0107981
REFLECTANCE_SCALING_FACTOR = 0.000257019
MEX:REFLECTANCE_OFFSET = 0.0549475
/* IMAGE OBJECT DEFINITIONS */
OBJECT = IMAGE
  INTERCHANGE_FORMAT = BINARY
  LINES = 60112
  LINE_SAMPLES = 6993
  SAMPLE_TYPE = UNSIGNED_INTEGER
  SAMPLE_BITS = 8
  BANDS = 1
  BAND_STORAGE_TYPE = BAND_SEQUENTIAL
  MAXIMUM = 255
  MEAN = 93.681
  MINIMUM = 1
  STANDARD_DEVIATION = 35.9621
END_OBJECT = IMAGE
/* MAP OBJECT DEFINITIONS */
OBJECT = IMAGE_MAP_PROJECTION
  ^DATA_SET_MAP_PROJECTION_CATALOG= "DSMAP.CAT"
  A_AXIS_RADIUS = 3396.0
  B_AXIS_RADIUS = 3396.0
  C_AXIS_RADIUS = 3396.0
  CENTER_LATITUDE = 0.0
  CENTER_LONGITUDE = 201.0
  COORDINATE_SYSTEM_NAME = PLANETOGRAPHIC
  COORDINATE_SYSTEM_TYPE = "BODY-FIXED ROTATING"
  EASTERNMOST_LONGITUDE = 201.797
  FIRST_STANDARD_PARALLEL = "N/A"
  LINE_FIRST_PIXEL = 1
  LINE_LAST_PIXEL = 60112
  LINE_PROJECTION_OFFSET = 159697.0
  MAP_PROJECTION_ROTATION = 0.0
  MAP_PROJECTION_TYPE = SINUSOIDAL
  MAP_RESOLUTION = 4741.71043093333
  MAP_SCALE = 0.0125
  MAXIMUM_LATITUDE = 33.6786
  MINIMUM_LATITUDE = 21.0016
  POSITIVE_LONGITUDE_DIRECTION = EAST
  REFERENCE_LATITUDE = "N/A"
  REFERENCE_LONGITUDE = "N/A"
  SAMPLE_FIRST_PIXEL = 1
  SAMPLE_LAST_PIXEL = 6993
  SAMPLE_PROJECTION_OFFSET = 3339.0
  SECOND_STANDARD_PARALLEL = "N/A"
  WESTERNMOST_LONGITUDE = 200.19
END_OBJECT = IMAGE_MAP_PROJECTION
/* The JPEG2000 image data file associated with this label. */
OBJECT = COMPRESSED_FILE
  FILE_NAME = "HD652_0000_ND3.JP2"
  RECORD_TYPE = UNDEFINED
  FILE_RECORDS = UNK
  ENCODING_TYPE = "JP2"
  INTERCHANGE_FORMAT = BINARY
  UNCOMPRESSED_FILE_NAME = "HD652_0000_ND3.IMG"
  REQUIRED_STORAGE_BYTES = "420391188"
  ^DESCRIPTION = "JP2INFO.TXT"
END_OBJECT = COMPRESSED_FILE
END
