PDS_VERSION_ID = PDS3
/* FILE DATA ELEMENTS */
RECORD_TYPE = STREAM
/* POINTERS TO DATA OBJECTS */
^COMPRESSED_FILE = "HD652_0000_S13.JP2"
/* IDENTIFICATION DATA ELEMENTS */
DATA_SET_ID = "MEX-M-HRSC-5-REFDR-MAPPROJECTED-V3.0"
DATA_SET_NAME = "MARS EXPRESS HRSC MAP PROJECTED REFDR V3.0"
DETECTOR_ID = MEX_HRSC_S1
EVENT_TYPE = "MARS-REGIONAL-MAPPING-Vo-Pf-At"
INSTRUMENT_HOST_ID = MEX
INSTRUMENT_HOST_NAME = "MARS EXPRESS"
INSTRUMENT_ID = HRSC
INSTRUMENT_NAME = "HIGH RESOLUTION STEREO CAMERA"
MISSION_NAME = "MARS EXPRESS"
MISSION_PHASE_NAME = ME_Phase_31
PROCESSING_LEVEL_ID = 3
PRODUCT_CREATION_TIME = 2016-10-29T11:58:31.000Z
PRODUCT_ID = "HD652_0000_S13.JP2"
RELEASE_ID = 0125
REVISION_ID = 0000
/* QUALITY DATA ELEMENTS */
DATA_QUALITY_ID = 1
DATA_QUALITY_DESC = "Data calculated based on original SPICE kernels"
/* TIME DATA ELEMENTS */
SPACECRAFT_CLOCK_START_COUNT = "1/0360388161.07308"
SPACECRAFT_CLOCK_STOP_COUNT = "1/0360388433.04519"
START_TIME = 2014-10-03T03:49:26.855Z
STOP_TIME = 2014-10-03T03:52:42.118Z
/* ORBITAL DATA ELEMENTS */
ASCENDING_NODE_LONGITUDE = 317.41
MAXIMUM_RESOLUTION = 31.4
FOOTPRINT_POINT_LATITUDE = (33.7265,33.725,33.7231,33.7195,33.7161 ,33.7119,33.6435,33.4118,33.0638, 32.8317,32.4831,32.1343,31.9016,31.5523 ,31.2027,30.9696,30.6196,30.3861, 30.0357,29.685,29.4511,29.1,28.8659, 28.5145,28.2802,27.9284,27.5765,27.3418 ,27.1071,26.8723,26.6077,26.3261, 26.0466,25.6257,25.2045,24.7832,24.3619 ,23.9404,23.5188,23.0972,22.6755, 22.2538,21.9728,21.551,21.1293,20.9726, 20.9738,20.9742,20.974,20.9731,20.9717, 21.1125,21.2532,21.3941,21.5349,21.8164 ,22.0978,22.2386,22.5202,22.661,22.8018 ,23.0832,23.2241,23.5055,23.6463, 23.9277,24.0684,24.3497,24.4905,24.7717 ,25.1936,25.6153,26.0369,26.4583, 26.8666,27.1017,27.3367,27.6893,27.9241 ,28.2764,28.5111,28.8631,29.0976, 29.4492,29.6835,30.0348,30.3858,30.6197 ,30.9703,31.2038,31.554,31.9039,32.137, 32.3699,32.6028,32.8357,33.0682,33.3006 ,33.5328,33.7265)
FOOTPRINT_POINT_LONGITUDE = (201.721,201.427,201.193,200.885, 200.651,200.416,200.184,200.19,200.199, 200.204,200.212,200.22,200.225,200.231, 200.238,200.242,200.248,200.252,200.258 ,200.263,200.266,200.271,200.273, 200.278,200.28,200.284,200.287,200.289, 200.291,200.292,200.294,200.296,200.297 ,200.299,200.301,200.302,200.303, 200.303,200.303,200.303,200.302,200.301 ,200.3,200.298,200.296,200.482,200.741, 200.97,201.258,201.488,201.78,201.78, 201.78,201.779,201.779,201.779,201.778, 201.778,201.778,201.777,201.777,201.777 ,201.776,201.776,201.776,201.775, 201.775,201.774,201.774,201.773,201.772 ,201.771,201.77,201.769,201.768,201.768 ,201.767,201.766,201.766,201.765, 201.764,201.763,201.762,201.761,201.76, 201.759,201.758,201.757,201.756,201.755 ,201.754,201.752,201.751,201.75,201.749 ,201.748,201.747,201.746,201.745, 201.721)
ORBIT_NUMBER = 13652
ORBITAL_ECCENTRICITY = 0.574
ORBITAL_INCLINATION = 86.91
ORBITAL_SEMIMAJOR_AXIS = 8820.96
PERIAPSIS_ALTITUDE = 365.8
PERIAPSIS_ARGUMENT_ANGLE = 145.07
PERIAPSIS_TIME = 2014-10-03T03:49:41.000Z
SPACECRAFT_ORIENTATION = (0.0,-1.0,0.0)
^MEX_ORIENTATION_DESC = "MEX_ORIENTATION_DESC.TXT"
SPACECRAFT_POINTING_MODE = NADIR
^MEX_POINTING_DESC = "MEX_POINTING_DESC.TXT"
RIGHT_ASCENSION = -1e+32
DECLINATION = -1e+32
OFFSET_ANGLE = -1e+32
SPACECRAFT_SOLAR_DISTANCE = 2.11673e+08
TARGET_NAME = MARS
/* CAMERA DATA ELEMENTS */
DETECTOR_TEMPERATURE = 18.1666
FOCAL_PLANE_TEMPERATURE = 9.3989
INST_CMPRS_NAME = "DISCRETE COSINE TRANSFORMATION (DCT)"
INST_CMPRS_RATIO = 8.79822
INST_CMPRS_QUALITY = 0
INST_CMPRS_QUANTZ_TBL_ID = 0
INSTRUMENT_TEMPERATURE = 11.8457
LENS_TEMPERATURE = 10.2145
MACROPIXEL_SIZE = 2
MISSING_FRAMES = 0
PIXEL_SUBSAMPLING_FLAG = N
SIGNAL_CHAIN_ID = 1
/* RADIOMETRIC DATA ELEMENTS */
BANDWIDTH = 180.0
CENTER_FILTER_WAVELENGTH = 677.0
RADIANCE_OFFSET = 3.02764
RADIANCE_SCALING_FACTOR = 0.0113285
REFLECTANCE_SCALING_FACTOR = 0.000264816
MEX:REFLECTANCE_OFFSET = 0.0707747
/* IMAGE OBJECT DEFINITIONS */
OBJECT = IMAGE
  INTERCHANGE_FORMAT = BINARY
  LINES = 30056
  LINE_SAMPLES = 3497
  SAMPLE_TYPE = UNSIGNED_INTEGER
  SAMPLE_BITS = 8
  BANDS = 1
  BAND_STORAGE_TYPE = BAND_SEQUENTIAL
  MAXIMUM = 255
  MEAN = 93.7727
  MINIMUM = 1
  STANDARD_DEVIATION = 36.8893
END_OBJECT = IMAGE
/* MAP OBJECT DEFINITIONS */
OBJECT = IMAGE_MAP_PROJECTION
  ^DATA_SET_MAP_PROJECTION_CATALOG= "DSMAP.CAT"
  A_AXIS_RADIUS = 3396.0
  B_AXIS_RADIUS = 3396.0
  C_AXIS_RADIUS = 3396.0
  CENTER_LATITUDE = 0.0
  CENTER_LONGITUDE = 201.0
  COORDINATE_SYSTEM_NAME = PLANETOGRAPHIC
  COORDINATE_SYSTEM_TYPE = "BODY-FIXED ROTATING"
  EASTERNMOST_LONGITUDE = 201.78
  FIRST_STANDARD_PARALLEL = "N/A"
  LINE_FIRST_PIXEL = 1
  LINE_LAST_PIXEL = 30056
  LINE_PROJECTION_OFFSET = 79848.25
  MAP_PROJECTION_ROTATION = 0.0
  MAP_PROJECTION_TYPE = SINUSOIDAL
  MAP_RESOLUTION = 2370.85521546667
  MAP_SCALE = 0.025
  MAXIMUM_LATITUDE = 33.7265
  MINIMUM_LATITUDE = 20.9717
  POSITIVE_LONGITUDE_DIRECTION = EAST
  REFERENCE_LATITUDE = "N/A"
  REFERENCE_LONGITUDE = "N/A"
  SAMPLE_FIRST_PIXEL = 1
  SAMPLE_LAST_PIXEL = 3497
  SAMPLE_PROJECTION_OFFSET = 1669.25
  SECOND_STANDARD_PARALLEL = "N/A"
  WESTERNMOST_LONGITUDE = 200.184
END_OBJECT = IMAGE_MAP_PROJECTION
/* The JPEG2000 image data file associated with this label. */
OBJECT = COMPRESSED_FILE
  FILE_NAME = "HD652_0000_S13.JP2"
  RECORD_TYPE = UNDEFINED
  FILE_RECORDS = UNK
  ENCODING_TYPE = "JP2"
  INTERCHANGE_FORMAT = BINARY
  UNCOMPRESSED_FILE_NAME = "HD652_0000_S13.IMG"
  REQUIRED_STORAGE_BYTES = "105126814"
  ^DESCRIPTION = "JP2INFO.TXT"
END_OBJECT = COMPRESSED_FILE
END
