PDS_VERSION_ID = PDS3
/* FILE DATA ELEMENTS */
RECORD_TYPE = STREAM
/* POINTERS TO DATA OBJECTS */
^COMPRESSED_FILE = "HD652_0000_S23.JP2"
/* IDENTIFICATION DATA ELEMENTS */
DATA_SET_ID = "MEX-M-HRSC-5-REFDR-MAPPROJECTED-V3.0"
DATA_SET_NAME = "MARS EXPRESS HRSC MAP PROJECTED REFDR V3.0"
DETECTOR_ID = MEX_HRSC_S2
EVENT_TYPE = "MARS-REGIONAL-MAPPING-Vo-Pf-At"
INSTRUMENT_HOST_ID = MEX
INSTRUMENT_HOST_NAME = "MARS EXPRESS"
INSTRUMENT_ID = HRSC
INSTRUMENT_NAME = "HIGH RESOLUTION STEREO CAMERA"
MISSION_NAME = "MARS EXPRESS"
MISSION_PHASE_NAME = ME_Phase_31
PROCESSING_LEVEL_ID = 3
PRODUCT_CREATION_TIME = 2016-10-29T11:58:31.000Z
PRODUCT_ID = "HD652_0000_S23.JP2"
RELEASE_ID = 0125
REVISION_ID = 0000
/* QUALITY DATA ELEMENTS */
DATA_QUALITY_ID = 1
DATA_QUALITY_DESC = "Data calculated based on original SPICE kernels"
/* TIME DATA ELEMENTS */
SPACECRAFT_CLOCK_START_COUNT = "1/0360388161.07308"
SPACECRAFT_CLOCK_STOP_COUNT = "1/0360388433.04519"
START_TIME = 2014-10-03T03:50:33.204Z
STOP_TIME = 2014-10-03T03:53:56.767Z
/* ORBITAL DATA ELEMENTS */
ASCENDING_NODE_LONGITUDE = 317.41
MAXIMUM_RESOLUTION = 31.8
FOOTPRINT_POINT_LATITUDE = (33.6473,33.6439,33.7046,33.1403, 32.6899,32.3525,32.0155,31.6789,31.3428 ,31.1067,30.8398,30.5731,30.3067, 30.0406,29.7749,29.5095,29.2444,28.9796 ,28.715,28.4508,28.1869,27.9234,27.6602 ,27.3974,27.1349,26.8727,26.6108, 26.3513,26.0881,25.8274,25.567,25.307, 25.0474,24.7881,24.5292,24.2707,24.0125 ,23.7548,23.4974,23.2405,22.9839, 22.7277,22.4719,22.2165,21.9616,21.5705 ,21.3097,21.0494,21.0434,21.0418, 21.0407,21.0389,21.1684,21.4293,21.6907 ,21.9517,22.2071,22.4628,22.719,22.9755 ,23.2325,23.4898,23.7476,24.0057, 24.2642,24.5231,24.7824,25.042,25.3021, 25.5625,25.8232,26.0844,26.3459,26.6079 ,26.8701,27.1327,27.3956,27.6589, 27.9225,28.1865,28.4507,28.7154,28.9803 ,29.2455,29.5111,29.7769,30.043,30.3095 ,30.5763,30.8434,31.1107,31.3479, 31.6846,32.0218,32.3593,32.6972,33.0357 ,33.3744,33.6004,33.6473)
FOOTPRINT_POINT_LONGITUDE = (201.15,200.736,200.172,200.184,200.193 ,200.199,200.205,200.211,200.216,200.22 ,200.223,200.227,200.23,200.233,200.236 ,200.239,200.242,200.244,200.246, 200.248,200.25,200.252,200.253,200.254, 200.256,200.256,200.257,200.257,200.258 ,200.259,200.259,200.259,200.258, 200.258,200.258,200.257,200.256,200.255 ,200.254,200.253,200.251,200.25,200.248 ,200.246,200.244,200.241,200.239, 200.236,200.484,200.84,201.088,201.552, 201.836,201.834,201.833,201.831,201.83, 201.828,201.827,201.825,201.823,201.822 ,201.82,201.819,201.817,201.816,201.814 ,201.813,201.811,201.809,201.808, 201.806,201.804,201.803,201.801,201.8, 201.798,201.796,201.794,201.793,201.791 ,201.789,201.787,201.786,201.784, 201.782,201.78,201.778,201.776,201.774, 201.772,201.771,201.768,201.765,201.763 ,201.76,201.757,201.755,201.753,201.15)
ORBIT_NUMBER = 13652
ORBITAL_ECCENTRICITY = 0.574
ORBITAL_INCLINATION = 86.91
ORBITAL_SEMIMAJOR_AXIS = 8820.96
PERIAPSIS_ALTITUDE = 365.8
PERIAPSIS_ARGUMENT_ANGLE = 145.07
PERIAPSIS_TIME = 2014-10-03T03:49:41.000Z
SPACECRAFT_ORIENTATION = (0.0,-1.0,0.0)
^MEX_ORIENTATION_DESC = "MEX_ORIENTATION_DESC.TXT"
SPACECRAFT_POINTING_MODE = NADIR
^MEX_POINTING_DESC = "MEX_POINTING_DESC.TXT"
RIGHT_ASCENSION = -1e+32
DECLINATION = -1e+32
OFFSET_ANGLE = -1e+32
SPACECRAFT_SOLAR_DISTANCE = 2.11673e+08
TARGET_NAME = MARS
/* CAMERA DATA ELEMENTS */
DETECTOR_TEMPERATURE = 19.1861
FOCAL_PLANE_TEMPERATURE = 9.3989
INST_CMPRS_NAME = "DISCRETE COSINE TRANSFORMATION (DCT)"
INST_CMPRS_RATIO = 10.3491
INST_CMPRS_QUALITY = 0
INST_CMPRS_QUANTZ_TBL_ID = 0
INSTRUMENT_TEMPERATURE = 11.8457
LENS_TEMPERATURE = 10.2145
MACROPIXEL_SIZE = 2
MISSING_FRAMES = 0
PIXEL_SUBSAMPLING_FLAG = N
SIGNAL_CHAIN_ID = 1
/* RADIOMETRIC DATA ELEMENTS */
BANDWIDTH = 178.0
CENTER_FILTER_WAVELENGTH = 679.0
RADIANCE_OFFSET = 2.7475
RADIANCE_SCALING_FACTOR = 0.0108867
REFLECTANCE_SCALING_FACTOR = 0.000258321
MEX:REFLECTANCE_OFFSET = 0.0651926
/* IMAGE OBJECT DEFINITIONS */
OBJECT = IMAGE
  INTERCHANGE_FORMAT = BINARY
  LINES = 30056
  LINE_SAMPLES = 3497
  SAMPLE_TYPE = UNSIGNED_INTEGER
  SAMPLE_BITS = 8
  BANDS = 1
  BAND_STORAGE_TYPE = BAND_SEQUENTIAL
  MAXIMUM = 255
  MEAN = 96.5735
  MINIMUM = 1
  STANDARD_DEVIATION = 37.6918
END_OBJECT = IMAGE
/* MAP OBJECT DEFINITIONS */
OBJECT = IMAGE_MAP_PROJECTION
  ^DATA_SET_MAP_PROJECTION_CATALOG= "DSMAP.CAT"
  A_AXIS_RADIUS = 3396.0
  B_AXIS_RADIUS = 3396.0
  C_AXIS_RADIUS = 3396.0
  CENTER_LATITUDE = 0.0
  CENTER_LONGITUDE = 201.0
  COORDINATE_SYSTEM_NAME = PLANETOGRAPHIC
  COORDINATE_SYSTEM_TYPE = "BODY-FIXED ROTATING"
  EASTERNMOST_LONGITUDE = 201.836
  FIRST_STANDARD_PARALLEL = "N/A"
  LINE_FIRST_PIXEL = 1
  LINE_LAST_PIXEL = 30056
  LINE_PROJECTION_OFFSET = 79848.25
  MAP_PROJECTION_ROTATION = 0.0
  MAP_PROJECTION_TYPE = SINUSOIDAL
  MAP_RESOLUTION = 2370.85521546667
  MAP_SCALE = 0.025
  MAXIMUM_LATITUDE = 33.7046
  MINIMUM_LATITUDE = 21.0389
  POSITIVE_LONGITUDE_DIRECTION = EAST
  REFERENCE_LATITUDE = "N/A"
  REFERENCE_LONGITUDE = "N/A"
  SAMPLE_FIRST_PIXEL = 1
  SAMPLE_LAST_PIXEL = 3497
  SAMPLE_PROJECTION_OFFSET = 1669.25
  SECOND_STANDARD_PARALLEL = "N/A"
  WESTERNMOST_LONGITUDE = 200.172
END_OBJECT = IMAGE_MAP_PROJECTION
/* The JPEG2000 image data file associated with this label. */
OBJECT = COMPRESSED_FILE
  FILE_NAME = "HD652_0000_S23.JP2"
  RECORD_TYPE = UNDEFINED
  FILE_RECORDS = UNK
  ENCODING_TYPE = "JP2"
  INTERCHANGE_FORMAT = BINARY
  UNCOMPRESSED_FILE_NAME = "HD652_0000_S23.IMG"
  REQUIRED_STORAGE_BYTES = "105126814"
  ^DESCRIPTION = "JP2INFO.TXT"
END_OBJECT = COMPRESSED_FILE
END
