PDS_VERSION_ID = PDS3
/* FILE DATA ELEMENTS */
RECORD_TYPE = STREAM
/* POINTERS TO DATA OBJECTS */
^COMPRESSED_FILE = "HD658_0000_GR3.JP2"
/* IDENTIFICATION DATA ELEMENTS */
DATA_SET_ID = "MEX-M-HRSC-5-REFDR-MAPPROJECTED-V3.0"
DATA_SET_NAME = "MARS EXPRESS HRSC MAP PROJECTED REFDR V3.0"
DETECTOR_ID = MEX_HRSC_GREEN
EVENT_TYPE = "MARS-REGIONAL-MAPPING-Te-Fl"
INSTRUMENT_HOST_ID = MEX
INSTRUMENT_HOST_NAME = "MARS EXPRESS"
INSTRUMENT_ID = HRSC
INSTRUMENT_NAME = "HIGH RESOLUTION STEREO CAMERA"
MISSION_NAME = "MARS EXPRESS"
MISSION_PHASE_NAME = ME_Phase_31
PROCESSING_LEVEL_ID = 3
PRODUCT_CREATION_TIME = 2016-10-29T11:58:31.000Z
PRODUCT_ID = "HD658_0000_GR3.JP2"
RELEASE_ID = 0125
REVISION_ID = 0000
/* QUALITY DATA ELEMENTS */
DATA_QUALITY_ID = 1
DATA_QUALITY_DESC = "Data calculated based on original SPICE kernels"
/* TIME DATA ELEMENTS */
SPACECRAFT_CLOCK_START_COUNT = "1/0360539083.08459"
SPACECRAFT_CLOCK_STOP_COUNT = "1/0360539268.23776"
START_TIME = 2014-10-04T21:45:17.847Z
STOP_TIME = 2014-10-04T21:47:12.907Z
/* ORBITAL DATA ELEMENTS */
ASCENDING_NODE_LONGITUDE = 317.3
MAXIMUM_RESOLUTION = 59.2
FOOTPRINT_POINT_LATITUDE = (41.3959,41.3927,41.3877,41.3833,41.377 ,41.3711,41.2718,41.104,40.9363,40.7684 ,40.6006,40.4326,40.2647,40.0126, 39.8446,39.6042,39.463,39.1814,39.0402, 38.7585,38.6174,38.4058,38.2646,38.1235 ,37.9824,37.8412,37.6294,37.4881, 37.3469,37.2056,36.9937,36.8525,36.7111 ,36.4991,36.3577,36.1457,36.0044,35.863 ,35.6509,35.5095,35.2975,35.1561, 35.0147,34.8734,34.7321,34.5904,34.378, 34.2362,34.0947,33.9635,33.9661,33.9688 ,33.972,33.9749,33.976,33.978,34.1905, 34.4031,34.5448,34.6866,34.8283,34.9701 ,35.1117,35.2534,35.3951,35.5368, 35.7494,35.8911,36.1034,36.3158,36.5284 ,36.6699,36.8115,36.9531,37.0947, 37.3071,37.5193,37.6608,37.8023,38.0144 ,38.1558,38.368,38.5801,38.7215,38.8628 ,39.0042,39.1454,39.3574,39.4986, 39.6398,39.8824,40.0508,40.2192,40.3876 ,40.5559,40.7241,40.9765,41.1447, 41.3128,41.3959)
FOOTPRINT_POINT_LONGITUDE = (307.902,307.665,307.348,307.11,306.809 ,306.556,306.372,306.381,306.389, 306.397,306.406,306.414,306.422,306.434 ,306.442,306.453,306.458,306.471, 306.476,306.489,306.495,306.503,306.509 ,306.514,306.52,306.525,306.533,306.538 ,306.543,306.548,306.556,306.561, 306.565,306.572,306.577,306.584,306.588 ,306.592,306.599,306.603,306.61,306.614 ,306.618,306.622,306.626,306.629, 306.634,306.637,306.641,306.802,306.976 ,307.179,307.454,307.801,307.975, 308.197,308.196,308.194,308.193,308.192 ,308.191,308.189,308.188,308.187, 308.186,308.185,308.183,308.182,308.18, 308.178,308.176,308.175,308.174,308.172 ,308.171,308.169,308.167,308.165, 308.164,308.162,308.161,308.158,308.156 ,308.154,308.153,308.151,308.15,308.147 ,308.146,308.144,308.141,308.139, 308.137,308.135,308.133,308.131,308.128 ,308.125,308.123,307.902)
ORBIT_NUMBER = 13658
ORBITAL_ECCENTRICITY = 0.574
ORBITAL_INCLINATION = 86.91
ORBITAL_SEMIMAJOR_AXIS = 8820.57
PERIAPSIS_ALTITUDE = 366.6
PERIAPSIS_ARGUMENT_ANGLE = 144.06
PERIAPSIS_TIME = 2014-10-04T21:46:48.000Z
SPACECRAFT_ORIENTATION = (0.0,-1.0,0.0)
^MEX_ORIENTATION_DESC = "MEX_ORIENTATION_DESC.TXT"
SPACECRAFT_POINTING_MODE = NADIR
^MEX_POINTING_DESC = "MEX_POINTING_DESC.TXT"
RIGHT_ASCENSION = -1e+32
DECLINATION = -1e+32
OFFSET_ANGLE = -1e+32
SPACECRAFT_SOLAR_DISTANCE = 2.11438e+08
TARGET_NAME = MARS
/* CAMERA DATA ELEMENTS */
DETECTOR_TEMPERATURE = 18.3705
FOCAL_PLANE_TEMPERATURE = 8.3794
INST_CMPRS_NAME = "DISCRETE COSINE TRANSFORMATION (DCT)"
INST_CMPRS_RATIO = 14.0252
INST_CMPRS_QUALITY = 0
INST_CMPRS_QUANTZ_TBL_ID = 0
INSTRUMENT_TEMPERATURE = 10.0106
LENS_TEMPERATURE = 9.195
MACROPIXEL_SIZE = 4
MISSING_FRAMES = 0
PIXEL_SUBSAMPLING_FLAG = N
SIGNAL_CHAIN_ID = 2
/* RADIOMETRIC DATA ELEMENTS */
BANDWIDTH = 88.0
CENTER_FILTER_WAVELENGTH = 538.0
RADIANCE_OFFSET = 0.66127
RADIANCE_SCALING_FACTOR = 0.0024585
REFLECTANCE_SCALING_FACTOR = 9.46298e-05
MEX:REFLECTANCE_OFFSET = 0.0254528
/* IMAGE OBJECT DEFINITIONS */
OBJECT = IMAGE
  INTERCHANGE_FORMAT = BINARY
  LINES = 8808
  LINE_SAMPLES = 1790
  SAMPLE_TYPE = UNSIGNED_INTEGER
  SAMPLE_BITS = 8
  BANDS = 1
  BAND_STORAGE_TYPE = BAND_SEQUENTIAL
  MAXIMUM = 255
  MEAN = 128.289
  MINIMUM = 1
  STANDARD_DEVIATION = 44.0237
END_OBJECT = IMAGE
/* MAP OBJECT DEFINITIONS */
OBJECT = IMAGE_MAP_PROJECTION
  ^DATA_SET_MAP_PROJECTION_CATALOG= "DSMAP.CAT"
  A_AXIS_RADIUS = 3396.0
  B_AXIS_RADIUS = 3396.0
  C_AXIS_RADIUS = 3396.0
  CENTER_LATITUDE = 0.0
  CENTER_LONGITUDE = 307.0
  COORDINATE_SYSTEM_NAME = PLANETOGRAPHIC
  COORDINATE_SYSTEM_TYPE = "BODY-FIXED ROTATING"
  EASTERNMOST_LONGITUDE = 308.197
  FIRST_STANDARD_PARALLEL = "N/A"
  LINE_FIRST_PIXEL = 1
  LINE_LAST_PIXEL = 8808
  LINE_PROJECTION_OFFSET = 49072.125
  MAP_PROJECTION_ROTATION = 0.0
  MAP_PROJECTION_TYPE = SINUSOIDAL
  MAP_RESOLUTION = 1185.42760773333
  MAP_SCALE = 0.05
  MAXIMUM_LATITUDE = 41.3959
  MINIMUM_LATITUDE = 33.9635
  POSITIVE_LONGITUDE_DIRECTION = EAST
  REFERENCE_LATITUDE = "N/A"
  REFERENCE_LONGITUDE = "N/A"
  SAMPLE_FIRST_PIXEL = 1
  SAMPLE_LAST_PIXEL = 1790
  SAMPLE_PROJECTION_OFFSET = 582.625
  SECOND_STANDARD_PARALLEL = "N/A"
  WESTERNMOST_LONGITUDE = 306.372
END_OBJECT = IMAGE_MAP_PROJECTION
/* The JPEG2000 image data file associated with this label. */
OBJECT = COMPRESSED_FILE
  FILE_NAME = "HD658_0000_GR3.JP2"
  RECORD_TYPE = UNDEFINED
  FILE_RECORDS = UNK
  ENCODING_TYPE = "JP2"
  INTERCHANGE_FORMAT = BINARY
  UNCOMPRESSED_FILE_NAME = "HD658_0000_GR3.IMG"
  REQUIRED_STORAGE_BYTES = "15786010"
  ^DESCRIPTION = "JP2INFO.TXT"
END_OBJECT = COMPRESSED_FILE
END
