PDS_VERSION_ID = PDS3
/* FILE DATA ELEMENTS */
RECORD_TYPE = STREAM
/* POINTERS TO DATA OBJECTS */
^COMPRESSED_FILE = "HD664_0000_BL3.JP2"
/* IDENTIFICATION DATA ELEMENTS */
DATA_SET_ID = "MEX-M-HRSC-5-REFDR-MAPPROJECTED-V3.0"
DATA_SET_NAME = "MARS EXPRESS HRSC MAP PROJECTED REFDR V3.0"
DETECTOR_ID = MEX_HRSC_BLUE
EVENT_TYPE = "MARS-REGIONAL-MAPPING-Im-Fl-La"
INSTRUMENT_HOST_ID = MEX
INSTRUMENT_HOST_NAME = "MARS EXPRESS"
INSTRUMENT_ID = HRSC
INSTRUMENT_NAME = "HIGH RESOLUTION STEREO CAMERA"
MISSION_NAME = "MARS EXPRESS"
MISSION_PHASE_NAME = ME_Phase_31
PROCESSING_LEVEL_ID = 3
PRODUCT_CREATION_TIME = 2016-10-29T11:58:31.000Z
PRODUCT_ID = "HD664_0000_BL3.JP2"
RELEASE_ID = 0125
REVISION_ID = 0000
/* QUALITY DATA ELEMENTS */
DATA_QUALITY_ID = 1
DATA_QUALITY_DESC = "Data calculated based on original SPICE kernels"
/* TIME DATA ELEMENTS */
SPACECRAFT_CLOCK_START_COUNT = "1/0360690425.07324"
SPACECRAFT_CLOCK_STOP_COUNT = "1/0360690695.05011"
START_TIME = 2014-10-06T15:47:54.199Z
STOP_TIME = 2014-10-06T15:50:53.225Z
/* ORBITAL DATA ELEMENTS */
ASCENDING_NODE_LONGITUDE = 317.18
MAXIMUM_RESOLUTION = 66.3
FOOTPRINT_POINT_LATITUDE = (21.5862,21.5873,21.5881,21.5886, 21.5888,21.5888,21.5884,21.2892,20.9897 ,20.5907,20.2847,19.9798,19.776,19.5724 ,19.3684,19.163,18.9547,18.7469,18.5394 ,18.2282,18.0208,17.8102,17.598,17.386, 17.1744,16.9629,16.7509,16.5353,16.319, 16.1032,15.8881,15.5622,15.3423,15.1228 ,14.9041,14.6865,14.4624,14.2379, 13.9024,13.5652,13.3381,13.111,12.8848, 12.6555,12.4242,12.1928,11.9622,11.7293 ,11.4945,11.2598,11.0265,10.7264, 10.7231,10.7204,10.7164,10.7137,10.7104 ,10.9491,11.1847,11.4193,11.6544, 11.8891,12.1198,12.3516,12.583,12.8132, 13.0404,13.2677,13.4955,13.7223,13.9463 ,14.17,14.3926,14.7274,14.9468,15.1666, 15.3866,15.6067,15.8239,16.0395,16.2553 ,16.4714,16.7952,17.0064,17.2189, 17.5374,17.8566,18.0663,18.2726,18.4806 ,18.6891,19.002,19.2111,19.5165,19.7202 ,20.0257,20.2301,20.6377,21.0372, 21.5862)
FOOTPRINT_POINT_LONGITUDE = (55.0631,54.8307,54.599,54.3681,54.138, 53.9087,53.6511,53.5424,53.5388,53.5339 ,53.5301,53.5247,53.5217,53.5188, 53.5162,53.5143,53.511,53.5074,53.5035, 53.498,53.4944,53.4905,53.4867,53.4828, 53.4787,53.4747,53.4708,53.4659,53.4619 ,53.4575,53.4526,53.4457,53.4409, 53.4359,53.4302,53.4235,53.4189,53.4144 ,53.4068,53.3985,53.3923,53.3863, 53.3796,53.3741,53.3679,53.362,53.3555, 53.3488,53.3419,53.3352,53.3274,53.3849 ,53.771,54.0401,54.4454,54.6998,54.9889 ,55.1301,55.1296,55.1281,55.1268,55.126 ,55.1247,55.1251,55.1238,55.1228, 55.1219,55.1209,55.1199,55.1187,55.1195 ,55.1189,55.1152,55.1143,55.1136, 55.1128,55.1122,55.1111,55.1105,55.1096 ,55.1088,55.1081,55.1066,55.1052, 55.1063,55.1062,55.1067,55.106,55.1019, 55.1015,55.102,55.102,55.1035,55.1027, 55.1017,55.0994,55.0989,55.0989,55.0982 ,55.0631)
ORBIT_NUMBER = 13664
ORBITAL_ECCENTRICITY = 0.574
ORBITAL_INCLINATION = 86.91
ORBITAL_SEMIMAJOR_AXIS = 8825.13
PERIAPSIS_ALTITUDE = 366.97
PERIAPSIS_ARGUMENT_ANGLE = 143.02
PERIAPSIS_TIME = 2014-10-06T15:43:47.000Z
SPACECRAFT_ORIENTATION = (0.0,-1.0,0.0)
^MEX_ORIENTATION_DESC = "MEX_ORIENTATION_DESC.TXT"
SPACECRAFT_POINTING_MODE = ACROSSTRACK
^MEX_POINTING_DESC = "MEX_POINTING_DESC.TXT"
RIGHT_ASCENSION = -1e+32
DECLINATION = -1e+32
OFFSET_ANGLE = 0.3
SPACECRAFT_SOLAR_DISTANCE = 2.11208e+08
TARGET_NAME = MARS
/* CAMERA DATA ELEMENTS */
DETECTOR_TEMPERATURE = 18.5744
FOCAL_PLANE_TEMPERATURE = 8.9911
INST_CMPRS_NAME = "DISCRETE COSINE TRANSFORMATION (DCT)"
INST_CMPRS_RATIO = 5.57906
INST_CMPRS_QUALITY = 0
INST_CMPRS_QUANTZ_TBL_ID = 0
INSTRUMENT_TEMPERATURE = 11.4379
LENS_TEMPERATURE = 9.3989
MACROPIXEL_SIZE = 4
MISSING_FRAMES = 0
PIXEL_SUBSAMPLING_FLAG = N
SIGNAL_CHAIN_ID = 2
/* RADIOMETRIC DATA ELEMENTS */
BANDWIDTH = 76.0
CENTER_FILTER_WAVELENGTH = 444.0
RADIANCE_OFFSET = 0.430171
RADIANCE_SCALING_FACTOR = 0.00146691
REFLECTANCE_SCALING_FACTOR = 6.72323e-05
MEX:REFLECTANCE_OFFSET = 0.0197159
/* IMAGE OBJECT DEFINITIONS */
OBJECT = IMAGE
  INTERCHANGE_FORMAT = BINARY
  LINES = 12898
  LINE_SAMPLES = 2195
  SAMPLE_TYPE = UNSIGNED_INTEGER
  SAMPLE_BITS = 8
  BANDS = 1
  BAND_STORAGE_TYPE = BAND_SEQUENTIAL
  MAXIMUM = 255
  MEAN = 130.804
  MINIMUM = 1
  STANDARD_DEVIATION = 33.9198
END_OBJECT = IMAGE
/* MAP OBJECT DEFINITIONS */
OBJECT = IMAGE_MAP_PROJECTION
  ^DATA_SET_MAP_PROJECTION_CATALOG= "DSMAP.CAT"
  A_AXIS_RADIUS = 3396.0
  B_AXIS_RADIUS = 3396.0
  C_AXIS_RADIUS = 3396.0
  CENTER_LATITUDE = 0.0
  CENTER_LONGITUDE = 54.0
  COORDINATE_SYSTEM_NAME = PLANETOGRAPHIC
  COORDINATE_SYSTEM_TYPE = "BODY-FIXED ROTATING"
  EASTERNMOST_LONGITUDE = 55.1301
  FIRST_STANDARD_PARALLEL = "N/A"
  LINE_FIRST_PIXEL = 1
  LINE_LAST_PIXEL = 12898
  LINE_PROJECTION_OFFSET = 25592.375
  MAP_PROJECTION_ROTATION = 0.0
  MAP_PROJECTION_TYPE = SINUSOIDAL
  MAP_RESOLUTION = 1185.42760773333
  MAP_SCALE = 0.05
  MAXIMUM_LATITUDE = 21.5888
  MINIMUM_LATITUDE = 10.7104
  POSITIVE_LONGITUDE_DIRECTION = EAST
  REFERENCE_LATITUDE = "N/A"
  REFERENCE_LONGITUDE = "N/A"
  SAMPLE_FIRST_PIXEL = 1
  SAMPLE_LAST_PIXEL = 2195
  SAMPLE_PROJECTION_OFFSET = 820.625
  SECOND_STANDARD_PARALLEL = "N/A"
  WESTERNMOST_LONGITUDE = 53.3274
END_OBJECT = IMAGE_MAP_PROJECTION
/* The JPEG2000 image data file associated with this label. */
OBJECT = COMPRESSED_FILE
  FILE_NAME = "HD664_0000_BL3.JP2"
  RECORD_TYPE = UNDEFINED
  FILE_RECORDS = UNK
  ENCODING_TYPE = "JP2"
  INTERCHANGE_FORMAT = BINARY
  UNCOMPRESSED_FILE_NAME = "HD664_0000_BL3.IMG"
  REQUIRED_STORAGE_BYTES = "28333060"
  ^DESCRIPTION = "JP2INFO.TXT"
END_OBJECT = COMPRESSED_FILE
END
