PDS_VERSION_ID = PDS3
/* FILE DATA ELEMENTS */
RECORD_TYPE = STREAM
/* POINTERS TO DATA OBJECTS */
^COMPRESSED_FILE = "HD664_0000_S23.JP2"
/* IDENTIFICATION DATA ELEMENTS */
DATA_SET_ID = "MEX-M-HRSC-5-REFDR-MAPPROJECTED-V3.0"
DATA_SET_NAME = "MARS EXPRESS HRSC MAP PROJECTED REFDR V3.0"
DETECTOR_ID = MEX_HRSC_S2
EVENT_TYPE = "MARS-REGIONAL-MAPPING-Im-Fl-La"
INSTRUMENT_HOST_ID = MEX
INSTRUMENT_HOST_NAME = "MARS EXPRESS"
INSTRUMENT_ID = HRSC
INSTRUMENT_NAME = "HIGH RESOLUTION STEREO CAMERA"
MISSION_NAME = "MARS EXPRESS"
MISSION_PHASE_NAME = ME_Phase_31
PROCESSING_LEVEL_ID = 3
PRODUCT_CREATION_TIME = 2016-10-29T11:58:31.000Z
PRODUCT_ID = "HD664_0000_S23.JP2"
RELEASE_ID = 0125
REVISION_ID = 0000
/* QUALITY DATA ELEMENTS */
DATA_QUALITY_ID = 1
DATA_QUALITY_DESC = "Data calculated based on original SPICE kernels"
/* TIME DATA ELEMENTS */
SPACECRAFT_CLOCK_START_COUNT = "1/0360690425.07324"
SPACECRAFT_CLOCK_STOP_COUNT = "1/0360690695.05011"
START_TIME = 2014-10-06T15:48:27.982Z
STOP_TIME = 2014-10-06T15:51:38.786Z
/* ORBITAL DATA ELEMENTS */
ASCENDING_NODE_LONGITUDE = 317.18
MAXIMUM_RESOLUTION = 36.7
FOOTPRINT_POINT_LATITUDE = (21.5811,21.5786,21.5761,21.5737, 21.5714,21.5692,21.4769,21.0736,20.8716 ,20.6681,20.1648,19.8582,19.6519, 19.4435,19.2347,19.0244,18.8178,18.5057 ,18.1926,17.9841,17.7723,17.5589, 17.3459,17.1333,16.9202,16.5999,16.3839 ,16.1646,15.9505,15.7298,15.5102, 15.2922,15.0721,14.747,14.526,14.2991, 14.0692,13.7325,13.5079,13.2809,13.0516 ,12.8251,12.5952,12.3625,12.0165, 11.7823,11.5492,11.3142,10.9614,10.72, 10.7194,10.7184,10.7193,10.7201,10.7209 ,10.7221,10.9603,11.1989,11.4337, 11.7842,12.0188,12.2506,12.5982,12.829, 13.057,13.2846,13.5126,13.7367,13.9638, 14.302,14.5197,14.7418,14.9643,15.187, 15.4055,15.733,16.0617,16.2769,16.4927, 16.7079,16.9237,17.1349,17.3532,17.6754 ,17.8896,18.3001,18.5101,18.7234, 18.9362,19.1435,19.4518,19.6592,19.8626 ,20.0712,20.3769,20.5799,20.7829, 21.0886,21.2925,21.5811)
FOOTPRINT_POINT_LONGITUDE = (55.053,54.7992,54.5464,54.2944,54.0435 ,53.8088,53.5037,53.4981,53.4949, 53.4919,53.4834,53.4779,53.4743,53.4711 ,53.468,53.4652,53.4609,53.4544,53.448, 53.4437,53.4392,53.4348,53.4303,53.4257 ,53.421,53.4128,53.4078,53.4034,53.3977 ,53.3925,53.3871,53.3814,53.3759, 53.3654,53.3592,53.3542,53.3488,53.339, 53.3325,53.3256,53.319,53.3118,53.3048, 53.2978,53.2868,53.2793,53.2715,53.264, 53.2514,53.4884,53.7718,53.9987,54.2451 ,54.5115,54.836,55.2066,55.205,55.2032, 55.201,55.1976,55.1957,55.1942,55.1915, 55.19,55.1883,55.1861,55.1842,55.1822, 55.1814,55.1788,55.1756,55.174,55.1725, 55.1713,55.1698,55.1672,55.165,55.1636, 55.1622,55.1605,55.1588,55.1569,55.1582 ,55.1576,55.1567,55.1505,55.1496,55.15, 55.15,55.1492,55.1473,55.1467,55.1442, 55.1439,55.1428,55.142,55.141,55.1397, 55.1388,55.053)
ORBIT_NUMBER = 13664
ORBITAL_ECCENTRICITY = 0.574
ORBITAL_INCLINATION = 86.91
ORBITAL_SEMIMAJOR_AXIS = 8825.13
PERIAPSIS_ALTITUDE = 366.97
PERIAPSIS_ARGUMENT_ANGLE = 143.02
PERIAPSIS_TIME = 2014-10-06T15:43:47.000Z
SPACECRAFT_ORIENTATION = (0.0,-1.0,0.0)
^MEX_ORIENTATION_DESC = "MEX_ORIENTATION_DESC.TXT"
SPACECRAFT_POINTING_MODE = ACROSSTRACK
^MEX_POINTING_DESC = "MEX_POINTING_DESC.TXT"
RIGHT_ASCENSION = -1e+32
DECLINATION = -1e+32
OFFSET_ANGLE = 0.3
SPACECRAFT_SOLAR_DISTANCE = 2.11208e+08
TARGET_NAME = MARS
/* CAMERA DATA ELEMENTS */
DETECTOR_TEMPERATURE = 18.7783
FOCAL_PLANE_TEMPERATURE = 8.9911
INST_CMPRS_NAME = "DISCRETE COSINE TRANSFORMATION (DCT)"
INST_CMPRS_RATIO = 8.88245
INST_CMPRS_QUALITY = 0
INST_CMPRS_QUANTZ_TBL_ID = 0
INSTRUMENT_TEMPERATURE = 11.4379
LENS_TEMPERATURE = 9.3989
MACROPIXEL_SIZE = 2
MISSING_FRAMES = 0
PIXEL_SUBSAMPLING_FLAG = N
SIGNAL_CHAIN_ID = 1
/* RADIOMETRIC DATA ELEMENTS */
BANDWIDTH = 178.0
CENTER_FILTER_WAVELENGTH = 679.0
RADIANCE_OFFSET = 3.35258
RADIANCE_SCALING_FACTOR = 0.0138182
REFLECTANCE_SCALING_FACTOR = 0.000326437
MEX:REFLECTANCE_OFFSET = 0.0792007
/* IMAGE OBJECT DEFINITIONS */
OBJECT = IMAGE
  INTERCHANGE_FORMAT = BINARY
  LINES = 25796
  LINE_SAMPLES = 4390
  SAMPLE_TYPE = UNSIGNED_INTEGER
  SAMPLE_BITS = 8
  BANDS = 1
  BAND_STORAGE_TYPE = BAND_SEQUENTIAL
  MAXIMUM = 255
  MEAN = 122.966
  MINIMUM = 1
  STANDARD_DEVIATION = 28.9367
END_OBJECT = IMAGE
/* MAP OBJECT DEFINITIONS */
OBJECT = IMAGE_MAP_PROJECTION
  ^DATA_SET_MAP_PROJECTION_CATALOG= "DSMAP.CAT"
  A_AXIS_RADIUS = 3396.0
  B_AXIS_RADIUS = 3396.0
  C_AXIS_RADIUS = 3396.0
  CENTER_LATITUDE = 0.0
  CENTER_LONGITUDE = 54.0
  COORDINATE_SYSTEM_NAME = PLANETOGRAPHIC
  COORDINATE_SYSTEM_TYPE = "BODY-FIXED ROTATING"
  EASTERNMOST_LONGITUDE = 55.2066
  FIRST_STANDARD_PARALLEL = "N/A"
  LINE_FIRST_PIXEL = 1
  LINE_LAST_PIXEL = 25796
  LINE_PROJECTION_OFFSET = 51185.25
  MAP_PROJECTION_ROTATION = 0.0
  MAP_PROJECTION_TYPE = SINUSOIDAL
  MAP_RESOLUTION = 2370.85521546667
  MAP_SCALE = 0.025
  MAXIMUM_LATITUDE = 21.5811
  MINIMUM_LATITUDE = 10.7184
  POSITIVE_LONGITUDE_DIRECTION = EAST
  REFERENCE_LATITUDE = "N/A"
  REFERENCE_LONGITUDE = "N/A"
  SAMPLE_FIRST_PIXEL = 1
  SAMPLE_LAST_PIXEL = 4390
  SAMPLE_PROJECTION_OFFSET = 1641.75
  SECOND_STANDARD_PARALLEL = "N/A"
  WESTERNMOST_LONGITUDE = 53.2514
END_OBJECT = IMAGE_MAP_PROJECTION
/* The JPEG2000 image data file associated with this label. */
OBJECT = COMPRESSED_FILE
  FILE_NAME = "HD664_0000_S23.JP2"
  RECORD_TYPE = UNDEFINED
  FILE_RECORDS = UNK
  ENCODING_TYPE = "JP2"
  INTERCHANGE_FORMAT = BINARY
  UNCOMPRESSED_FILE_NAME = "HD664_0000_S23.IMG"
  REQUIRED_STORAGE_BYTES = "113270780"
  ^DESCRIPTION = "JP2INFO.TXT"
END_OBJECT = COMPRESSED_FILE
END
