PDS_VERSION_ID = PDS3
/* FILE DATA ELEMENTS */
RECORD_TYPE = STREAM
/* POINTERS TO DATA OBJECTS */
^COMPRESSED_FILE = "HD665_0000_S13.JP2"
/* IDENTIFICATION DATA ELEMENTS */
DATA_SET_ID = "MEX-M-HRSC-5-REFDR-MAPPROJECTED-V3.0"
DATA_SET_NAME = "MARS EXPRESS HRSC MAP PROJECTED REFDR V3.0"
DETECTOR_ID = MEX_HRSC_S1
EVENT_TYPE = "MARS-LOCAL-CARTOGRAPHY-Tc-Ot"
INSTRUMENT_HOST_ID = MEX
INSTRUMENT_HOST_NAME = "MARS EXPRESS"
INSTRUMENT_ID = HRSC
INSTRUMENT_NAME = "HIGH RESOLUTION STEREO CAMERA"
MISSION_NAME = "MARS EXPRESS"
MISSION_PHASE_NAME = ME_Phase_31
PROCESSING_LEVEL_ID = 3
PRODUCT_CREATION_TIME = 2016-10-29T11:58:31.000Z
PRODUCT_ID = "HD665_0000_S13.JP2"
RELEASE_ID = 0125
REVISION_ID = 0000
/* QUALITY DATA ELEMENTS */
DATA_QUALITY_ID = 1
DATA_QUALITY_DESC = "Data calculated based on original SPICE kernels"
/* TIME DATA ELEMENTS */
SPACECRAFT_CLOCK_START_COUNT = "1/0360715564.08265"
SPACECRAFT_CLOCK_STOP_COUNT = "1/0360715714.25597"
START_TIME = 2014-10-06T22:46:09.885Z
STOP_TIME = 2014-10-06T22:47:17.377Z
/* ORBITAL DATA ELEMENTS */
ASCENDING_NODE_LONGITUDE = 317.17
MAXIMUM_RESOLUTION = 16.7
FOOTPRINT_POINT_LATITUDE = (23.7746,23.7769,23.7788,23.7806, 23.7822,23.7837,23.785,23.7861,23.7871, 23.7879,23.7885,23.7891,23.7894,23.7012 ,23.5264,23.3514,23.1764,23.0017, 22.8703,22.6955,22.6076,22.5199,22.4324 ,22.3449,22.2574,22.1698,22.0822, 21.9073,21.7761,21.6886,21.6011,21.5134 ,21.3387,21.2512,21.1636,21.076,20.9884 ,20.8135,20.6826,20.5077,20.4203, 20.1582,19.9834,19.8092,19.6361,19.461, 19.3479,19.3469,19.3446,19.3431,19.341, 19.3351,19.3358,19.3331,19.33,19.328, 19.3705,19.4602,19.6348,19.8098,19.8973 ,19.9849,20.1597,20.2472,20.3786, 20.4663,20.641,20.7285,20.816,20.9036, 20.9912,21.0787,21.1663,21.2538,21.3414 ,21.4727,21.5603,21.648,21.7356,21.8231 ,21.9107,21.9984,22.0862,22.1738, 22.2614,22.3489,22.4364,22.5678,22.6554 ,22.743,22.8306,22.9183,23.0059,23.0936 ,23.1812,23.2689,23.3566,23.4443, 23.5758,23.7746)
FOOTPRINT_POINT_LONGITUDE = (312.71,312.577,312.46,312.342,312.225, 312.107,311.99,311.873,311.757,311.64, 311.523,311.407,311.305,311.215,311.215 ,311.214,311.213,311.212,311.211,311.21 ,311.21,311.209,311.208,311.208,311.207 ,311.207,311.206,311.205,311.204, 311.203,311.202,311.201,311.2,311.199, 311.198,311.197,311.197,311.195,311.194 ,311.192,311.191,311.188,311.186, 311.184,311.183,311.181,311.209,311.331 ,311.544,311.682,311.88,312.11,312.217, 312.34,312.479,312.586,312.732,312.732, 312.732,312.732,312.732,312.732,312.732 ,312.732,312.732,312.732,312.732, 312.732,312.732,312.732,312.732,312.732 ,312.731,312.731,312.731,312.731, 312.731,312.731,312.731,312.731,312.731 ,312.731,312.731,312.731,312.731, 312.731,312.731,312.73,312.73,312.73, 312.73,312.73,312.73,312.73,312.73, 312.73,312.73,312.73,312.729,312.71)
ORBIT_NUMBER = 13665
ORBITAL_ECCENTRICITY = 0.574
ORBITAL_INCLINATION = 86.91
ORBITAL_SEMIMAJOR_AXIS = 8817.73
PERIAPSIS_ALTITUDE = 367.4
PERIAPSIS_ARGUMENT_ANGLE = 142.85
PERIAPSIS_TIME = 2014-10-06T22:43:17.000Z
SPACECRAFT_ORIENTATION = (0.0,-1.0,0.0)
^MEX_ORIENTATION_DESC = "MEX_ORIENTATION_DESC.TXT"
SPACECRAFT_POINTING_MODE = ACROSSTRACK
^MEX_POINTING_DESC = "MEX_POINTING_DESC.TXT"
RIGHT_ASCENSION = -1e+32
DECLINATION = -1e+32
OFFSET_ANGLE = 0.2
SPACECRAFT_SOLAR_DISTANCE = 2.1117e+08
TARGET_NAME = MARS
/* CAMERA DATA ELEMENTS */
DETECTOR_TEMPERATURE = 17.5549
FOCAL_PLANE_TEMPERATURE = 8.7872
INST_CMPRS_NAME = "DISCRETE COSINE TRANSFORMATION (DCT)"
INST_CMPRS_RATIO = 6.8404
INST_CMPRS_QUALITY = 0
INST_CMPRS_QUANTZ_TBL_ID = 0
INSTRUMENT_TEMPERATURE = 11.4379
LENS_TEMPERATURE = 8.9911
MACROPIXEL_SIZE = 1
MISSING_FRAMES = 0
PIXEL_SUBSAMPLING_FLAG = N
SIGNAL_CHAIN_ID = 2
/* RADIOMETRIC DATA ELEMENTS */
BANDWIDTH = 180.0
CENTER_FILTER_WAVELENGTH = 677.0
RADIANCE_OFFSET = 3.05036
RADIANCE_SCALING_FACTOR = 0.00747638
REFLECTANCE_SCALING_FACTOR = 0.000173939
MEX:REFLECTANCE_OFFSET = 0.0709672
/* IMAGE OBJECT DEFINITIONS */
OBJECT = IMAGE
  INTERCHANGE_FORMAT = BINARY
  LINES = 20858
  LINE_SAMPLES = 7482
  SAMPLE_TYPE = UNSIGNED_INTEGER
  SAMPLE_BITS = 8
  BANDS = 1
  BAND_STORAGE_TYPE = BAND_SEQUENTIAL
  MAXIMUM = 255
  MEAN = 151.469
  MINIMUM = 1
  STANDARD_DEVIATION = 42.4048
END_OBJECT = IMAGE
/* MAP OBJECT DEFINITIONS */
OBJECT = IMAGE_MAP_PROJECTION
  ^DATA_SET_MAP_PROJECTION_CATALOG= "DSMAP.CAT"
  A_AXIS_RADIUS = 3396.0
  B_AXIS_RADIUS = 3396.0
  C_AXIS_RADIUS = 3396.0
  CENTER_LATITUDE = 0.0
  CENTER_LONGITUDE = 312.0
  COORDINATE_SYSTEM_NAME = PLANETOGRAPHIC
  COORDINATE_SYSTEM_TYPE = "BODY-FIXED ROTATING"
  EASTERNMOST_LONGITUDE = 312.732
  FIRST_STANDARD_PARALLEL = "N/A"
  LINE_FIRST_PIXEL = 1
  LINE_LAST_PIXEL = 20858
  LINE_PROJECTION_OFFSET = 112689.0
  MAP_PROJECTION_ROTATION = 0.0
  MAP_PROJECTION_TYPE = SINUSOIDAL
  MAP_RESOLUTION = 4741.71043093333
  MAP_SCALE = 0.0125
  MAXIMUM_LATITUDE = 23.7894
  MINIMUM_LATITUDE = 19.328
  POSITIVE_LONGITUDE_DIRECTION = EAST
  REFERENCE_LATITUDE = "N/A"
  REFERENCE_LONGITUDE = "N/A"
  SAMPLE_FIRST_PIXEL = 1
  SAMPLE_LAST_PIXEL = 7482
  SAMPLE_PROJECTION_OFFSET = 3914.0
  SECOND_STANDARD_PARALLEL = "N/A"
  WESTERNMOST_LONGITUDE = 311.181
END_OBJECT = IMAGE_MAP_PROJECTION
/* The JPEG2000 image data file associated with this label. */
OBJECT = COMPRESSED_FILE
  FILE_NAME = "HD665_0000_S13.JP2"
  RECORD_TYPE = UNDEFINED
  FILE_RECORDS = UNK
  ENCODING_TYPE = "JP2"
  INTERCHANGE_FORMAT = BINARY
  UNCOMPRESSED_FILE_NAME = "HD665_0000_S13.IMG"
  REQUIRED_STORAGE_BYTES = "156089484"
  ^DESCRIPTION = "JP2INFO.TXT"
END_OBJECT = COMPRESSED_FILE
END
