PDS_VERSION_ID = PDS3
/* FILE DATA ELEMENTS */
RECORD_TYPE = STREAM
/* POINTERS TO DATA OBJECTS */
^COMPRESSED_FILE = "HD670_0000_GR3.JP2"
/* IDENTIFICATION DATA ELEMENTS */
DATA_SET_ID = "MEX-M-HRSC-5-REFDR-MAPPROJECTED-V3.0"
DATA_SET_NAME = "MARS EXPRESS HRSC MAP PROJECTED REFDR V3.0"
DETECTOR_ID = MEX_HRSC_GREEN
EVENT_TYPE = "MARS-REGIONAL-MAPPING-Vo-Gl-Pf"
INSTRUMENT_HOST_ID = MEX
INSTRUMENT_HOST_NAME = "MARS EXPRESS"
INSTRUMENT_ID = HRSC
INSTRUMENT_NAME = "HIGH RESOLUTION STEREO CAMERA"
MISSION_NAME = "MARS EXPRESS"
MISSION_PHASE_NAME = ME_Phase_31
PROCESSING_LEVEL_ID = 3
PRODUCT_CREATION_TIME = 2016-10-29T11:58:31.000Z
PRODUCT_ID = "HD670_0000_GR3.JP2"
RELEASE_ID = 0125
REVISION_ID = 0000
/* QUALITY DATA ELEMENTS */
DATA_QUALITY_ID = 1
DATA_QUALITY_DESC = "Data calculated based on original SPICE kernels"
/* TIME DATA ELEMENTS */
SPACECRAFT_CLOCK_START_COUNT = "1/0360841240.08310"
SPACECRAFT_CLOCK_STOP_COUNT = "1/0360841484.63842"
START_TIME = 2014-10-08T09:41:13.608Z
STOP_TIME = 2014-10-08T09:44:04.024Z
/* ORBITAL DATA ELEMENTS */
ASCENDING_NODE_LONGITUDE = 317.07
MAXIMUM_RESOLUTION = 118.8
FOOTPRINT_POINT_LATITUDE = (35.8811,35.8755,35.8561,35.6653, 35.4746,35.1885,34.9977,34.7116,34.3301 ,34.1393,33.8533,33.5672,33.3765, 33.1859,32.9952,32.7702,32.5428,32.3154 ,32.088,31.8606,31.6333,31.4061,31.1788 ,30.9517,30.7246,30.4975,30.2705, 30.0436,29.8167,29.5898,29.3631,29.1365 ,28.9097,28.6832,28.4567,28.2304, 27.8912,27.665,27.4388,27.2128,26.9868, 26.761,26.5353,26.3097,26.0842,25.7462, 25.4084,25.1834,24.9586,24.9322,24.9332 ,24.933,24.9335,25.2715,25.4968,25.7224 ,25.948,26.1738,26.3996,26.6256,26.8518 ,27.078,27.3043,27.531,27.8705,28.0971, 28.3237,28.663,28.8908,29.1176,29.3446, 29.5717,29.7989,30.0261,30.2536,30.481, 30.7089,30.9368,31.2785,31.5059,31.7336 ,31.9605,32.3022,32.5299,32.7578, 33.0829,33.2739,33.465,33.6559,33.847, 34.038,34.2295,34.4201,34.6112,34.8024, 35.089,35.3758,35.6623,35.8534,35.8811)
FOOTPRINT_POINT_LONGITUDE = (160.524,160.09,159.584,159.59,159.595, 159.603,159.608,159.615,159.624,159.629 ,159.635,159.642,159.646,159.65,159.653 ,159.658,159.662,159.666,159.67,159.674 ,159.678,159.681,159.684,159.688, 159.691,159.694,159.696,159.699,159.701 ,159.704,159.706,159.708,159.71,159.712 ,159.713,159.715,159.717,159.718, 159.719,159.72,159.721,159.721,159.722, 159.722,159.722,159.723,159.722,159.722 ,159.722,160.078,160.536,160.823, 161.248,161.246,161.245,161.244,161.243 ,161.242,161.24,161.239,161.238,161.236 ,161.235,161.233,161.231,161.23,161.229 ,161.228,161.225,161.224,161.222, 161.221,161.22,161.218,161.216,161.214, 161.212,161.209,161.206,161.205,161.203 ,161.203,161.2,161.199,161.197,161.194, 161.193,161.191,161.19,161.188,161.186, 161.183,161.183,161.181,161.179,161.176 ,161.173,161.171,161.169,160.524)
ORBIT_NUMBER = 13670
ORBITAL_ECCENTRICITY = 0.574
ORBITAL_INCLINATION = 86.91
ORBITAL_SEMIMAJOR_AXIS = 8816.3
PERIAPSIS_ALTITUDE = 368.4
PERIAPSIS_ARGUMENT_ANGLE = 141.98
PERIAPSIS_TIME = 2014-10-08T09:40:46.000Z
SPACECRAFT_ORIENTATION = (0.0,-1.0,0.0)
^MEX_ORIENTATION_DESC = "MEX_ORIENTATION_DESC.TXT"
SPACECRAFT_POINTING_MODE = NADIR
^MEX_POINTING_DESC = "MEX_POINTING_DESC.TXT"
RIGHT_ASCENSION = -1e+32
DECLINATION = -1e+32
OFFSET_ANGLE = -1e+32
SPACECRAFT_SOLAR_DISTANCE = 2.10983e+08
TARGET_NAME = MARS
/* CAMERA DATA ELEMENTS */
DETECTOR_TEMPERATURE = 18.7783
FOCAL_PLANE_TEMPERATURE = 8.7872
INST_CMPRS_NAME = "DISCRETE COSINE TRANSFORMATION (DCT)"
INST_CMPRS_RATIO = 10.2001
INST_CMPRS_QUALITY = 0
INST_CMPRS_QUANTZ_TBL_ID = 0
INSTRUMENT_TEMPERATURE = 11.8457
LENS_TEMPERATURE = 9.3989
MACROPIXEL_SIZE = 8
MISSING_FRAMES = 0
PIXEL_SUBSAMPLING_FLAG = N
SIGNAL_CHAIN_ID = 2
/* RADIOMETRIC DATA ELEMENTS */
BANDWIDTH = 88.0
CENTER_FILTER_WAVELENGTH = 538.0
RADIANCE_OFFSET = 0.958971
RADIANCE_SCALING_FACTOR = 0.00352136
REFLECTANCE_SCALING_FACTOR = 0.000134956
MEX:REFLECTANCE_OFFSET = 0.0367526
/* IMAGE OBJECT DEFINITIONS */
OBJECT = IMAGE
  INTERCHANGE_FORMAT = BINARY
  LINES = 6490
  LINE_SAMPLES = 911
  SAMPLE_TYPE = UNSIGNED_INTEGER
  SAMPLE_BITS = 8
  BANDS = 1
  BAND_STORAGE_TYPE = BAND_SEQUENTIAL
  MAXIMUM = 255
  MEAN = 111.959
  MINIMUM = 1
  STANDARD_DEVIATION = 31.7877
END_OBJECT = IMAGE
/* MAP OBJECT DEFINITIONS */
OBJECT = IMAGE_MAP_PROJECTION
  ^DATA_SET_MAP_PROJECTION_CATALOG= "DSMAP.CAT"
  A_AXIS_RADIUS = 3396.0
  B_AXIS_RADIUS = 3396.0
  C_AXIS_RADIUS = 3396.0
  CENTER_LATITUDE = 0.0
  CENTER_LONGITUDE = 160.0
  COORDINATE_SYSTEM_NAME = PLANETOGRAPHIC
  COORDINATE_SYSTEM_TYPE = "BODY-FIXED ROTATING"
  EASTERNMOST_LONGITUDE = 161.248
  FIRST_STANDARD_PARALLEL = "N/A"
  LINE_FIRST_PIXEL = 1
  LINE_LAST_PIXEL = 6490
  LINE_PROJECTION_OFFSET = 21270.6875
  MAP_PROJECTION_ROTATION = 0.0
  MAP_PROJECTION_TYPE = SINUSOIDAL
  MAP_RESOLUTION = 592.713803866667
  MAP_SCALE = 0.1
  MAXIMUM_LATITUDE = 35.8811
  MINIMUM_LATITUDE = 24.9322
  POSITIVE_LONGITUDE_DIRECTION = EAST
  REFERENCE_LATITUDE = "N/A"
  REFERENCE_LONGITUDE = "N/A"
  SAMPLE_FIRST_PIXEL = 1
  SAMPLE_LAST_PIXEL = 911
  SAMPLE_PROJECTION_OFFSET = 218.5625
  SECOND_STANDARD_PARALLEL = "N/A"
  WESTERNMOST_LONGITUDE = 159.584
END_OBJECT = IMAGE_MAP_PROJECTION
/* The JPEG2000 image data file associated with this label. */
OBJECT = COMPRESSED_FILE
  FILE_NAME = "HD670_0000_GR3.JP2"
  RECORD_TYPE = UNDEFINED
  FILE_RECORDS = UNK
  ENCODING_TYPE = "JP2"
  INTERCHANGE_FORMAT = BINARY
  UNCOMPRESSED_FILE_NAME = "HD670_0000_GR3.IMG"
  REQUIRED_STORAGE_BYTES = "5930610"
  ^DESCRIPTION = "JP2INFO.TXT"
END_OBJECT = COMPRESSED_FILE
END
