PDS_VERSION_ID = PDS3
/* FILE DATA ELEMENTS */
RECORD_TYPE = STREAM
/* POINTERS TO DATA OBJECTS */
^COMPRESSED_FILE = "HD670_0000_S23.JP2"
/* IDENTIFICATION DATA ELEMENTS */
DATA_SET_ID = "MEX-M-HRSC-5-REFDR-MAPPROJECTED-V3.0"
DATA_SET_NAME = "MARS EXPRESS HRSC MAP PROJECTED REFDR V3.0"
DETECTOR_ID = MEX_HRSC_S2
EVENT_TYPE = "MARS-REGIONAL-MAPPING-Vo-Gl-Pf"
INSTRUMENT_HOST_ID = MEX
INSTRUMENT_HOST_NAME = "MARS EXPRESS"
INSTRUMENT_ID = HRSC
INSTRUMENT_NAME = "HIGH RESOLUTION STEREO CAMERA"
MISSION_NAME = "MARS EXPRESS"
MISSION_PHASE_NAME = ME_Phase_31
PROCESSING_LEVEL_ID = 3
PRODUCT_CREATION_TIME = 2016-10-29T11:58:31.000Z
PRODUCT_ID = "HD670_0000_S23.JP2"
RELEASE_ID = 0125
REVISION_ID = 0000
/* QUALITY DATA ELEMENTS */
DATA_QUALITY_ID = 1
DATA_QUALITY_DESC = "Data calculated based on original SPICE kernels"
/* TIME DATA ELEMENTS */
SPACECRAFT_CLOCK_START_COUNT = "1/0360841240.08310"
SPACECRAFT_CLOCK_STOP_COUNT = "1/0360841484.63842"
START_TIME = 2014-10-08T09:41:53.036Z
STOP_TIME = 2014-10-08T09:44:48.693Z
/* ORBITAL DATA ELEMENTS */
ASCENDING_NODE_LONGITUDE = 317.07
MAXIMUM_RESOLUTION = 32
FOOTPRINT_POINT_LATITUDE = (35.8335,35.8313,35.8268,35.824,35.7883 ,35.6003,35.2738,35.0502,34.7151, 34.2684,34.0456,33.7114,33.3778,33.1555 ,32.9336,32.6008,32.2683,31.9364, 31.6051,31.3847,31.1645,30.8343,30.5047 ,30.2853,30.0664,29.7385,29.5201, 29.3021,29.084,28.8665,28.649,28.4317, 28.2146,27.9978,27.7815,27.5651,27.3498 ,27.1348,26.8121,26.5975,26.2758, 26.0619,25.8478,25.6344,25.4212,25.2035 ,24.9848,24.9564,24.9569,24.9567, 24.9564,24.9566,24.9568,25.0666,25.2855 ,25.5013,25.7149,25.929,26.1434,26.3583 ,26.573,26.7877,27.0031,27.3263,27.5401 ,27.7571,27.9751,28.1923,28.518,28.8444 ,29.0637,29.3915,29.7197,29.9387, 30.1581,30.3768,30.5945,30.8115,31.0317 ,31.2473,31.4701,31.6904,31.9181, 32.1393,32.3612,32.583,32.9158,33.1392, 33.3599,33.5841,33.9183,34.1413,34.3607 ,34.5898,34.8136,35.1497,35.3737, 35.5936,35.7817,35.8335)
FOOTPRINT_POINT_LONGITUDE = (160.81,160.565,160.135,159.89,159.556, 159.561,159.569,159.574,159.582,159.592 ,159.597,159.604,159.61,159.614,159.618 ,159.624,159.629,159.634,159.639, 159.641,159.644,159.648,159.652,159.654 ,159.656,159.658,159.66,159.662,159.663 ,159.664,159.665,159.666,159.667, 159.668,159.669,159.669,159.67,159.67, 159.67,159.67,159.669,159.669,159.669, 159.668,159.667,159.667,159.666,159.839 ,160.153,160.373,160.703,161.002, 161.176,161.291,161.289,161.287,161.285 ,161.284,161.282,161.28,161.279,161.277 ,161.275,161.272,161.269,161.268, 161.266,161.264,161.261,161.259,161.257 ,161.254,161.251,161.249,161.247, 161.245,161.242,161.239,161.237,161.233 ,161.232,161.229,161.23,161.227,161.225 ,161.223,161.219,161.217,161.214, 161.212,161.209,161.206,161.202,161.201 ,161.199,161.195,161.192,161.19,161.187 ,160.81)
ORBIT_NUMBER = 13670
ORBITAL_ECCENTRICITY = 0.574
ORBITAL_INCLINATION = 86.91
ORBITAL_SEMIMAJOR_AXIS = 8816.3
PERIAPSIS_ALTITUDE = 368.4
PERIAPSIS_ARGUMENT_ANGLE = 141.98
PERIAPSIS_TIME = 2014-10-08T09:40:46.000Z
SPACECRAFT_ORIENTATION = (0.0,-1.0,0.0)
^MEX_ORIENTATION_DESC = "MEX_ORIENTATION_DESC.TXT"
SPACECRAFT_POINTING_MODE = NADIR
^MEX_POINTING_DESC = "MEX_POINTING_DESC.TXT"
RIGHT_ASCENSION = -1e+32
DECLINATION = -1e+32
OFFSET_ANGLE = -1e+32
SPACECRAFT_SOLAR_DISTANCE = 2.10983e+08
TARGET_NAME = MARS
/* CAMERA DATA ELEMENTS */
DETECTOR_TEMPERATURE = 18.9822
FOCAL_PLANE_TEMPERATURE = 8.7872
INST_CMPRS_NAME = "DISCRETE COSINE TRANSFORMATION (DCT)"
INST_CMPRS_RATIO = 9.25906
INST_CMPRS_QUALITY = 0
INST_CMPRS_QUANTZ_TBL_ID = 0
INSTRUMENT_TEMPERATURE = 11.8457
LENS_TEMPERATURE = 9.3989
MACROPIXEL_SIZE = 2
MISSING_FRAMES = 0
PIXEL_SUBSAMPLING_FLAG = N
SIGNAL_CHAIN_ID = 1
/* RADIOMETRIC DATA ELEMENTS */
BANDWIDTH = 178.0
CENTER_FILTER_WAVELENGTH = 679.0
RADIANCE_OFFSET = 2.71888
RADIANCE_SCALING_FACTOR = 0.0123458
REFLECTANCE_SCALING_FACTOR = 0.000291033
MEX:REFLECTANCE_OFFSET = 0.0640934
/* IMAGE OBJECT DEFINITIONS */
OBJECT = IMAGE
  INTERCHANGE_FORMAT = BINARY
  LINES = 25959
  LINE_SAMPLES = 3643
  SAMPLE_TYPE = UNSIGNED_INTEGER
  SAMPLE_BITS = 8
  BANDS = 1
  BAND_STORAGE_TYPE = BAND_SEQUENTIAL
  MAXIMUM = 255
  MEAN = 100.536
  MINIMUM = 1
  STANDARD_DEVIATION = 32.4674
END_OBJECT = IMAGE
/* MAP OBJECT DEFINITIONS */
OBJECT = IMAGE_MAP_PROJECTION
  ^DATA_SET_MAP_PROJECTION_CATALOG= "DSMAP.CAT"
  A_AXIS_RADIUS = 3396.0
  B_AXIS_RADIUS = 3396.0
  C_AXIS_RADIUS = 3396.0
  CENTER_LATITUDE = 0.0
  CENTER_LONGITUDE = 160.0
  COORDINATE_SYSTEM_NAME = PLANETOGRAPHIC
  COORDINATE_SYSTEM_TYPE = "BODY-FIXED ROTATING"
  EASTERNMOST_LONGITUDE = 161.291
  FIRST_STANDARD_PARALLEL = "N/A"
  LINE_FIRST_PIXEL = 1
  LINE_LAST_PIXEL = 25959
  LINE_PROJECTION_OFFSET = 85084.25
  MAP_PROJECTION_ROTATION = 0.0
  MAP_PROJECTION_TYPE = SINUSOIDAL
  MAP_RESOLUTION = 2370.85521546667
  MAP_SCALE = 0.025
  MAXIMUM_LATITUDE = 35.8335
  MINIMUM_LATITUDE = 24.9564
  POSITIVE_LONGITUDE_DIRECTION = EAST
  REFERENCE_LATITUDE = "N/A"
  REFERENCE_LONGITUDE = "N/A"
  SAMPLE_FIRST_PIXEL = 1
  SAMPLE_LAST_PIXEL = 3643
  SAMPLE_PROJECTION_OFFSET = 875.75
  SECOND_STANDARD_PARALLEL = "N/A"
  WESTERNMOST_LONGITUDE = 159.556
END_OBJECT = IMAGE_MAP_PROJECTION
/* The JPEG2000 image data file associated with this label. */
OBJECT = COMPRESSED_FILE
  FILE_NAME = "HD670_0000_S23.JP2"
  RECORD_TYPE = UNDEFINED
  FILE_RECORDS = UNK
  ENCODING_TYPE = "JP2"
  INTERCHANGE_FORMAT = BINARY
  UNCOMPRESSED_FILE_NAME = "HD670_0000_S23.IMG"
  REQUIRED_STORAGE_BYTES = "94590495"
  ^DESCRIPTION = "JP2INFO.TXT"
END_OBJECT = COMPRESSED_FILE
END
