PDS_VERSION_ID = PDS3
/* FILE DATA ELEMENTS */
RECORD_TYPE = STREAM
/* POINTERS TO DATA OBJECTS */
^COMPRESSED_FILE = "HD697_0009_P23.JP2"
/* IDENTIFICATION DATA ELEMENTS */
DATA_SET_ID = "MEX-M-HRSC-5-REFDR-MAPPROJECTED-V3.0"
DATA_SET_NAME = "MARS EXPRESS HRSC MAP PROJECTED REFDR V3.0"
DETECTOR_ID = MEX_HRSC_P2
EVENT_TYPE = "MARS-REGIONAL-STEREO-Te"
INSTRUMENT_HOST_ID = MEX
INSTRUMENT_HOST_NAME = "MARS EXPRESS"
INSTRUMENT_ID = HRSC
INSTRUMENT_NAME = "HIGH RESOLUTION STEREO CAMERA"
MISSION_NAME = "MARS EXPRESS"
MISSION_PHASE_NAME = ME_Phase_31
PROCESSING_LEVEL_ID = 3
PRODUCT_CREATION_TIME = 2016-10-29T11:58:31.000Z
PRODUCT_ID = "HD697_0009_P23.JP2"
RELEASE_ID = 0125
REVISION_ID = 0000
/* QUALITY DATA ELEMENTS */
DATA_QUALITY_ID = 1
DATA_QUALITY_DESC = "Data calculated based on original SPICE kernels"
/* TIME DATA ELEMENTS */
SPACECRAFT_CLOCK_START_COUNT = "1/0361520832.08249"
SPACECRAFT_CLOCK_STOP_COUNT = "1/0361521053.01848"
START_TIME = 2014-10-16T06:28:13.903Z
STOP_TIME = 2014-10-16T06:30:43.305Z
/* ORBITAL DATA ELEMENTS */
ASCENDING_NODE_LONGITUDE = 316.56
MAXIMUM_RESOLUTION = 30.7
FOOTPRINT_POINT_LATITUDE = (39.2927,39.2877,39.2838,39.2799, 39.2753,39.2019,39.0119,38.8214,38.632, 38.4419,38.2531,37.9697,37.7807,37.4973 ,37.3079,37.1184,36.9289,36.6453, 36.4561,36.1728,35.9849,35.7928,35.606, 35.4175,35.2293,35.041,34.8535,34.6652, 34.3844,34.1974,34.01,33.823,33.6367, 33.4494,33.2635,33.0772,32.8908,32.7045 ,32.5186,32.3329,32.1467,31.9609, 31.7755,31.5903,31.3125,31.1279,30.9434 ,30.6673,30.4832,30.1159,29.9322,29.922 ,29.9238,29.9253,29.9264,30.0209, 30.2046,30.4813,30.6664,30.9436,31.1285 ,31.3135,31.4987,31.6844,31.9628, 32.1488,32.4285,32.615,32.8007,32.987, 33.174,33.4543,33.6407,33.8281,34.0158, 34.2025,34.391,34.6716,34.8598,35.0476, 35.2357,35.4248,35.7077,35.8963,36.1791 ,36.3682,36.6514,36.9342,37.1244, 37.3138,37.5983,37.7881,38.0738,38.2657 ,38.4549,38.645,38.8356,39.1203,39.3106 ,39.2927)
FOOTPRINT_POINT_LONGITUDE = (280.09,279.721,279.464,279.224,278.967 ,278.723,278.73,278.737,278.743,278.749 ,278.755,278.763,278.768,278.776, 278.782,278.787,278.793,278.8,278.806, 278.813,278.817,278.823,278.827,278.831 ,278.835,278.839,278.843,278.847, 278.852,278.855,278.859,278.862,278.864 ,278.868,278.87,278.873,278.875,278.878 ,278.88,278.882,278.885,278.887,278.889 ,278.891,278.893,278.895,278.896, 278.898,278.899,278.9,278.901,279.205, 279.556,279.972,280.228,280.553,280.55, 280.547,280.545,280.542,280.539,280.537 ,280.535,280.532,280.529,280.526, 280.523,280.521,280.518,280.515,280.513 ,280.509,280.506,280.503,280.501, 280.498,280.496,280.491,280.488,280.485 ,280.482,280.48,280.475,280.472,280.468 ,280.465,280.46,280.454,280.451,280.448 ,280.443,280.44,280.435,280.433,280.428 ,280.425,280.421,280.415,280.411, 280.09)
ORBIT_NUMBER = 13697
ORBITAL_ECCENTRICITY = 0.574
ORBITAL_INCLINATION = 86.9
ORBITAL_SEMIMAJOR_AXIS = 8815.49
PERIAPSIS_ALTITUDE = 370.38
PERIAPSIS_ARGUMENT_ANGLE = 137.3
PERIAPSIS_TIME = 2014-10-16T06:27:00.000Z
SPACECRAFT_ORIENTATION = (0.0,-1.0,0.0)
^MEX_ORIENTATION_DESC = "MEX_ORIENTATION_DESC.TXT"
SPACECRAFT_POINTING_MODE = NADIR
^MEX_POINTING_DESC = "MEX_POINTING_DESC.TXT"
RIGHT_ASCENSION = -1e+32
DECLINATION = -1e+32
OFFSET_ANGLE = -1e+32
SPACECRAFT_SOLAR_DISTANCE = 2.10029e+08
TARGET_NAME = MARS
/* CAMERA DATA ELEMENTS */
DETECTOR_TEMPERATURE = 19.1861
FOCAL_PLANE_TEMPERATURE = 10.4184
INST_CMPRS_NAME = "DISCRETE COSINE TRANSFORMATION (DCT)"
INST_CMPRS_RATIO = 3.75854
INST_CMPRS_QUALITY = 0
INST_CMPRS_QUANTZ_TBL_ID = 0
INSTRUMENT_TEMPERATURE = 12.8652
LENS_TEMPERATURE = 10.6223
MACROPIXEL_SIZE = 2
MISSING_FRAMES = 0
PIXEL_SUBSAMPLING_FLAG = N
SIGNAL_CHAIN_ID = 3
/* RADIOMETRIC DATA ELEMENTS */
BANDWIDTH = 177.0
CENTER_FILTER_WAVELENGTH = 676.5
RADIANCE_OFFSET = 2.47504
RADIANCE_SCALING_FACTOR = 0.0144204
REFLECTANCE_SCALING_FACTOR = 0.000337282
MEX:REFLECTANCE_OFFSET = 0.0578892
/* IMAGE OBJECT DEFINITIONS */
OBJECT = IMAGE
  INTERCHANGE_FORMAT = BINARY
  LINES = 22321
  LINE_SAMPLES = 3571
  SAMPLE_TYPE = UNSIGNED_INTEGER
  SAMPLE_BITS = 8
  BANDS = 1
  BAND_STORAGE_TYPE = BAND_SEQUENTIAL
  MAXIMUM = 255
  MEAN = 120.807
  MINIMUM = 1
  STANDARD_DEVIATION = 36.5773
END_OBJECT = IMAGE
/* MAP OBJECT DEFINITIONS */
OBJECT = IMAGE_MAP_PROJECTION
  ^DATA_SET_MAP_PROJECTION_CATALOG= "DSMAP.CAT"
  A_AXIS_RADIUS = 3396.0
  B_AXIS_RADIUS = 3396.0
  C_AXIS_RADIUS = 3396.0
  CENTER_LATITUDE = 0.0
  CENTER_LONGITUDE = 280.0
  COORDINATE_SYSTEM_NAME = PLANETOGRAPHIC
  COORDINATE_SYSTEM_TYPE = "BODY-FIXED ROTATING"
  EASTERNMOST_LONGITUDE = 280.553
  FIRST_STANDARD_PARALLEL = "N/A"
  LINE_FIRST_PIXEL = 1
  LINE_LAST_PIXEL = 22321
  LINE_PROJECTION_OFFSET = 93268.75
  MAP_PROJECTION_ROTATION = 0.0
  MAP_PROJECTION_TYPE = SINUSOIDAL
  MAP_RESOLUTION = 2370.85521546667
  MAP_SCALE = 0.025
  MAXIMUM_LATITUDE = 39.3106
  MINIMUM_LATITUDE = 29.922
  POSITIVE_LONGITUDE_DIRECTION = EAST
  REFERENCE_LATITUDE = "N/A"
  REFERENCE_LONGITUDE = "N/A"
  SAMPLE_FIRST_PIXEL = 1
  SAMPLE_LAST_PIXEL = 3571
  SAMPLE_PROJECTION_OFFSET = 2394.75
  SECOND_STANDARD_PARALLEL = "N/A"
  WESTERNMOST_LONGITUDE = 278.723
END_OBJECT = IMAGE_MAP_PROJECTION
/* The JPEG2000 image data file associated with this label. */
OBJECT = COMPRESSED_FILE
  FILE_NAME = "HD697_0009_P23.JP2"
  RECORD_TYPE = UNDEFINED
  FILE_RECORDS = UNK
  ENCODING_TYPE = "JP2"
  INTERCHANGE_FORMAT = BINARY
  UNCOMPRESSED_FILE_NAME = "HD697_0009_P23.IMG"
  REQUIRED_STORAGE_BYTES = "79729717"
  ^DESCRIPTION = "JP2INFO.TXT"
END_OBJECT = COMPRESSED_FILE
END
