PDS_VERSION_ID = PDS3
/* FILE DATA ELEMENTS */
RECORD_TYPE = STREAM
/* POINTERS TO DATA OBJECTS */
^COMPRESSED_FILE = "HD699_0000_P13.JP2"
/* IDENTIFICATION DATA ELEMENTS */
DATA_SET_ID = "MEX-M-HRSC-5-REFDR-MAPPROJECTED-V3.0"
DATA_SET_NAME = "MARS EXPRESS HRSC MAP PROJECTED REFDR V3.0"
DETECTOR_ID = MEX_HRSC_P1
EVENT_TYPE = "MARS-LOCAL-STEREO-Eb-La-Tc"
INSTRUMENT_HOST_ID = MEX
INSTRUMENT_HOST_NAME = "MARS EXPRESS"
INSTRUMENT_ID = HRSC
INSTRUMENT_NAME = "HIGH RESOLUTION STEREO CAMERA"
MISSION_NAME = "MARS EXPRESS"
MISSION_PHASE_NAME = ME_Phase_31
PROCESSING_LEVEL_ID = 3
PRODUCT_CREATION_TIME = 2016-10-29T11:58:31.000Z
PRODUCT_ID = "HD699_0000_P13.JP2"
RELEASE_ID = 0125
REVISION_ID = 0000
/* QUALITY DATA ELEMENTS */
DATA_QUALITY_ID = 1
DATA_QUALITY_DESC = "Data calculated based on original SPICE kernels"
/* TIME DATA ELEMENTS */
SPACECRAFT_CLOCK_START_COUNT = "1/0361571385.07299"
SPACECRAFT_CLOCK_STOP_COUNT = "1/0361571594.22993"
START_TIME = 2014-10-16T20:30:03.675Z
STOP_TIME = 2014-10-16T20:31:56.415Z
/* ORBITAL DATA ELEMENTS */
ASCENDING_NODE_LONGITUDE = 316.52
MAXIMUM_RESOLUTION = 34.3
FOOTPRINT_POINT_LATITUDE = (25.5411,25.5392,25.5365,25.5334, 25.5296,25.5236,25.1716,24.9046,24.6988 ,24.5593,24.4206,24.2808,24.1402, 24.0024,23.8651,23.727,23.5878,23.3803, 23.2388,23.0968,22.9543,22.7396,22.5965 ,22.4546,22.3131,22.1721,22.0319, 21.8174,21.671,21.5282,21.3836,21.2369, 21.0908,20.9478,20.7265,20.5783,20.4307 ,20.2831,20.1355,19.9881,19.8413, 19.6957,19.5445,19.3935,19.1671,19.0162 ,18.7905,18.6399,18.4869,18.334,18.3368 ,18.3404,18.3416,18.3416,18.3432, 18.3414,18.3379,18.4948,18.647,18.7987, 19.0256,19.1772,19.4041,19.5553,19.7794 ,19.9242,20.073,20.2956,20.4379,20.5863 ,20.8075,20.954,21.1043,21.2526,21.4696 ,21.6862,21.8309,21.976,22.1204,22.2624 ,22.4043,22.6166,22.7575,22.8986, 23.0385,23.1804,23.3224,23.4657,23.6038 ,23.7429,23.9514,24.0904,24.2981, 24.4363,24.6457,24.7858,25.0598,25.329, 25.4664,25.5411)
FOOTPRINT_POINT_LONGITUDE = (75.6244,75.3767,75.1126,74.8636,74.614 ,74.2848,74.1769,74.1783,74.1784, 74.1772,74.1765,74.175,74.1728,74.1725, 74.1725,74.1718,74.1703,74.1695,74.1686 ,74.1673,74.1656,74.1624,74.1601, 74.1586,74.1572,74.1561,74.1561,74.1557 ,74.1531,74.1527,74.151,74.1479,74.1452 ,74.1444,74.1404,74.1382,74.1363, 74.1343,74.1323,74.1303,74.1286,74.1275 ,74.1249,74.1224,74.1186,74.116,74.1123 ,74.1096,74.1067,74.1038,74.3765, 74.6832,74.9206,75.1575,75.3267,75.5799 ,75.7494,75.8548,75.8541,75.8527,75.851 ,75.8497,75.8481,75.847,75.8456,75.8456 ,75.8442,75.8424,75.8432,75.842,75.8407 ,75.8393,75.8364,75.8341,75.8326, 75.8312,75.8301,75.829,75.8278,75.8266, 75.8254,75.8238,75.8229,75.822,75.8215, 75.8203,75.8191,75.8172,75.8162,75.8148 ,75.8128,75.8115,75.8098,75.8088, 75.8065,75.8048,75.8021,75.8001,75.7982 ,75.6244)
ORBIT_NUMBER = 13699
ORBITAL_ECCENTRICITY = 0.574
ORBITAL_INCLINATION = 86.92
ORBITAL_SEMIMAJOR_AXIS = 8815.39
PERIAPSIS_ALTITUDE = 369.96
PERIAPSIS_ARGUMENT_ANGLE = 136.94
PERIAPSIS_TIME = 2014-10-16T20:25:55.000Z
SPACECRAFT_ORIENTATION = (0.0,-1.0,0.0)
^MEX_ORIENTATION_DESC = "MEX_ORIENTATION_DESC.TXT"
SPACECRAFT_POINTING_MODE = ACROSSTRACK
^MEX_POINTING_DESC = "MEX_POINTING_DESC.TXT"
RIGHT_ASCENSION = -1e+32
DECLINATION = -1e+32
OFFSET_ANGLE = -0.25
SPACECRAFT_SOLAR_DISTANCE = 2.09963e+08
TARGET_NAME = MARS
/* CAMERA DATA ELEMENTS */
DETECTOR_TEMPERATURE = 18.5744
FOCAL_PLANE_TEMPERATURE = 9.195
INST_CMPRS_NAME = "DISCRETE COSINE TRANSFORMATION (DCT)"
INST_CMPRS_RATIO = 8.09245
INST_CMPRS_QUALITY = 0
INST_CMPRS_QUANTZ_TBL_ID = 0
INSTRUMENT_TEMPERATURE = 12.0496
LENS_TEMPERATURE = 9.6028
MACROPIXEL_SIZE = 2
MISSING_FRAMES = 0
PIXEL_SUBSAMPLING_FLAG = N
SIGNAL_CHAIN_ID = 3
/* RADIOMETRIC DATA ELEMENTS */
BANDWIDTH = 174.0
CENTER_FILTER_WAVELENGTH = 675.0
RADIANCE_OFFSET = 3.50785
RADIANCE_SCALING_FACTOR = 0.0127415
REFLECTANCE_SCALING_FACTOR = 0.000302125
MEX:REFLECTANCE_OFFSET = 0.083178
/* IMAGE OBJECT DEFINITIONS */
OBJECT = IMAGE
  INTERCHANGE_FORMAT = BINARY
  LINES = 17027
  LINE_SAMPLES = 4261
  SAMPLE_TYPE = UNSIGNED_INTEGER
  SAMPLE_BITS = 8
  BANDS = 1
  BAND_STORAGE_TYPE = BAND_SEQUENTIAL
  MAXIMUM = 255
  MEAN = 78.0991
  MINIMUM = 1
  STANDARD_DEVIATION = 34.767
END_OBJECT = IMAGE
/* MAP OBJECT DEFINITIONS */
OBJECT = IMAGE_MAP_PROJECTION
  ^DATA_SET_MAP_PROJECTION_CATALOG= "DSMAP.CAT"
  A_AXIS_RADIUS = 3396.0
  B_AXIS_RADIUS = 3396.0
  C_AXIS_RADIUS = 3396.0
  CENTER_LATITUDE = 0.0
  CENTER_LONGITUDE = 75.0
  COORDINATE_SYSTEM_NAME = PLANETOGRAPHIC
  COORDINATE_SYSTEM_TYPE = "BODY-FIXED ROTATING"
  EASTERNMOST_LONGITUDE = 75.8548
  FIRST_STANDARD_PARALLEL = "N/A"
  LINE_FIRST_PIXEL = 1
  LINE_LAST_PIXEL = 17027
  LINE_PROJECTION_OFFSET = 60515.75
  MAP_PROJECTION_ROTATION = 0.0
  MAP_PROJECTION_TYPE = SINUSOIDAL
  MAP_RESOLUTION = 2370.85521546667
  MAP_SCALE = 0.025
  MAXIMUM_LATITUDE = 25.5411
  MINIMUM_LATITUDE = 18.334
  POSITIVE_LONGITUDE_DIRECTION = EAST
  REFERENCE_LATITUDE = "N/A"
  REFERENCE_LONGITUDE = "N/A"
  SAMPLE_FIRST_PIXEL = 1
  SAMPLE_LAST_PIXEL = 4261
  SAMPLE_PROJECTION_OFFSET = 2205.25
  SECOND_STANDARD_PARALLEL = "N/A"
  WESTERNMOST_LONGITUDE = 74.10380000000001
END_OBJECT = IMAGE_MAP_PROJECTION
/* The JPEG2000 image data file associated with this label. */
OBJECT = COMPRESSED_FILE
  FILE_NAME = "HD699_0000_P13.JP2"
  RECORD_TYPE = UNDEFINED
  FILE_RECORDS = UNK
  ENCODING_TYPE = "JP2"
  INTERCHANGE_FORMAT = BINARY
  UNCOMPRESSED_FILE_NAME = "HD699_0000_P13.IMG"
  REQUIRED_STORAGE_BYTES = "72577613"
  ^DESCRIPTION = "JP2INFO.TXT"
END_OBJECT = COMPRESSED_FILE
END
